BEGIN:VCALENDAR
VERSION:2.0
PRODID:-//The Pines Times - ECPv6.15.20//NONSGML v1.0//EN
CALSCALE:GREGORIAN
METHOD:PUBLISH
X-WR-CALNAME:The Pines Times
X-ORIGINAL-URL:https://thepinestimes.com
X-WR-CALDESC:Events for The Pines Times
REFRESH-INTERVAL;VALUE=DURATION:PT1H
X-Robots-Tag:noindex
X-PUBLISHED-TTL:PT1H
BEGIN:VTIMEZONE
TZID:America/New_York
BEGIN:DAYLIGHT
TZOFFSETFROM:-0500
TZOFFSETTO:-0400
TZNAME:EDT
DTSTART:20250309T070000
END:DAYLIGHT
BEGIN:STANDARD
TZOFFSETFROM:-0400
TZOFFSETTO:-0500
TZNAME:EST
DTSTART:20251102T060000
END:STANDARD
BEGIN:DAYLIGHT
TZOFFSETFROM:-0500
TZOFFSETTO:-0400
TZNAME:EDT
DTSTART:20260308T070000
END:DAYLIGHT
BEGIN:STANDARD
TZOFFSETFROM:-0400
TZOFFSETTO:-0500
TZNAME:EST
DTSTART:20261101T060000
END:STANDARD
BEGIN:DAYLIGHT
TZOFFSETFROM:-0500
TZOFFSETTO:-0400
TZNAME:EDT
DTSTART:20270314T070000
END:DAYLIGHT
BEGIN:STANDARD
TZOFFSETFROM:-0400
TZOFFSETTO:-0500
TZNAME:EST
DTSTART:20271107T060000
END:STANDARD
END:VTIMEZONE
BEGIN:VEVENT
DTSTART;TZID=America/New_York:20260403T110000
DTEND;TZID=America/New_York:20260403T163000
DTSTAMP:20260421T175928
CREATED:20250603T002218Z
LAST-MODIFIED:20260330T151814Z
UID:10060708-1775214000-1775233800@thepinestimes.com
SUMMARY:Community Blood Drive
DESCRIPTION:Donate Blood. Save a life. Texas Roadhouse in Aberdeen is holding a Blood Drive. The American Red Cross will be on site Friday\, April 3rd\, from 11:00AM-4:30PM. Appointments are encouraged. To register\, follow the link provided below. \n  \n 
URL:https://thepinestimes.com/event/community-blood-drive-12/
LOCATION:Texas Roadhouse Aberdeen\, 1301 N Sandhills Blvd.\, Aberdeen\, NC\, 28315\, United States
CATEGORIES:Adults,Blood Drive,Donation,Health & Wellness,Hobby/Enthusiast,Moore County Events,Senior,Social,Volunteer
ATTACH;FMTTYPE=image/jpeg:https://thepinestimes.com/wp-content/uploads/CommunityBloodDriveFeature-1.jpg
END:VEVENT
BEGIN:VEVENT
DTSTART;TZID=America/New_York:20260115T120000
DTEND;TZID=America/New_York:20260115T170000
DTSTAMP:20260421T175928
CREATED:20250410T001833Z
LAST-MODIFIED:20260112T171048Z
UID:10056379-1768478400-1768496400@thepinestimes.com
SUMMARY:Community Blood Drive
DESCRIPTION:Donate Blood. Save a life. Solid Rock Community Church in Sanford is holding a Blood Drive. The American Red Cross will be on site Thursday\, January 15th from 12:00pm-5:00pm. Appointments are encouraged. To register\, follow the link provided below. \n \n  \n 
URL:https://thepinestimes.com/event/community-blood-drive-8/
LOCATION:Solid Rock Community Church\, 989 White Hill Rd.\, Sanford\, NC\, 27332\, United States
CATEGORIES:Adults,Blood Drive,Donation,Health & Wellness,Hobby/Enthusiast,Sanford Events,Sanford Events,Senior,Social,Volunteer
ATTACH;FMTTYPE=image/jpeg:https://thepinestimes.com/wp-content/uploads/CommunityBloodDriveFeature-1.jpg
END:VEVENT
BEGIN:VEVENT
DTSTART;TZID=America/New_York:20260108T123000
DTEND;TZID=America/New_York:20260108T170000
DTSTAMP:20260421T175928
CREATED:20250518T130441Z
LAST-MODIFIED:20251229T185921Z
UID:10058878-1767875400-1767891600@thepinestimes.com
SUMMARY:Community Blood Drive
DESCRIPTION:Donate Blood. Save a life. Brownson Memorial Presbyterian Church in Southern Pines is holding a Blood Drive. The American Red Cross will be on site Thursday\, January 8th from 12:30pm-5:00pm. Appointments are encouraged. To register\, follow the link provided below. \n  \n 
URL:https://thepinestimes.com/event/community-blood-drive-11/
LOCATION:Brownson Memorial Presbyterian Church\, 330 S. May St\, Southern Pines\, NC\, 28387\, United States
CATEGORIES:Adults,Blood Drive,Donation,Health & Wellness,Hobby/Enthusiast,Senior,Social,Southern Pines Events,Volunteer
ATTACH;FMTTYPE=image/jpeg:https://thepinestimes.com/wp-content/uploads/CommunityBloodDriveFeature-1.jpg
END:VEVENT
END:VCALENDAR