BEGIN:VCALENDAR
VERSION:2.0
PRODID:-//The Pines Times - ECPv6.15.20//NONSGML v1.0//EN
CALSCALE:GREGORIAN
METHOD:PUBLISH
X-ORIGINAL-URL:https://thepinestimes.com
X-WR-CALDESC:Events for The Pines Times
REFRESH-INTERVAL;VALUE=DURATION:PT1H
X-Robots-Tag:noindex
X-PUBLISHED-TTL:PT1H
BEGIN:VTIMEZONE
TZID:America/New_York
BEGIN:DAYLIGHT
TZOFFSETFROM:-0500
TZOFFSETTO:-0400
TZNAME:EDT
DTSTART:20240310T070000
END:DAYLIGHT
BEGIN:STANDARD
TZOFFSETFROM:-0400
TZOFFSETTO:-0500
TZNAME:EST
DTSTART:20241103T060000
END:STANDARD
BEGIN:DAYLIGHT
TZOFFSETFROM:-0500
TZOFFSETTO:-0400
TZNAME:EDT
DTSTART:20250309T070000
END:DAYLIGHT
BEGIN:STANDARD
TZOFFSETFROM:-0400
TZOFFSETTO:-0500
TZNAME:EST
DTSTART:20251102T060000
END:STANDARD
BEGIN:DAYLIGHT
TZOFFSETFROM:-0500
TZOFFSETTO:-0400
TZNAME:EDT
DTSTART:20260308T070000
END:DAYLIGHT
BEGIN:STANDARD
TZOFFSETFROM:-0400
TZOFFSETTO:-0500
TZNAME:EST
DTSTART:20261101T060000
END:STANDARD
END:VTIMEZONE
BEGIN:VEVENT
DTSTART;TZID=America/New_York:20250208T100000
DTEND;TZID=America/New_York:20250208T170000
DTSTAMP:20260419T220313
CREATED:20250203T144050Z
LAST-MODIFIED:20250203T144050Z
UID:10053345-1739008800-1739034000@thepinestimes.com
SUMMARY:Murphy RePlay Instrument Drive
DESCRIPTION:The Arts Council of Moore County and Kiwanis Club of the Sandhills present the Murphy RePlay Instrument Drive! This drive is in collaboration with a Girl Scout Gold Award Project. The RePlay Murphy Instrument Drive collects new and unused band and orchestra instruments and puts them in the hands of Moore County students\, free of charge. Drop off items at the Arts Council Galleries at Campbell House through February 28th. For more information\, call ACMC at 910-692-2787.
URL:https://thepinestimes.com/event/murphy-replay-instrument-drive/2025-02-08/
LOCATION:Arts Council Galleries at Campbell House\, 482 E Connecticut Ave\, Southern Pines\, NC\, 28387\, United States
CATEGORIES:Adults,Art/Photography,Children,Donation,Family,Fundraiser,Hobby/Enthusiast,Live Music,School,Senior,Shopping,Social,Southern Pines Events
ATTACH;FMTTYPE=image/jpeg:https://thepinestimes.com/wp-content/uploads/ArtsCouncilFeature-2.jpg
END:VEVENT
BEGIN:VEVENT
DTSTART;TZID=America/New_York:20250207T100000
DTEND;TZID=America/New_York:20250207T170000
DTSTAMP:20260419T220313
CREATED:20250203T144050Z
LAST-MODIFIED:20250203T144050Z
UID:10053344-1738922400-1738947600@thepinestimes.com
SUMMARY:Murphy RePlay Instrument Drive
DESCRIPTION:The Arts Council of Moore County and Kiwanis Club of the Sandhills present the Murphy RePlay Instrument Drive! This drive is in collaboration with a Girl Scout Gold Award Project. The RePlay Murphy Instrument Drive collects new and unused band and orchestra instruments and puts them in the hands of Moore County students\, free of charge. Drop off items at the Arts Council Galleries at Campbell House through February 28th. For more information\, call ACMC at 910-692-2787.
URL:https://thepinestimes.com/event/murphy-replay-instrument-drive/2025-02-07/
LOCATION:Arts Council Galleries at Campbell House\, 482 E Connecticut Ave\, Southern Pines\, NC\, 28387\, United States
CATEGORIES:Adults,Art/Photography,Children,Donation,Family,Fundraiser,Hobby/Enthusiast,Live Music,School,Senior,Shopping,Social,Southern Pines Events
ATTACH;FMTTYPE=image/jpeg:https://thepinestimes.com/wp-content/uploads/ArtsCouncilFeature-2.jpg
END:VEVENT
BEGIN:VEVENT
DTSTART;TZID=America/New_York:20250205T100000
DTEND;TZID=America/New_York:20250205T170000
DTSTAMP:20260419T220313
CREATED:20250203T144050Z
LAST-MODIFIED:20250203T144050Z
UID:10053343-1738749600-1738774800@thepinestimes.com
SUMMARY:Murphy RePlay Instrument Drive
DESCRIPTION:The Arts Council of Moore County and Kiwanis Club of the Sandhills present the Murphy RePlay Instrument Drive! This drive is in collaboration with a Girl Scout Gold Award Project. The RePlay Murphy Instrument Drive collects new and unused band and orchestra instruments and puts them in the hands of Moore County students\, free of charge. Drop off items at the Arts Council Galleries at Campbell House through February 28th. For more information\, call ACMC at 910-692-2787.
URL:https://thepinestimes.com/event/murphy-replay-instrument-drive/2025-02-05/
LOCATION:Arts Council Galleries at Campbell House\, 482 E Connecticut Ave\, Southern Pines\, NC\, 28387\, United States
CATEGORIES:Adults,Art/Photography,Children,Donation,Family,Fundraiser,Hobby/Enthusiast,Live Music,School,Senior,Shopping,Social,Southern Pines Events
ATTACH;FMTTYPE=image/jpeg:https://thepinestimes.com/wp-content/uploads/ArtsCouncilFeature-2.jpg
END:VEVENT
BEGIN:VEVENT
DTSTART;TZID=America/New_York:20250203T100000
DTEND;TZID=America/New_York:20250203T170000
DTSTAMP:20260419T220313
CREATED:20250203T144050Z
LAST-MODIFIED:20250203T144050Z
UID:10053342-1738576800-1738602000@thepinestimes.com
SUMMARY:Murphy RePlay Instrument Drive
DESCRIPTION:The Arts Council of Moore County and Kiwanis Club of the Sandhills present the Murphy RePlay Instrument Drive! This drive is in collaboration with a Girl Scout Gold Award Project. The RePlay Murphy Instrument Drive collects new and unused band and orchestra instruments and puts them in the hands of Moore County students\, free of charge. Drop off items at the Arts Council Galleries at Campbell House through February 28th. For more information\, call ACMC at 910-692-2787.
URL:https://thepinestimes.com/event/murphy-replay-instrument-drive/2025-02-03/
LOCATION:Arts Council Galleries at Campbell House\, 482 E Connecticut Ave\, Southern Pines\, NC\, 28387\, United States
CATEGORIES:Adults,Art/Photography,Children,Donation,Family,Fundraiser,Hobby/Enthusiast,Live Music,School,Senior,Shopping,Social,Southern Pines Events
ATTACH;FMTTYPE=image/jpeg:https://thepinestimes.com/wp-content/uploads/ArtsCouncilFeature-2.jpg
END:VEVENT
END:VCALENDAR