BEGIN:VCALENDAR
VERSION:2.0
PRODID:-//The Pines Times - ECPv6.15.20//NONSGML v1.0//EN
CALSCALE:GREGORIAN
METHOD:PUBLISH
X-WR-CALNAME:The Pines Times
X-ORIGINAL-URL:https://thepinestimes.com
X-WR-CALDESC:Events for The Pines Times
REFRESH-INTERVAL;VALUE=DURATION:PT1H
X-Robots-Tag:noindex
X-PUBLISHED-TTL:PT1H
BEGIN:VTIMEZONE
TZID:America/New_York
BEGIN:DAYLIGHT
TZOFFSETFROM:-0500
TZOFFSETTO:-0400
TZNAME:EDT
DTSTART:20250309T070000
END:DAYLIGHT
BEGIN:STANDARD
TZOFFSETFROM:-0400
TZOFFSETTO:-0500
TZNAME:EST
DTSTART:20251102T060000
END:STANDARD
BEGIN:DAYLIGHT
TZOFFSETFROM:-0500
TZOFFSETTO:-0400
TZNAME:EDT
DTSTART:20260308T070000
END:DAYLIGHT
BEGIN:STANDARD
TZOFFSETFROM:-0400
TZOFFSETTO:-0500
TZNAME:EST
DTSTART:20261101T060000
END:STANDARD
BEGIN:DAYLIGHT
TZOFFSETFROM:-0500
TZOFFSETTO:-0400
TZNAME:EDT
DTSTART:20270314T070000
END:DAYLIGHT
BEGIN:STANDARD
TZOFFSETFROM:-0400
TZOFFSETTO:-0500
TZNAME:EST
DTSTART:20271107T060000
END:STANDARD
END:VTIMEZONE
BEGIN:VEVENT
DTSTART;TZID=America/New_York:20260425T090000
DTEND;TZID=America/New_York:20260425T170000
DTSTAMP:20260422T030307
CREATED:20260421T135301Z
LAST-MODIFIED:20260421T135301Z
UID:10087017-1777107600-1777136400@thepinestimes.com
SUMMARY:Badges & BBQ for the Kids Benefit
DESCRIPTION:Badges & BBQ For the Kids is a local charity fundraising organization—bringing people together to help others and make an impact on our community in Scotland County\, NC. Join for a fun-filled day on Main Street in Laurinburg with a BBQ cook-off\, live entertainment & music\, celebrity guests\, and our First Responders Car Show\, Heroes Blvd! Enjoy a live auction\, vendors\, and family-friendly activities. All money raised goes to the Fellowship of Christian Athletes (FCA) to help local youth stay on the right path.
URL:https://thepinestimes.com/event/badges-bbq-for-the-kids-benefit/
LOCATION:Downtown Laurinburg\, Main Street\, Laurinburg\, NC\, 28352\, United States
CATEGORIES:Adults,Benefit,Concert,Contest,Family,Food,Games,Laurinburg,Live Entertainment,Music,Out of Town,Social,Tasting,Vendors
ATTACH;FMTTYPE=image/jpeg:https://thepinestimes.com/wp-content/uploads/BadgesAndBBQFeature.jpg
END:VEVENT
END:VCALENDAR