BEGIN:VCALENDAR
VERSION:2.0
PRODID:-//The Pines Times - ECPv6.15.20//NONSGML v1.0//EN
CALSCALE:GREGORIAN
METHOD:PUBLISH
X-ORIGINAL-URL:https://thepinestimes.com
X-WR-CALDESC:Events for The Pines Times
REFRESH-INTERVAL;VALUE=DURATION:PT1H
X-Robots-Tag:noindex
X-PUBLISHED-TTL:PT1H
BEGIN:VTIMEZONE
TZID:America/New_York
BEGIN:DAYLIGHT
TZOFFSETFROM:-0500
TZOFFSETTO:-0400
TZNAME:EDT
DTSTART:20240310T070000
END:DAYLIGHT
BEGIN:STANDARD
TZOFFSETFROM:-0400
TZOFFSETTO:-0500
TZNAME:EST
DTSTART:20241103T060000
END:STANDARD
BEGIN:DAYLIGHT
TZOFFSETFROM:-0500
TZOFFSETTO:-0400
TZNAME:EDT
DTSTART:20250309T070000
END:DAYLIGHT
BEGIN:STANDARD
TZOFFSETFROM:-0400
TZOFFSETTO:-0500
TZNAME:EST
DTSTART:20251102T060000
END:STANDARD
BEGIN:DAYLIGHT
TZOFFSETFROM:-0500
TZOFFSETTO:-0400
TZNAME:EDT
DTSTART:20260308T070000
END:DAYLIGHT
BEGIN:STANDARD
TZOFFSETFROM:-0400
TZOFFSETTO:-0500
TZNAME:EST
DTSTART:20261101T060000
END:STANDARD
BEGIN:DAYLIGHT
TZOFFSETFROM:-0500
TZOFFSETTO:-0400
TZNAME:EDT
DTSTART:20270314T070000
END:DAYLIGHT
BEGIN:STANDARD
TZOFFSETFROM:-0400
TZOFFSETTO:-0500
TZNAME:EST
DTSTART:20271107T060000
END:STANDARD
END:VTIMEZONE
BEGIN:VEVENT
DTSTART;TZID=America/New_York:20260405T130000
DTEND;TZID=America/New_York:20260405T170000
DTSTAMP:20260423T142757
CREATED:20260326T200720Z
LAST-MODIFIED:20260402T133938Z
UID:10085984-1775394000-1775408400@thepinestimes.com
SUMMARY:Spring Plant Educational Event
DESCRIPTION:Mark your calendars for this weekend at Big Bloomers Flower Farm! \n“We are happy to welcome Deep River Folk School again this Saturday April 4th and Sunday April 5th. Come out this weekend to interact and learn about plants\, growing education\, and other things plant related! You can also learn about the many workshops they offer.” \nCall 919-776-6597 for complete details including times! \n 
URL:https://thepinestimes.com/event/spring-plant-event/2026-04-05/
LOCATION:Big Bloomers Flower Farm\, 275 Pressly Foushee Road\, Sanford\, 27330\, United States
CATEGORIES:Educational,Gardening,Hobby/Enthusiast,Pop Ups,Sanford Events,Social
ATTACH;FMTTYPE=image/jpeg:https://thepinestimes.com/wp-content/uploads/BigBloomersFeature.jpg
ORGANIZER;CN="Big Bloomers Flower Farm":MAILTO:bigbloomers@windstream.net
END:VEVENT
BEGIN:VEVENT
DTSTART;TZID=America/New_York:20260404T083000
DTEND;TZID=America/New_York:20260404T170000
DTSTAMP:20260423T142757
CREATED:20260326T200720Z
LAST-MODIFIED:20260402T133938Z
UID:10085983-1775291400-1775322000@thepinestimes.com
SUMMARY:Spring Plant Educational Event
DESCRIPTION:Mark your calendars for this weekend at Big Bloomers Flower Farm! \n“We are happy to welcome Deep River Folk School again this Saturday April 4th and Sunday April 5th. Come out this weekend to interact and learn about plants\, growing education\, and other things plant related! You can also learn about the many workshops they offer.” \nCall 919-776-6597 for complete details including times! \n 
URL:https://thepinestimes.com/event/spring-plant-event/2026-04-04/
LOCATION:Big Bloomers Flower Farm\, 275 Pressly Foushee Road\, Sanford\, 27330\, United States
CATEGORIES:Educational,Gardening,Hobby/Enthusiast,Pop Ups,Sanford Events,Social
ATTACH;FMTTYPE=image/jpeg:https://thepinestimes.com/wp-content/uploads/BigBloomersFeature.jpg
ORGANIZER;CN="Big Bloomers Flower Farm":MAILTO:bigbloomers@windstream.net
END:VEVENT
BEGIN:VEVENT
DTSTART;TZID=America/New_York:20251206T120000
DTEND;TZID=America/New_York:20251206T150000
DTSTAMP:20260423T142757
CREATED:20251128T161621Z
LAST-MODIFIED:20251128T161944Z
UID:10076659-1765022400-1765033200@thepinestimes.com
SUMMARY:Santa Paws Fundraiser 2025
DESCRIPTION:Don’t miss CARA’s (Carolina Animal Rescue & Adoption) annual Santa Paws event\, a festive holiday fundraiser where you can get your photo taken with Santa! Pets and families are welcome to participate and support shelter animals. The event takes place on Saturday\, December 6th\, from 12:00pm-3:00pm at Big Bloomers Flower Farm in Sanford. The sitting fee is a $5 donation to CARA\, and you will receive a digital copy of your photo via email for you to print. It is the perfect way to create a holiday memory while helping animals in need!
URL:https://thepinestimes.com/event/santa-paws-fundraiser-2025/
LOCATION:Big Bloomers Flower Farm\, 275 Pressly Foushee Road\, Sanford\, 27330\, United States
CATEGORIES:Adults,Christmas,Donation,Family,Finding Santa,Finding Santa,Fundraiser,Holiday Events,Out of Town,Pets/Animals,Piney's Kids,Sanford Events,Sanford Events,Santa,Social,Young Adults
ATTACH;FMTTYPE=image/jpeg:https://thepinestimes.com/wp-content/uploads/BigBloomersFeature.jpg
ORGANIZER;CN="Big Bloomers Flower Farm":MAILTO:bigbloomers@windstream.net
END:VEVENT
BEGIN:VEVENT
DTSTART;TZID=America/New_York:20251130T130000
DTEND;TZID=America/New_York:20251130T170000
DTSTAMP:20260423T142757
CREATED:20251128T151050Z
LAST-MODIFIED:20251128T151343Z
UID:10076496-1764507600-1764522000@thepinestimes.com
SUMMARY:Sip & Shop at the Flower Farm
DESCRIPTION:Big Bloomers Flower Farm in Sanford is having a special holiday Sip & Shop event on Saturday\, November 29th and Sunday\, November 30th! Enjoy complimentary treats including hot coffee and cider\, and fresh baked gingerbread and chocolate chip cookies. Take advantage of a great discount: 25% off all ornaments\, artificial Christmas trees\, and floral picks. You can also shop for the perfect early gift\, as the farm offers fresh wreaths and potted arrangements made daily\, and special orders are welcome. \n \n 
URL:https://thepinestimes.com/event/sip-shop-at-the-flower-farm/2025-11-30/
LOCATION:Big Bloomers Flower Farm\, 275 Pressly Foushee Road\, Sanford\, 27330\, United States
CATEGORIES:Adults,Christmas,Holiday Events,Sanford Events,Senior,Shopping,Social,Young Adults
ATTACH;FMTTYPE=image/jpeg:https://thepinestimes.com/wp-content/uploads/BigBloomersFeature.jpg
ORGANIZER;CN="Big Bloomers Flower Farm":MAILTO:bigbloomers@windstream.net
END:VEVENT
BEGIN:VEVENT
DTSTART;TZID=America/New_York:20251129T090000
DTEND;TZID=America/New_York:20251129T170000
DTSTAMP:20260423T142757
CREATED:20251128T151050Z
LAST-MODIFIED:20251128T151343Z
UID:10076495-1764406800-1764435600@thepinestimes.com
SUMMARY:Sip & Shop at the Flower Farm
DESCRIPTION:Big Bloomers Flower Farm in Sanford is having a special holiday Sip & Shop event on Saturday\, November 29th and Sunday\, November 30th! Enjoy complimentary treats including hot coffee and cider\, and fresh baked gingerbread and chocolate chip cookies. Take advantage of a great discount: 25% off all ornaments\, artificial Christmas trees\, and floral picks. You can also shop for the perfect early gift\, as the farm offers fresh wreaths and potted arrangements made daily\, and special orders are welcome. \n \n 
URL:https://thepinestimes.com/event/sip-shop-at-the-flower-farm/2025-11-29/
LOCATION:Big Bloomers Flower Farm\, 275 Pressly Foushee Road\, Sanford\, 27330\, United States
CATEGORIES:Adults,Christmas,Holiday Events,Sanford Events,Senior,Shopping,Social,Young Adults
ATTACH;FMTTYPE=image/jpeg:https://thepinestimes.com/wp-content/uploads/BigBloomersFeature.jpg
ORGANIZER;CN="Big Bloomers Flower Farm":MAILTO:bigbloomers@windstream.net
END:VEVENT
END:VCALENDAR