BEGIN:VCALENDAR
VERSION:2.0
PRODID:-//The Pines Times - ECPv6.15.20//NONSGML v1.0//EN
CALSCALE:GREGORIAN
METHOD:PUBLISH
X-ORIGINAL-URL:https://thepinestimes.com
X-WR-CALDESC:Events for The Pines Times
REFRESH-INTERVAL;VALUE=DURATION:PT1H
X-Robots-Tag:noindex
X-PUBLISHED-TTL:PT1H
BEGIN:VTIMEZONE
TZID:America/New_York
BEGIN:DAYLIGHT
TZOFFSETFROM:-0500
TZOFFSETTO:-0400
TZNAME:EDT
DTSTART:20240310T070000
END:DAYLIGHT
BEGIN:STANDARD
TZOFFSETFROM:-0400
TZOFFSETTO:-0500
TZNAME:EST
DTSTART:20241103T060000
END:STANDARD
BEGIN:DAYLIGHT
TZOFFSETFROM:-0500
TZOFFSETTO:-0400
TZNAME:EDT
DTSTART:20250309T070000
END:DAYLIGHT
BEGIN:STANDARD
TZOFFSETFROM:-0400
TZOFFSETTO:-0500
TZNAME:EST
DTSTART:20251102T060000
END:STANDARD
BEGIN:DAYLIGHT
TZOFFSETFROM:-0500
TZOFFSETTO:-0400
TZNAME:EDT
DTSTART:20260308T070000
END:DAYLIGHT
BEGIN:STANDARD
TZOFFSETFROM:-0400
TZOFFSETTO:-0500
TZNAME:EST
DTSTART:20261101T060000
END:STANDARD
BEGIN:DAYLIGHT
TZOFFSETFROM:-0500
TZOFFSETTO:-0400
TZNAME:EDT
DTSTART:20270314T070000
END:DAYLIGHT
BEGIN:STANDARD
TZOFFSETFROM:-0400
TZOFFSETTO:-0500
TZNAME:EST
DTSTART:20271107T060000
END:STANDARD
END:VTIMEZONE
BEGIN:VEVENT
DTSTART;TZID=America/New_York:20260322T170000
DTEND;TZID=America/New_York:20260322T200000
DTSTAMP:20260419T143758
CREATED:20260313T131433Z
LAST-MODIFIED:20260313T131433Z
UID:10083380-1774198800-1774209600@thepinestimes.com
SUMMARY:Trivia Night at the Tavern
DESCRIPTION:Get ready for Trivia Night at Black Dog Tavern in Robbins with Brittany and a chance to win prizes! The fun takes place each Sunday starting at 5PM! It is free to play. \n \n  \n 
URL:https://thepinestimes.com/event/trivia-night-at-the-tavern/2026-03-22/
LOCATION:Black Dog Tavern\, 155 S Middleton Street\, Robbins\, NC\, 27325\, United States
CATEGORIES:Adult Connections,Adults,Games,Music,Night Life,Pines Connector,Robbins Events,Senior,Social
ATTACH;FMTTYPE=image/png:https://thepinestimes.com/wp-content/uploads/Trivia-Night-e1754408009763.png
END:VEVENT
BEGIN:VEVENT
DTSTART;TZID=America/New_York:20260321T200000
DTEND;TZID=America/New_York:20260321T235900
DTSTAMP:20260419T143758
CREATED:20240706T134700Z
LAST-MODIFIED:20260410T213015Z
UID:10078008-1774123200-1774137540@thepinestimes.com
SUMMARY:Karaoke Singing Party and Pool Tournament at the Tavern
DESCRIPTION:Come out for a Karaoke Night Party at Black Dog Tavern in Robbins every Saturday! Take the stage or just enjoy the performances. The music starts at 8:00pm with TNT Entertainment providing the tunes and karaoke setup. Enjoy an evening filled with singing\, dancing\, cocktails\, and pool. Pool tournaments start at 7:00pm on Saturday and is $20 to enter the game. \n \n  \n 
URL:https://thepinestimes.com/event/karaoke-singing-party-and-pool-tournament-at-the-tavern/2026-03-21/
LOCATION:Black Dog Tavern\, 155 S Middleton Street\, Robbins\, NC\, 27325\, United States
CATEGORIES:Adult Connections,Adults,Beer and Wine,Dance,Hobby/Enthusiast,Music,Night Life,Robbins Events,Senior,Social
ATTACH;FMTTYPE=image/png:https://thepinestimes.com/wp-content/uploads/Karaoke-e1754409547503.png
END:VEVENT
BEGIN:VEVENT
DTSTART;TZID=America/New_York:20260320T210000
DTEND;TZID=America/New_York:20260320T210000
DTSTAMP:20260419T143758
CREATED:20240920T145500Z
LAST-MODIFIED:20251230T142638Z
UID:10078022-1774040400-1774040400@thepinestimes.com
SUMMARY:Karaoke at the Tavern with DeaJaye Wright
DESCRIPTION:Come out for a Music & Karaoke Night at Black Dog Tavern in Robbins with DeaJaye Wright! \n 
URL:https://thepinestimes.com/event/karaoke-at-the-tavern-with-deajaye-wright/2026-03-20/
LOCATION:Black Dog Tavern\, 155 S Middleton Street\, Robbins\, NC\, 27325\, United States
CATEGORIES:Adult Connections,Adults,Beer and Wine,Hobby/Enthusiast,Music,Night Life,Pines Connector,Robbins Events,Senior,Social
ATTACH;FMTTYPE=image/png:https://thepinestimes.com/wp-content/uploads/Karaoke-e1754409547503.png
END:VEVENT
BEGIN:VEVENT
DTSTART;TZID=America/New_York:20260319T190000
DTEND;TZID=America/New_York:20260319T220000
DTSTAMP:20260419T143758
CREATED:20230706T010425Z
LAST-MODIFIED:20260313T131105Z
UID:10083350-1773946800-1773957600@thepinestimes.com
SUMMARY:Music Bingo at the Tavern
DESCRIPTION:Get ready for Music Bingo at Black Dog Tavern in Robbins with Brittany and a chance to win prizes! The fun takes place Thursdays from 7:00pm-10:00pm! It is free to play. \n \n  \n 
URL:https://thepinestimes.com/event/music-bingo-at-the-tavern/2026-03-19/
LOCATION:Black Dog Tavern\, 155 S Middleton Street\, Robbins\, NC\, 27325\, United States
CATEGORIES:Adult Connections,Adults,Games,Music,Night Life,Pines Connector,Robbins Events,Senior,Social
ATTACH;FMTTYPE=image/png:https://thepinestimes.com/wp-content/uploads/Music-Bingo.png
END:VEVENT
BEGIN:VEVENT
DTSTART;TZID=America/New_York:20260314T200000
DTEND;TZID=America/New_York:20260314T235900
DTSTAMP:20260419T143758
CREATED:20240706T134700Z
LAST-MODIFIED:20260410T213015Z
UID:10078007-1773518400-1773532740@thepinestimes.com
SUMMARY:Karaoke Singing Party and Pool Tournament at the Tavern
DESCRIPTION:Come out for a Karaoke Night Party at Black Dog Tavern in Robbins every Saturday! Take the stage or just enjoy the performances. The music starts at 8:00pm with TNT Entertainment providing the tunes and karaoke setup. Enjoy an evening filled with singing\, dancing\, cocktails\, and pool. Pool tournaments start at 7:00pm on Saturday and is $20 to enter the game. \n \n  \n 
URL:https://thepinestimes.com/event/karaoke-singing-party-and-pool-tournament-at-the-tavern/2026-03-14/
LOCATION:Black Dog Tavern\, 155 S Middleton Street\, Robbins\, NC\, 27325\, United States
CATEGORIES:Adult Connections,Adults,Beer and Wine,Dance,Hobby/Enthusiast,Music,Night Life,Robbins Events,Senior,Social
ATTACH;FMTTYPE=image/png:https://thepinestimes.com/wp-content/uploads/Karaoke-e1754409547503.png
END:VEVENT
BEGIN:VEVENT
DTSTART;TZID=America/New_York:20260313T210000
DTEND;TZID=America/New_York:20260313T210000
DTSTAMP:20260419T143758
CREATED:20240920T145500Z
LAST-MODIFIED:20251230T142638Z
UID:10078021-1773435600-1773435600@thepinestimes.com
SUMMARY:Karaoke at the Tavern with DeaJaye Wright
DESCRIPTION:Come out for a Music & Karaoke Night at Black Dog Tavern in Robbins with DeaJaye Wright! \n 
URL:https://thepinestimes.com/event/karaoke-at-the-tavern-with-deajaye-wright/2026-03-13/
LOCATION:Black Dog Tavern\, 155 S Middleton Street\, Robbins\, NC\, 27325\, United States
CATEGORIES:Adult Connections,Adults,Beer and Wine,Hobby/Enthusiast,Music,Night Life,Pines Connector,Robbins Events,Senior,Social
ATTACH;FMTTYPE=image/png:https://thepinestimes.com/wp-content/uploads/Karaoke-e1754409547503.png
END:VEVENT
BEGIN:VEVENT
DTSTART;TZID=America/New_York:20260307T200000
DTEND;TZID=America/New_York:20260307T235900
DTSTAMP:20260419T143758
CREATED:20240706T134700Z
LAST-MODIFIED:20260410T213015Z
UID:10078006-1772913600-1772927940@thepinestimes.com
SUMMARY:Karaoke Singing Party and Pool Tournament at the Tavern
DESCRIPTION:Come out for a Karaoke Night Party at Black Dog Tavern in Robbins every Saturday! Take the stage or just enjoy the performances. The music starts at 8:00pm with TNT Entertainment providing the tunes and karaoke setup. Enjoy an evening filled with singing\, dancing\, cocktails\, and pool. Pool tournaments start at 7:00pm on Saturday and is $20 to enter the game. \n \n  \n 
URL:https://thepinestimes.com/event/karaoke-singing-party-and-pool-tournament-at-the-tavern/2026-03-07/
LOCATION:Black Dog Tavern\, 155 S Middleton Street\, Robbins\, NC\, 27325\, United States
CATEGORIES:Adult Connections,Adults,Beer and Wine,Dance,Hobby/Enthusiast,Music,Night Life,Robbins Events,Senior,Social
ATTACH;FMTTYPE=image/png:https://thepinestimes.com/wp-content/uploads/Karaoke-e1754409547503.png
END:VEVENT
BEGIN:VEVENT
DTSTART;TZID=America/New_York:20260306T210000
DTEND;TZID=America/New_York:20260306T210000
DTSTAMP:20260419T143758
CREATED:20240920T145500Z
LAST-MODIFIED:20251230T142638Z
UID:10078020-1772830800-1772830800@thepinestimes.com
SUMMARY:Karaoke at the Tavern with DeaJaye Wright
DESCRIPTION:Come out for a Music & Karaoke Night at Black Dog Tavern in Robbins with DeaJaye Wright! \n 
URL:https://thepinestimes.com/event/karaoke-at-the-tavern-with-deajaye-wright/2026-03-06/
LOCATION:Black Dog Tavern\, 155 S Middleton Street\, Robbins\, NC\, 27325\, United States
CATEGORIES:Adult Connections,Adults,Beer and Wine,Hobby/Enthusiast,Music,Night Life,Pines Connector,Robbins Events,Senior,Social
ATTACH;FMTTYPE=image/png:https://thepinestimes.com/wp-content/uploads/Karaoke-e1754409547503.png
END:VEVENT
BEGIN:VEVENT
DTSTART;TZID=America/New_York:20260228T200000
DTEND;TZID=America/New_York:20260228T235900
DTSTAMP:20260419T143758
CREATED:20240706T134700Z
LAST-MODIFIED:20260410T213015Z
UID:10078005-1772308800-1772323140@thepinestimes.com
SUMMARY:Karaoke Singing Party and Pool Tournament at the Tavern
DESCRIPTION:Come out for a Karaoke Night Party at Black Dog Tavern in Robbins every Saturday! Take the stage or just enjoy the performances. The music starts at 8:00pm with TNT Entertainment providing the tunes and karaoke setup. Enjoy an evening filled with singing\, dancing\, cocktails\, and pool. Pool tournaments start at 7:00pm on Saturday and is $20 to enter the game. \n \n  \n 
URL:https://thepinestimes.com/event/karaoke-singing-party-and-pool-tournament-at-the-tavern/2026-02-28/
LOCATION:Black Dog Tavern\, 155 S Middleton Street\, Robbins\, NC\, 27325\, United States
CATEGORIES:Adult Connections,Adults,Beer and Wine,Dance,Hobby/Enthusiast,Music,Night Life,Robbins Events,Senior,Social
ATTACH;FMTTYPE=image/png:https://thepinestimes.com/wp-content/uploads/Karaoke-e1754409547503.png
END:VEVENT
BEGIN:VEVENT
DTSTART;TZID=America/New_York:20260227T210000
DTEND;TZID=America/New_York:20260227T210000
DTSTAMP:20260419T143758
CREATED:20240920T145500Z
LAST-MODIFIED:20251230T142638Z
UID:10078019-1772226000-1772226000@thepinestimes.com
SUMMARY:Karaoke at the Tavern with DeaJaye Wright
DESCRIPTION:Come out for a Music & Karaoke Night at Black Dog Tavern in Robbins with DeaJaye Wright! \n 
URL:https://thepinestimes.com/event/karaoke-at-the-tavern-with-deajaye-wright/2026-02-27/
LOCATION:Black Dog Tavern\, 155 S Middleton Street\, Robbins\, NC\, 27325\, United States
CATEGORIES:Adult Connections,Adults,Beer and Wine,Hobby/Enthusiast,Music,Night Life,Pines Connector,Robbins Events,Senior,Social
ATTACH;FMTTYPE=image/png:https://thepinestimes.com/wp-content/uploads/Karaoke-e1754409547503.png
END:VEVENT
BEGIN:VEVENT
DTSTART;TZID=America/New_York:20260221T200000
DTEND;TZID=America/New_York:20260221T235900
DTSTAMP:20260419T143758
CREATED:20240706T134700Z
LAST-MODIFIED:20260410T213015Z
UID:10078004-1771704000-1771718340@thepinestimes.com
SUMMARY:Karaoke Singing Party and Pool Tournament at the Tavern
DESCRIPTION:Come out for a Karaoke Night Party at Black Dog Tavern in Robbins every Saturday! Take the stage or just enjoy the performances. The music starts at 8:00pm with TNT Entertainment providing the tunes and karaoke setup. Enjoy an evening filled with singing\, dancing\, cocktails\, and pool. Pool tournaments start at 7:00pm on Saturday and is $20 to enter the game. \n \n  \n 
URL:https://thepinestimes.com/event/karaoke-singing-party-and-pool-tournament-at-the-tavern/2026-02-21/
LOCATION:Black Dog Tavern\, 155 S Middleton Street\, Robbins\, NC\, 27325\, United States
CATEGORIES:Adult Connections,Adults,Beer and Wine,Dance,Hobby/Enthusiast,Music,Night Life,Robbins Events,Senior,Social
ATTACH;FMTTYPE=image/png:https://thepinestimes.com/wp-content/uploads/Karaoke-e1754409547503.png
END:VEVENT
BEGIN:VEVENT
DTSTART;TZID=America/New_York:20260220T210000
DTEND;TZID=America/New_York:20260220T210000
DTSTAMP:20260419T143758
CREATED:20240920T145500Z
LAST-MODIFIED:20251230T142638Z
UID:10078018-1771621200-1771621200@thepinestimes.com
SUMMARY:Karaoke at the Tavern with DeaJaye Wright
DESCRIPTION:Come out for a Music & Karaoke Night at Black Dog Tavern in Robbins with DeaJaye Wright! \n 
URL:https://thepinestimes.com/event/karaoke-at-the-tavern-with-deajaye-wright/2026-02-20/
LOCATION:Black Dog Tavern\, 155 S Middleton Street\, Robbins\, NC\, 27325\, United States
CATEGORIES:Adult Connections,Adults,Beer and Wine,Hobby/Enthusiast,Music,Night Life,Pines Connector,Robbins Events,Senior,Social
ATTACH;FMTTYPE=image/png:https://thepinestimes.com/wp-content/uploads/Karaoke-e1754409547503.png
END:VEVENT
BEGIN:VEVENT
DTSTART;TZID=America/New_York:20260214T200000
DTEND;TZID=America/New_York:20260214T235900
DTSTAMP:20260419T143758
CREATED:20240706T134700Z
LAST-MODIFIED:20260410T213015Z
UID:10078003-1771099200-1771113540@thepinestimes.com
SUMMARY:Karaoke Singing Party and Pool Tournament at the Tavern
DESCRIPTION:Come out for a Karaoke Night Party at Black Dog Tavern in Robbins every Saturday! Take the stage or just enjoy the performances. The music starts at 8:00pm with TNT Entertainment providing the tunes and karaoke setup. Enjoy an evening filled with singing\, dancing\, cocktails\, and pool. Pool tournaments start at 7:00pm on Saturday and is $20 to enter the game. \n \n  \n 
URL:https://thepinestimes.com/event/karaoke-singing-party-and-pool-tournament-at-the-tavern/2026-02-14/
LOCATION:Black Dog Tavern\, 155 S Middleton Street\, Robbins\, NC\, 27325\, United States
CATEGORIES:Adult Connections,Adults,Beer and Wine,Dance,Hobby/Enthusiast,Music,Night Life,Robbins Events,Senior,Social
ATTACH;FMTTYPE=image/png:https://thepinestimes.com/wp-content/uploads/Karaoke-e1754409547503.png
END:VEVENT
BEGIN:VEVENT
DTSTART;TZID=America/New_York:20260213T210000
DTEND;TZID=America/New_York:20260213T210000
DTSTAMP:20260419T143758
CREATED:20240920T145500Z
LAST-MODIFIED:20251230T142638Z
UID:10078017-1771016400-1771016400@thepinestimes.com
SUMMARY:Karaoke at the Tavern with DeaJaye Wright
DESCRIPTION:Come out for a Music & Karaoke Night at Black Dog Tavern in Robbins with DeaJaye Wright! \n 
URL:https://thepinestimes.com/event/karaoke-at-the-tavern-with-deajaye-wright/2026-02-13/
LOCATION:Black Dog Tavern\, 155 S Middleton Street\, Robbins\, NC\, 27325\, United States
CATEGORIES:Adult Connections,Adults,Beer and Wine,Hobby/Enthusiast,Music,Night Life,Pines Connector,Robbins Events,Senior,Social
ATTACH;FMTTYPE=image/png:https://thepinestimes.com/wp-content/uploads/Karaoke-e1754409547503.png
END:VEVENT
BEGIN:VEVENT
DTSTART;TZID=America/New_York:20260207T200000
DTEND;TZID=America/New_York:20260207T235900
DTSTAMP:20260419T143758
CREATED:20240706T134700Z
LAST-MODIFIED:20260410T213015Z
UID:10078002-1770494400-1770508740@thepinestimes.com
SUMMARY:Karaoke Singing Party and Pool Tournament at the Tavern
DESCRIPTION:Come out for a Karaoke Night Party at Black Dog Tavern in Robbins every Saturday! Take the stage or just enjoy the performances. The music starts at 8:00pm with TNT Entertainment providing the tunes and karaoke setup. Enjoy an evening filled with singing\, dancing\, cocktails\, and pool. Pool tournaments start at 7:00pm on Saturday and is $20 to enter the game. \n \n  \n 
URL:https://thepinestimes.com/event/karaoke-singing-party-and-pool-tournament-at-the-tavern/2026-02-07/
LOCATION:Black Dog Tavern\, 155 S Middleton Street\, Robbins\, NC\, 27325\, United States
CATEGORIES:Adult Connections,Adults,Beer and Wine,Dance,Hobby/Enthusiast,Music,Night Life,Robbins Events,Senior,Social
ATTACH;FMTTYPE=image/png:https://thepinestimes.com/wp-content/uploads/Karaoke-e1754409547503.png
END:VEVENT
BEGIN:VEVENT
DTSTART;TZID=America/New_York:20260206T210000
DTEND;TZID=America/New_York:20260206T210000
DTSTAMP:20260419T143758
CREATED:20240920T145500Z
LAST-MODIFIED:20251230T142638Z
UID:10078016-1770411600-1770411600@thepinestimes.com
SUMMARY:Karaoke at the Tavern with DeaJaye Wright
DESCRIPTION:Come out for a Music & Karaoke Night at Black Dog Tavern in Robbins with DeaJaye Wright! \n 
URL:https://thepinestimes.com/event/karaoke-at-the-tavern-with-deajaye-wright/2026-02-06/
LOCATION:Black Dog Tavern\, 155 S Middleton Street\, Robbins\, NC\, 27325\, United States
CATEGORIES:Adult Connections,Adults,Beer and Wine,Hobby/Enthusiast,Music,Night Life,Pines Connector,Robbins Events,Senior,Social
ATTACH;FMTTYPE=image/png:https://thepinestimes.com/wp-content/uploads/Karaoke-e1754409547503.png
END:VEVENT
BEGIN:VEVENT
DTSTART;TZID=America/New_York:20260206T190000
DTEND;TZID=America/New_York:20260206T230000
DTSTAMP:20260419T143758
CREATED:20240926T184817Z
LAST-MODIFIED:20260206T183036Z
UID:10045669-1770404400-1770418800@thepinestimes.com
SUMMARY:January Birthday Celebration
DESCRIPTION:Celebrate January Birthdays at Black Dog Tavern! Feel free to bring a special treat/snack to share. \n“January birthdays was postponed for this evening at 7pm\, please come by and help celebrate!” \n  \n 
URL:https://thepinestimes.com/event/january-birthday-celebration/
LOCATION:Black Dog Tavern\, 155 S Middleton Street\, Robbins\, NC\, 27325\, United States
CATEGORIES:Adults,Beer and Wine,Birthday Celebration,Food,Robbins Events,Social,Teen Activities,Young Adults
ATTACH;FMTTYPE=image/jpeg:https://thepinestimes.com/wp-content/uploads/BlackDogTavernFeature.jpg
END:VEVENT
BEGIN:VEVENT
DTSTART;TZID=America/New_York:20260131T200000
DTEND;TZID=America/New_York:20260131T235900
DTSTAMP:20260419T143758
CREATED:20240706T134700Z
LAST-MODIFIED:20260410T213015Z
UID:10078001-1769889600-1769903940@thepinestimes.com
SUMMARY:Karaoke Singing Party and Pool Tournament at the Tavern
DESCRIPTION:Come out for a Karaoke Night Party at Black Dog Tavern in Robbins every Saturday! Take the stage or just enjoy the performances. The music starts at 8:00pm with TNT Entertainment providing the tunes and karaoke setup. Enjoy an evening filled with singing\, dancing\, cocktails\, and pool. Pool tournaments start at 7:00pm on Saturday and is $20 to enter the game. \n \n  \n 
URL:https://thepinestimes.com/event/karaoke-singing-party-and-pool-tournament-at-the-tavern/2026-01-31/
LOCATION:Black Dog Tavern\, 155 S Middleton Street\, Robbins\, NC\, 27325\, United States
CATEGORIES:Adult Connections,Adults,Beer and Wine,Dance,Hobby/Enthusiast,Music,Night Life,Robbins Events,Senior,Social
ATTACH;FMTTYPE=image/png:https://thepinestimes.com/wp-content/uploads/Karaoke-e1754409547503.png
END:VEVENT
BEGIN:VEVENT
DTSTART;TZID=America/New_York:20260130T210000
DTEND;TZID=America/New_York:20260130T210000
DTSTAMP:20260419T143758
CREATED:20240920T145500Z
LAST-MODIFIED:20251230T142638Z
UID:10078015-1769806800-1769806800@thepinestimes.com
SUMMARY:Karaoke at the Tavern with DeaJaye Wright
DESCRIPTION:Come out for a Music & Karaoke Night at Black Dog Tavern in Robbins with DeaJaye Wright! \n 
URL:https://thepinestimes.com/event/karaoke-at-the-tavern-with-deajaye-wright/2026-01-30/
LOCATION:Black Dog Tavern\, 155 S Middleton Street\, Robbins\, NC\, 27325\, United States
CATEGORIES:Adult Connections,Adults,Beer and Wine,Hobby/Enthusiast,Music,Night Life,Pines Connector,Robbins Events,Senior,Social
ATTACH;FMTTYPE=image/png:https://thepinestimes.com/wp-content/uploads/Karaoke-e1754409547503.png
END:VEVENT
BEGIN:VEVENT
DTSTART;TZID=America/New_York:20260124T200000
DTEND;TZID=America/New_York:20260124T235900
DTSTAMP:20260419T143758
CREATED:20240706T134700Z
LAST-MODIFIED:20260410T213015Z
UID:10078000-1769284800-1769299140@thepinestimes.com
SUMMARY:Karaoke Singing Party and Pool Tournament at the Tavern
DESCRIPTION:Come out for a Karaoke Night Party at Black Dog Tavern in Robbins every Saturday! Take the stage or just enjoy the performances. The music starts at 8:00pm with TNT Entertainment providing the tunes and karaoke setup. Enjoy an evening filled with singing\, dancing\, cocktails\, and pool. Pool tournaments start at 7:00pm on Saturday and is $20 to enter the game. \n \n  \n 
URL:https://thepinestimes.com/event/karaoke-singing-party-and-pool-tournament-at-the-tavern/2026-01-24/
LOCATION:Black Dog Tavern\, 155 S Middleton Street\, Robbins\, NC\, 27325\, United States
CATEGORIES:Adult Connections,Adults,Beer and Wine,Dance,Hobby/Enthusiast,Music,Night Life,Robbins Events,Senior,Social
ATTACH;FMTTYPE=image/png:https://thepinestimes.com/wp-content/uploads/Karaoke-e1754409547503.png
END:VEVENT
BEGIN:VEVENT
DTSTART;TZID=America/New_York:20260123T210000
DTEND;TZID=America/New_York:20260123T210000
DTSTAMP:20260419T143758
CREATED:20240920T145500Z
LAST-MODIFIED:20251230T142638Z
UID:10078014-1769202000-1769202000@thepinestimes.com
SUMMARY:Karaoke at the Tavern with DeaJaye Wright
DESCRIPTION:Come out for a Music & Karaoke Night at Black Dog Tavern in Robbins with DeaJaye Wright! \n 
URL:https://thepinestimes.com/event/karaoke-at-the-tavern-with-deajaye-wright/2026-01-23/
LOCATION:Black Dog Tavern\, 155 S Middleton Street\, Robbins\, NC\, 27325\, United States
CATEGORIES:Adult Connections,Adults,Beer and Wine,Hobby/Enthusiast,Music,Night Life,Pines Connector,Robbins Events,Senior,Social
ATTACH;FMTTYPE=image/png:https://thepinestimes.com/wp-content/uploads/Karaoke-e1754409547503.png
END:VEVENT
BEGIN:VEVENT
DTSTART;TZID=America/New_York:20260122T190000
DTEND;TZID=America/New_York:20260122T220000
DTSTAMP:20260419T143758
CREATED:20240131T134847Z
LAST-MODIFIED:20260122T175541Z
UID:10028298-1769108400-1769119200@thepinestimes.com
SUMMARY:Live Music: Bradley Russell
DESCRIPTION:Come out to Black Dog Tavern in Robbins and enjoy live music on Thursday\, January 22nd frpm 7pm-9pm. Enjoy a performance from Bradley Russell!
URL:https://thepinestimes.com/event/live-music-bradley-russell/
LOCATION:Black Dog Tavern\, 155 S Middleton Street\, Robbins\, NC\, 27325\, United States
CATEGORIES:Adults,Beer and Wine,Hobby/Enthusiast,Music,Night Life,Robbins Events,Social,Young Adults
ATTACH;FMTTYPE=image/jpeg:https://thepinestimes.com/wp-content/uploads/LiveMusicFeature.jpg
END:VEVENT
BEGIN:VEVENT
DTSTART;TZID=America/New_York:20260117T200000
DTEND;TZID=America/New_York:20260117T235900
DTSTAMP:20260419T143758
CREATED:20240706T134700Z
LAST-MODIFIED:20260410T213015Z
UID:10077999-1768680000-1768694340@thepinestimes.com
SUMMARY:Karaoke Singing Party and Pool Tournament at the Tavern
DESCRIPTION:Come out for a Karaoke Night Party at Black Dog Tavern in Robbins every Saturday! Take the stage or just enjoy the performances. The music starts at 8:00pm with TNT Entertainment providing the tunes and karaoke setup. Enjoy an evening filled with singing\, dancing\, cocktails\, and pool. Pool tournaments start at 7:00pm on Saturday and is $20 to enter the game. \n \n  \n 
URL:https://thepinestimes.com/event/karaoke-singing-party-and-pool-tournament-at-the-tavern/2026-01-17/
LOCATION:Black Dog Tavern\, 155 S Middleton Street\, Robbins\, NC\, 27325\, United States
CATEGORIES:Adult Connections,Adults,Beer and Wine,Dance,Hobby/Enthusiast,Music,Night Life,Robbins Events,Senior,Social
ATTACH;FMTTYPE=image/png:https://thepinestimes.com/wp-content/uploads/Karaoke-e1754409547503.png
END:VEVENT
BEGIN:VEVENT
DTSTART;TZID=America/New_York:20260116T210000
DTEND;TZID=America/New_York:20260116T210000
DTSTAMP:20260419T143758
CREATED:20240920T145500Z
LAST-MODIFIED:20251230T142638Z
UID:10078013-1768597200-1768597200@thepinestimes.com
SUMMARY:Karaoke at the Tavern with DeaJaye Wright
DESCRIPTION:Come out for a Music & Karaoke Night at Black Dog Tavern in Robbins with DeaJaye Wright! \n 
URL:https://thepinestimes.com/event/karaoke-at-the-tavern-with-deajaye-wright/2026-01-16/
LOCATION:Black Dog Tavern\, 155 S Middleton Street\, Robbins\, NC\, 27325\, United States
CATEGORIES:Adult Connections,Adults,Beer and Wine,Hobby/Enthusiast,Music,Night Life,Pines Connector,Robbins Events,Senior,Social
ATTACH;FMTTYPE=image/png:https://thepinestimes.com/wp-content/uploads/Karaoke-e1754409547503.png
END:VEVENT
BEGIN:VEVENT
DTSTART;TZID=America/New_York:20260110T200000
DTEND;TZID=America/New_York:20260110T235900
DTSTAMP:20260419T143758
CREATED:20240706T134700Z
LAST-MODIFIED:20260410T213015Z
UID:10077998-1768075200-1768089540@thepinestimes.com
SUMMARY:Karaoke Singing Party and Pool Tournament at the Tavern
DESCRIPTION:Come out for a Karaoke Night Party at Black Dog Tavern in Robbins every Saturday! Take the stage or just enjoy the performances. The music starts at 8:00pm with TNT Entertainment providing the tunes and karaoke setup. Enjoy an evening filled with singing\, dancing\, cocktails\, and pool. Pool tournaments start at 7:00pm on Saturday and is $20 to enter the game. \n \n  \n 
URL:https://thepinestimes.com/event/karaoke-singing-party-and-pool-tournament-at-the-tavern/2026-01-10/
LOCATION:Black Dog Tavern\, 155 S Middleton Street\, Robbins\, NC\, 27325\, United States
CATEGORIES:Adult Connections,Adults,Beer and Wine,Dance,Hobby/Enthusiast,Music,Night Life,Robbins Events,Senior,Social
ATTACH;FMTTYPE=image/png:https://thepinestimes.com/wp-content/uploads/Karaoke-e1754409547503.png
END:VEVENT
BEGIN:VEVENT
DTSTART;TZID=America/New_York:20260109T210000
DTEND;TZID=America/New_York:20260109T210000
DTSTAMP:20260419T143758
CREATED:20240920T145500Z
LAST-MODIFIED:20251230T142638Z
UID:10078012-1767992400-1767992400@thepinestimes.com
SUMMARY:Karaoke at the Tavern with DeaJaye Wright
DESCRIPTION:Come out for a Music & Karaoke Night at Black Dog Tavern in Robbins with DeaJaye Wright! \n 
URL:https://thepinestimes.com/event/karaoke-at-the-tavern-with-deajaye-wright/2026-01-09/
LOCATION:Black Dog Tavern\, 155 S Middleton Street\, Robbins\, NC\, 27325\, United States
CATEGORIES:Adult Connections,Adults,Beer and Wine,Hobby/Enthusiast,Music,Night Life,Pines Connector,Robbins Events,Senior,Social
ATTACH;FMTTYPE=image/png:https://thepinestimes.com/wp-content/uploads/Karaoke-e1754409547503.png
END:VEVENT
BEGIN:VEVENT
DTSTART;TZID=America/New_York:20260103T200000
DTEND;TZID=America/New_York:20260103T235900
DTSTAMP:20260419T143758
CREATED:20240706T134700Z
LAST-MODIFIED:20260410T213015Z
UID:10052001-1767470400-1767484740@thepinestimes.com
SUMMARY:Karaoke Singing Party and Pool Tournament at the Tavern
DESCRIPTION:Come out for a Karaoke Night Party at Black Dog Tavern in Robbins every Saturday! Take the stage or just enjoy the performances. The music starts at 8:00pm with TNT Entertainment providing the tunes and karaoke setup. Enjoy an evening filled with singing\, dancing\, cocktails\, and pool. Pool tournaments start at 7:00pm on Saturday and is $20 to enter the game. \n \n  \n 
URL:https://thepinestimes.com/event/karaoke-singing-party-and-pool-tournament-at-the-tavern/2026-01-03/
LOCATION:Black Dog Tavern\, 155 S Middleton Street\, Robbins\, NC\, 27325\, United States
CATEGORIES:Adult Connections,Adults,Beer and Wine,Dance,Hobby/Enthusiast,Music,Night Life,Robbins Events,Senior,Social
ATTACH;FMTTYPE=image/png:https://thepinestimes.com/wp-content/uploads/Karaoke-e1754409547503.png
END:VEVENT
BEGIN:VEVENT
DTSTART;TZID=America/New_York:20260102T210000
DTEND;TZID=America/New_York:20260102T210000
DTSTAMP:20260419T143758
CREATED:20240920T145500Z
LAST-MODIFIED:20251230T142638Z
UID:10078011-1767387600-1767387600@thepinestimes.com
SUMMARY:Karaoke at the Tavern with DeaJaye Wright
DESCRIPTION:Come out for a Music & Karaoke Night at Black Dog Tavern in Robbins with DeaJaye Wright! \n 
URL:https://thepinestimes.com/event/karaoke-at-the-tavern-with-deajaye-wright/2026-01-02/
LOCATION:Black Dog Tavern\, 155 S Middleton Street\, Robbins\, NC\, 27325\, United States
CATEGORIES:Adult Connections,Adults,Beer and Wine,Hobby/Enthusiast,Music,Night Life,Pines Connector,Robbins Events,Senior,Social
ATTACH;FMTTYPE=image/png:https://thepinestimes.com/wp-content/uploads/Karaoke-e1754409547503.png
END:VEVENT
BEGIN:VEVENT
DTSTART;TZID=America/New_York:20251226T210000
DTEND;TZID=America/New_York:20251226T210000
DTSTAMP:20260419T143758
CREATED:20240920T145500Z
LAST-MODIFIED:20251230T142638Z
UID:10078010-1766782800-1766782800@thepinestimes.com
SUMMARY:Karaoke at the Tavern with DeaJaye Wright
DESCRIPTION:Come out for a Music & Karaoke Night at Black Dog Tavern in Robbins with DeaJaye Wright! \n 
URL:https://thepinestimes.com/event/karaoke-at-the-tavern-with-deajaye-wright/2025-12-26/
LOCATION:Black Dog Tavern\, 155 S Middleton Street\, Robbins\, NC\, 27325\, United States
CATEGORIES:Adult Connections,Adults,Beer and Wine,Hobby/Enthusiast,Music,Night Life,Pines Connector,Robbins Events,Senior,Social
ATTACH;FMTTYPE=image/png:https://thepinestimes.com/wp-content/uploads/Karaoke-e1754409547503.png
END:VEVENT
BEGIN:VEVENT
DTSTART;TZID=America/New_York:20251219T210000
DTEND;TZID=America/New_York:20251219T210000
DTSTAMP:20260419T143758
CREATED:20240920T145500Z
LAST-MODIFIED:20251230T142638Z
UID:10076738-1766178000-1766178000@thepinestimes.com
SUMMARY:Karaoke at the Tavern with DeaJaye Wright
DESCRIPTION:Come out for a Music & Karaoke Night at Black Dog Tavern in Robbins with DeaJaye Wright! \n 
URL:https://thepinestimes.com/event/karaoke-at-the-tavern-with-deajaye-wright/2025-12-19/
LOCATION:Black Dog Tavern\, 155 S Middleton Street\, Robbins\, NC\, 27325\, United States
CATEGORIES:Adult Connections,Adults,Beer and Wine,Hobby/Enthusiast,Music,Night Life,Pines Connector,Robbins Events,Senior,Social
ATTACH;FMTTYPE=image/png:https://thepinestimes.com/wp-content/uploads/Karaoke-e1754409547503.png
END:VEVENT
END:VCALENDAR