BEGIN:VCALENDAR
VERSION:2.0
PRODID:-//The Pines Times - ECPv6.15.20//NONSGML v1.0//EN
CALSCALE:GREGORIAN
METHOD:PUBLISH
X-ORIGINAL-URL:https://thepinestimes.com
X-WR-CALDESC:Events for The Pines Times
REFRESH-INTERVAL;VALUE=DURATION:PT1H
X-Robots-Tag:noindex
X-PUBLISHED-TTL:PT1H
BEGIN:VTIMEZONE
TZID:America/New_York
BEGIN:DAYLIGHT
TZOFFSETFROM:-0500
TZOFFSETTO:-0400
TZNAME:EDT
DTSTART:20250309T070000
END:DAYLIGHT
BEGIN:STANDARD
TZOFFSETFROM:-0400
TZOFFSETTO:-0500
TZNAME:EST
DTSTART:20251102T060000
END:STANDARD
BEGIN:DAYLIGHT
TZOFFSETFROM:-0500
TZOFFSETTO:-0400
TZNAME:EDT
DTSTART:20260308T070000
END:DAYLIGHT
BEGIN:STANDARD
TZOFFSETFROM:-0400
TZOFFSETTO:-0500
TZNAME:EST
DTSTART:20261101T060000
END:STANDARD
BEGIN:DAYLIGHT
TZOFFSETFROM:-0500
TZOFFSETTO:-0400
TZNAME:EDT
DTSTART:20270314T070000
END:DAYLIGHT
BEGIN:STANDARD
TZOFFSETFROM:-0400
TZOFFSETTO:-0500
TZNAME:EST
DTSTART:20271107T060000
END:STANDARD
END:VTIMEZONE
BEGIN:VEVENT
DTSTART;TZID=America/New_York:20260506T200000
DTEND;TZID=America/New_York:20260506T230000
DTSTAMP:20260425T073503
CREATED:20260407T170100Z
LAST-MODIFIED:20260407T170100Z
UID:10086519-1778097600-1778108400@thepinestimes.com
SUMMARY:2026 Karaoke World Championships USA Solo Qualifier Rounds
DESCRIPTION:Strikers Lounge in Rockingham is hosting the 2026 Karaoke World Championships USA Solo Qualifier Rounds on Wednesday\, April 8th\, April 22nd\, and May 6th. With only three audition rounds left in Richmond County\, singers can register for $25 at kwcusa.org to compete for a spot in the top four\, who will advance to the venue finals on May 20th to represent Strikers in the Carolinas State Finals. \nThe event at 1010 E. Broad Avenue features regular karaoke from 8PM-11PM\, while the official qualifiers take place from 8:30PM to 10:30 PM. It is free to sing regular karaoke before\, after\, and during the competition\, so everyone is encouraged to join the fun and support local talent as they aim for the global music contest. \n \n 
URL:https://thepinestimes.com/event/2026-karaoke-world-championships-usa-solo-qualifier-rounds/2026-05-06/
LOCATION:Striker’s Lounge\, 1010 E. Broad Ave\, Rockingham\, 28379\, United States
CATEGORIES:Adult Connections,Adults,Contest,Hobby/Enthusiast,Moore County Events,Music,Out of Town,Rockingham
ATTACH;FMTTYPE=image/jpeg:https://thepinestimes.com/wp-content/uploads/StrikersLoungeKaraokeFeature.jpg
END:VEVENT
END:VCALENDAR