BEGIN:VCALENDAR
VERSION:2.0
PRODID:-//The Pines Times - ECPv6.15.20//NONSGML v1.0//EN
CALSCALE:GREGORIAN
METHOD:PUBLISH
X-WR-CALNAME:The Pines Times
X-ORIGINAL-URL:https://thepinestimes.com
X-WR-CALDESC:Events for The Pines Times
REFRESH-INTERVAL;VALUE=DURATION:PT1H
X-Robots-Tag:noindex
X-PUBLISHED-TTL:PT1H
BEGIN:VTIMEZONE
TZID:America/New_York
BEGIN:DAYLIGHT
TZOFFSETFROM:-0500
TZOFFSETTO:-0400
TZNAME:EDT
DTSTART:20240310T070000
END:DAYLIGHT
BEGIN:STANDARD
TZOFFSETFROM:-0400
TZOFFSETTO:-0500
TZNAME:EST
DTSTART:20241103T060000
END:STANDARD
BEGIN:DAYLIGHT
TZOFFSETFROM:-0500
TZOFFSETTO:-0400
TZNAME:EDT
DTSTART:20250309T070000
END:DAYLIGHT
BEGIN:STANDARD
TZOFFSETFROM:-0400
TZOFFSETTO:-0500
TZNAME:EST
DTSTART:20251102T060000
END:STANDARD
BEGIN:DAYLIGHT
TZOFFSETFROM:-0500
TZOFFSETTO:-0400
TZNAME:EDT
DTSTART:20260308T070000
END:DAYLIGHT
BEGIN:STANDARD
TZOFFSETFROM:-0400
TZOFFSETTO:-0500
TZNAME:EST
DTSTART:20261101T060000
END:STANDARD
BEGIN:DAYLIGHT
TZOFFSETFROM:-0500
TZOFFSETTO:-0400
TZNAME:EDT
DTSTART:20270314T070000
END:DAYLIGHT
BEGIN:STANDARD
TZOFFSETFROM:-0400
TZOFFSETTO:-0500
TZNAME:EST
DTSTART:20271107T060000
END:STANDARD
END:VTIMEZONE
BEGIN:VEVENT
DTSTART;TZID=America/New_York:20260313T200000
DTEND;TZID=America/New_York:20260313T213000
DTSTAMP:20260422T190633
CREATED:20260310T210830Z
LAST-MODIFIED:20260310T210936Z
UID:10083076-1773432000-1773437400@thepinestimes.com
SUMMARY:Carolina DanceWorks: St. Patrick’s Birthday Bash
DESCRIPTION:Come celebrate with Carolina DanceWorks at Ms. Debby’s annual St. Patrick’s Birthday Bash on Friday\, March 13th\, from 8:00PM- 9:30PM\, located at 712 SW Broad St in Southern Pines. The evening features themed snacks like Ms. Debby’s famous Shepherd’s Pie\, tasty libations\, and a lively dance floor\, so guests are encouraged to don their best green attire and grab their dancing shoes. \nAdmission is $15.00 for adults and $12.50 for kids\, offering a perfect start to the weekend with good friends and plenty of laughter. For more information or to RSVP\, you can contact the studio at 910-725-1846. \n \n 
URL:https://thepinestimes.com/event/carolina-danceworks-st-patricks-birthday-bash/
LOCATION:Carolina DanceWorks\, 712 SW Broad Street\, Southern Pines\, NC\, 28387\, United States
CATEGORIES:Dance,Dance Class,Hobby/Enthusiast,Holiday Events,HOMEPAGE Featured,Social,Southern Pines Events,St. Patrick's Day
ATTACH;FMTTYPE=image/jpeg:https://thepinestimes.com/wp-content/uploads/CarolinaDanceWorksFeature.jpg
END:VEVENT
BEGIN:VEVENT
DTSTART;TZID=America/New_York:20260310T180000
DTEND;TZID=America/New_York:20260310T200000
DTSTAMP:20260422T190633
CREATED:20260225T211203Z
LAST-MODIFIED:20260225T215529Z
UID:10081681-1773165600-1773172800@thepinestimes.com
SUMMARY:Carolina DanceWorks: Beginner Ballroom & Latin Dance Program
DESCRIPTION:Carolina DanceWorks of Southern Pines will offer beginner level Ballroom & Latin basics over a 6 week period. No experience or partner requires! \nKids classes begin at 6:00PM. Adult classes begin at 7:00PM. \nThe cost is $90 per person or BOGO 1/2 off for couples and friends. Call 910-725-1846 to register. For more information\, CLICK HERE.
URL:https://thepinestimes.com/event/carolina-danceworks-beginner-ballroom-latin-dance-program/2026-03-10/
LOCATION:Carolina DanceWorks\, 712 SW Broad Street\, Southern Pines\, NC\, 28387\, United States
CATEGORIES:Classes/Workshops,Dance,Dance Class,Health & Wellness,Hobby/Enthusiast,Men,Social,Southern Pines Events,Women
ATTACH;FMTTYPE=image/jpeg:https://thepinestimes.com/wp-content/uploads/CarolinaDanceWorksFeature.jpg
END:VEVENT
BEGIN:VEVENT
DTSTART;TZID=America/New_York:20260309T190000
DTEND;TZID=America/New_York:20260309T200000
DTSTAMP:20260422T190633
CREATED:20260225T204629Z
LAST-MODIFIED:20260329T140708Z
UID:10081746-1773082800-1773086400@thepinestimes.com
SUMMARY:Salsa Classes
DESCRIPTION:Join Carolina DanceWorks every Monday night at 7PM beginning March 2nd for Salsa Class! All levels are welcome; no experience needed. Classes will lead up to Carolina DanceWorks’ first SalsaFest of 2026. The cost is $15. Call 910-725-1846 to reserve your spot now! \n \n 
URL:https://thepinestimes.com/event/salsa-classes-at-carolina-danceworks/2026-03-09/
LOCATION:Carolina DanceWorks\, 712 SW Broad Street\, Southern Pines\, NC\, 28387\, United States
CATEGORIES:Dance Class
ATTACH;FMTTYPE=image/png:https://thepinestimes.com/wp-content/uploads/Dance-Class.png
END:VEVENT
BEGIN:VEVENT
DTSTART;TZID=America/New_York:20260303T180000
DTEND;TZID=America/New_York:20260303T200000
DTSTAMP:20260422T190633
CREATED:20260225T211203Z
LAST-MODIFIED:20260225T215529Z
UID:10081680-1772560800-1772568000@thepinestimes.com
SUMMARY:Carolina DanceWorks: Beginner Ballroom & Latin Dance Program
DESCRIPTION:Carolina DanceWorks of Southern Pines will offer beginner level Ballroom & Latin basics over a 6 week period. No experience or partner requires! \nKids classes begin at 6:00PM. Adult classes begin at 7:00PM. \nThe cost is $90 per person or BOGO 1/2 off for couples and friends. Call 910-725-1846 to register. For more information\, CLICK HERE.
URL:https://thepinestimes.com/event/carolina-danceworks-beginner-ballroom-latin-dance-program/2026-03-03/
LOCATION:Carolina DanceWorks\, 712 SW Broad Street\, Southern Pines\, NC\, 28387\, United States
CATEGORIES:Classes/Workshops,Dance,Dance Class,Health & Wellness,Hobby/Enthusiast,Men,Social,Southern Pines Events,Women
ATTACH;FMTTYPE=image/jpeg:https://thepinestimes.com/wp-content/uploads/CarolinaDanceWorksFeature.jpg
END:VEVENT
BEGIN:VEVENT
DTSTART;TZID=America/New_York:20260302T190000
DTEND;TZID=America/New_York:20260302T200000
DTSTAMP:20260422T190633
CREATED:20260225T204629Z
LAST-MODIFIED:20260329T140708Z
UID:10081745-1772478000-1772481600@thepinestimes.com
SUMMARY:Salsa Classes
DESCRIPTION:Join Carolina DanceWorks every Monday night at 7PM beginning March 2nd for Salsa Class! All levels are welcome; no experience needed. Classes will lead up to Carolina DanceWorks’ first SalsaFest of 2026. The cost is $15. Call 910-725-1846 to reserve your spot now! \n \n 
URL:https://thepinestimes.com/event/salsa-classes-at-carolina-danceworks/2026-03-02/
LOCATION:Carolina DanceWorks\, 712 SW Broad Street\, Southern Pines\, NC\, 28387\, United States
CATEGORIES:Dance Class
ATTACH;FMTTYPE=image/png:https://thepinestimes.com/wp-content/uploads/Dance-Class.png
END:VEVENT
BEGIN:VEVENT
DTSTART;TZID=America/New_York:20251207T190000
DTEND;TZID=America/New_York:20251207T210000
DTSTAMP:20260422T190633
CREATED:20250904T210411Z
LAST-MODIFIED:20250904T210411Z
UID:10067654-1765134000-1765141200@thepinestimes.com
SUMMARY:"Carolina Cup Mini Match" Ballroom Dancing Event
DESCRIPTION:Carolina DanceWorks invites you to the annual Carolina Cup Mini Match on Saturday\, December 7th at Pinehurst Resort. Enjoy a full day of dancing\, friends\, food\, and fun as dancers from area studios showcase their talents in waltz\, swing\, tango\, cha-cha\, and more. Special guest adjudicator\, World Salsa and U.S. Mambo champion Jose DeCamps\, will be joining the celebration. Spectator and full-day packages are available. \nGeneral admission tickets are available now:\nSpectator only: $15/person\nSpectator w/lunch: $85/person\nSpectator w/formal dinner and dancing: $155/person \nContact Carolina DanceWorks for tickets and details at 919-356-5136 or carolinadanceworks@gmail.com.
URL:https://thepinestimes.com/event/carolina-cup-mini-match-ballroom-dancing-event/
LOCATION:The Carolina Hotel\, 80 Carolina Vista Dr.\, Pinehurst\, NC North Carolina\, 28374
CATEGORIES:Adult Connections,Adults,Dance,Hobby/Enthusiast,Live Entertainment,Music
END:VEVENT
END:VCALENDAR