BEGIN:VCALENDAR
VERSION:2.0
PRODID:-//The Pines Times - ECPv6.15.20//NONSGML v1.0//EN
CALSCALE:GREGORIAN
METHOD:PUBLISH
X-WR-CALNAME:The Pines Times
X-ORIGINAL-URL:https://thepinestimes.com
X-WR-CALDESC:Events for The Pines Times
REFRESH-INTERVAL;VALUE=DURATION:PT1H
X-Robots-Tag:noindex
X-PUBLISHED-TTL:PT1H
BEGIN:VTIMEZONE
TZID:America/New_York
BEGIN:DAYLIGHT
TZOFFSETFROM:-0500
TZOFFSETTO:-0400
TZNAME:EDT
DTSTART:20250309T070000
END:DAYLIGHT
BEGIN:STANDARD
TZOFFSETFROM:-0400
TZOFFSETTO:-0500
TZNAME:EST
DTSTART:20251102T060000
END:STANDARD
BEGIN:DAYLIGHT
TZOFFSETFROM:-0500
TZOFFSETTO:-0400
TZNAME:EDT
DTSTART:20260308T070000
END:DAYLIGHT
BEGIN:STANDARD
TZOFFSETFROM:-0400
TZOFFSETTO:-0500
TZNAME:EST
DTSTART:20261101T060000
END:STANDARD
BEGIN:DAYLIGHT
TZOFFSETFROM:-0500
TZOFFSETTO:-0400
TZNAME:EDT
DTSTART:20270314T070000
END:DAYLIGHT
BEGIN:STANDARD
TZOFFSETFROM:-0400
TZOFFSETTO:-0500
TZNAME:EST
DTSTART:20271107T060000
END:STANDARD
END:VTIMEZONE
BEGIN:VEVENT
DTSTART;TZID=America/New_York:20260424T090000
DTEND;TZID=America/New_York:20260424T150000
DTSTAMP:20260421T190753
CREATED:20260408T214651Z
LAST-MODIFIED:20260408T214651Z
UID:10086677-1777021200-1777042800@thepinestimes.com
SUMMARY:Equestrian Event: Sedgefield at the Park ‘C’
DESCRIPTION:Come out to the Carolina Horse Park in Raeford for Prime Time Dressage! Enjoy a weekend of equestrian competition. April 24th-April 26th. The Sedgefield at the Park Hunter Jumper Series offers a premier show experience at the Carolina Horse Park\, featuring top-notch competition in a welcoming atmosphere. Sanctioned by the United States Equestrian Federation (USEF) and the United States Hunter Jumper Association (USHJA)\, this series provides riders of all levels with the opportunity to compete in a professionally run\, high-quality event. \nSpectators are encouraged\, fun for all ages. Vendors and a food truck are typically on site. For additional information\, email info@sedgefieldshowgrounds.com or call 336-707-2056. \n \n  \n  \n 
URL:https://thepinestimes.com/event/equestrian-event-sedgefield-at-the-park-c-2/2026-04-24/
LOCATION:Carolina Horse Park\, 2814 Montrose Road\, Raeford\, NC North Carolina
CATEGORIES:Adults,Equestrian,Family,Hobby/Enthusiast,Nature/Outdoors,Pets/Animals,Raeford Events,Senior,Social,Vendors
ATTACH;FMTTYPE=image/jpeg:https://thepinestimes.com/wp-content/uploads/Carolina-Horse-Park-Feature.jpg
END:VEVENT
BEGIN:VEVENT
DTSTART;TZID=America/New_York:20260425T090000
DTEND;TZID=America/New_York:20260425T150000
DTSTAMP:20260421T190753
CREATED:20260408T214651Z
LAST-MODIFIED:20260408T214651Z
UID:10086678-1777107600-1777129200@thepinestimes.com
SUMMARY:Equestrian Event: Sedgefield at the Park ‘C’
DESCRIPTION:Come out to the Carolina Horse Park in Raeford for Prime Time Dressage! Enjoy a weekend of equestrian competition. April 24th-April 26th. The Sedgefield at the Park Hunter Jumper Series offers a premier show experience at the Carolina Horse Park\, featuring top-notch competition in a welcoming atmosphere. Sanctioned by the United States Equestrian Federation (USEF) and the United States Hunter Jumper Association (USHJA)\, this series provides riders of all levels with the opportunity to compete in a professionally run\, high-quality event. \nSpectators are encouraged\, fun for all ages. Vendors and a food truck are typically on site. For additional information\, email info@sedgefieldshowgrounds.com or call 336-707-2056. \n \n  \n  \n 
URL:https://thepinestimes.com/event/equestrian-event-sedgefield-at-the-park-c-2/2026-04-25/
LOCATION:Carolina Horse Park\, 2814 Montrose Road\, Raeford\, NC North Carolina
CATEGORIES:Adults,Equestrian,Family,Hobby/Enthusiast,Nature/Outdoors,Pets/Animals,Raeford Events,Senior,Social,Vendors
ATTACH;FMTTYPE=image/jpeg:https://thepinestimes.com/wp-content/uploads/Carolina-Horse-Park-Feature.jpg
END:VEVENT
BEGIN:VEVENT
DTSTART;TZID=America/New_York:20260426T090000
DTEND;TZID=America/New_York:20260426T150000
DTSTAMP:20260421T190753
CREATED:20260408T214651Z
LAST-MODIFIED:20260408T214651Z
UID:10086679-1777194000-1777215600@thepinestimes.com
SUMMARY:Equestrian Event: Sedgefield at the Park ‘C’
DESCRIPTION:Come out to the Carolina Horse Park in Raeford for Prime Time Dressage! Enjoy a weekend of equestrian competition. April 24th-April 26th. The Sedgefield at the Park Hunter Jumper Series offers a premier show experience at the Carolina Horse Park\, featuring top-notch competition in a welcoming atmosphere. Sanctioned by the United States Equestrian Federation (USEF) and the United States Hunter Jumper Association (USHJA)\, this series provides riders of all levels with the opportunity to compete in a professionally run\, high-quality event. \nSpectators are encouraged\, fun for all ages. Vendors and a food truck are typically on site. For additional information\, email info@sedgefieldshowgrounds.com or call 336-707-2056. \n \n  \n  \n 
URL:https://thepinestimes.com/event/equestrian-event-sedgefield-at-the-park-c-2/2026-04-26/
LOCATION:Carolina Horse Park\, 2814 Montrose Road\, Raeford\, NC North Carolina
CATEGORIES:Adults,Equestrian,Family,Hobby/Enthusiast,Nature/Outdoors,Pets/Animals,Raeford Events,Senior,Social,Vendors
ATTACH;FMTTYPE=image/jpeg:https://thepinestimes.com/wp-content/uploads/Carolina-Horse-Park-Feature.jpg
END:VEVENT
BEGIN:VEVENT
DTSTART;TZID=America/New_York:20260522T090000
DTEND;TZID=America/New_York:20260522T170000
DTSTAMP:20260421T190753
CREATED:20260419T214525Z
LAST-MODIFIED:20260419T214525Z
UID:10086969-1779440400-1779469200@thepinestimes.com
SUMMARY:Sedgefield at the Park Memorial Day Classic 2026
DESCRIPTION:Come out to the Carolina Horse Park in Raeford for the Sedgefield at the Park ‘C’ Show” Red\, White & Blue Memorial Day Classic! The show runs May 22nd-24th. Ride\, remember and connect as a community! Enjoy a festive weekend filled with exciting competition and celebration\, all classics and derbies will embrace a “Show Your Patriotic Pride” theme\, so wear your best red\, white and blue. \nSedgefield At The Park ‘C’-The Sedgefield at the Park Hunter Jumper Series offers a premier show experience at the Carolina Horse Park\, featuring top-notch competition in a welcoming atmosphere. Sanctioned by the United States Equestrian Federation (USEF) and the United States Hunter Jumper Association (USHJA)\, this series provides riders of all levels with the opportunity to compete in a professionally run\, high-quality event. \n \n  \n 
URL:https://thepinestimes.com/event/sedgefield-at-the-park-memorial-day-classic-2026/2026-05-22/
LOCATION:Carolina Horse Park\, 2814 Montrose Road\, Raeford\, NC North Carolina
CATEGORIES:Equestrian,Family,Farm Event,Hobby/Enthusiast,Holiday Events,HOMEPAGE Featured,Memorial Day,Nature/Outdoors,Pets/Animals,Raeford Events,Sports,Vendors
ATTACH;FMTTYPE=image/jpeg:https://thepinestimes.com/wp-content/uploads/Carolina-Horse-Park-Feature.jpg
END:VEVENT
BEGIN:VEVENT
DTSTART;TZID=America/New_York:20260523T090000
DTEND;TZID=America/New_York:20260523T170000
DTSTAMP:20260421T190753
CREATED:20260419T214525Z
LAST-MODIFIED:20260419T214525Z
UID:10086970-1779526800-1779555600@thepinestimes.com
SUMMARY:Sedgefield at the Park Memorial Day Classic 2026
DESCRIPTION:Come out to the Carolina Horse Park in Raeford for the Sedgefield at the Park ‘C’ Show” Red\, White & Blue Memorial Day Classic! The show runs May 22nd-24th. Ride\, remember and connect as a community! Enjoy a festive weekend filled with exciting competition and celebration\, all classics and derbies will embrace a “Show Your Patriotic Pride” theme\, so wear your best red\, white and blue. \nSedgefield At The Park ‘C’-The Sedgefield at the Park Hunter Jumper Series offers a premier show experience at the Carolina Horse Park\, featuring top-notch competition in a welcoming atmosphere. Sanctioned by the United States Equestrian Federation (USEF) and the United States Hunter Jumper Association (USHJA)\, this series provides riders of all levels with the opportunity to compete in a professionally run\, high-quality event. \n \n  \n 
URL:https://thepinestimes.com/event/sedgefield-at-the-park-memorial-day-classic-2026/2026-05-23/
LOCATION:Carolina Horse Park\, 2814 Montrose Road\, Raeford\, NC North Carolina
CATEGORIES:Equestrian,Family,Farm Event,Hobby/Enthusiast,Holiday Events,HOMEPAGE Featured,Memorial Day,Nature/Outdoors,Pets/Animals,Raeford Events,Sports,Vendors
ATTACH;FMTTYPE=image/jpeg:https://thepinestimes.com/wp-content/uploads/Carolina-Horse-Park-Feature.jpg
END:VEVENT
BEGIN:VEVENT
DTSTART;TZID=America/New_York:20260524T090000
DTEND;TZID=America/New_York:20260524T170000
DTSTAMP:20260421T190753
CREATED:20260419T214525Z
LAST-MODIFIED:20260419T214525Z
UID:10086971-1779613200-1779642000@thepinestimes.com
SUMMARY:Sedgefield at the Park Memorial Day Classic 2026
DESCRIPTION:Come out to the Carolina Horse Park in Raeford for the Sedgefield at the Park ‘C’ Show” Red\, White & Blue Memorial Day Classic! The show runs May 22nd-24th. Ride\, remember and connect as a community! Enjoy a festive weekend filled with exciting competition and celebration\, all classics and derbies will embrace a “Show Your Patriotic Pride” theme\, so wear your best red\, white and blue. \nSedgefield At The Park ‘C’-The Sedgefield at the Park Hunter Jumper Series offers a premier show experience at the Carolina Horse Park\, featuring top-notch competition in a welcoming atmosphere. Sanctioned by the United States Equestrian Federation (USEF) and the United States Hunter Jumper Association (USHJA)\, this series provides riders of all levels with the opportunity to compete in a professionally run\, high-quality event. \n \n  \n 
URL:https://thepinestimes.com/event/sedgefield-at-the-park-memorial-day-classic-2026/2026-05-24/
LOCATION:Carolina Horse Park\, 2814 Montrose Road\, Raeford\, NC North Carolina
CATEGORIES:Equestrian,Family,Farm Event,Hobby/Enthusiast,Holiday Events,HOMEPAGE Featured,Memorial Day,Nature/Outdoors,Pets/Animals,Raeford Events,Sports,Vendors
ATTACH;FMTTYPE=image/jpeg:https://thepinestimes.com/wp-content/uploads/Carolina-Horse-Park-Feature.jpg
END:VEVENT
END:VCALENDAR