BEGIN:VCALENDAR
VERSION:2.0
PRODID:-//The Pines Times - ECPv6.15.20//NONSGML v1.0//EN
CALSCALE:GREGORIAN
METHOD:PUBLISH
X-WR-CALNAME:The Pines Times
X-ORIGINAL-URL:https://thepinestimes.com
X-WR-CALDESC:Events for The Pines Times
REFRESH-INTERVAL;VALUE=DURATION:PT1H
X-Robots-Tag:noindex
X-PUBLISHED-TTL:PT1H
BEGIN:VTIMEZONE
TZID:America/New_York
BEGIN:DAYLIGHT
TZOFFSETFROM:-0500
TZOFFSETTO:-0400
TZNAME:EDT
DTSTART:20240310T070000
END:DAYLIGHT
BEGIN:STANDARD
TZOFFSETFROM:-0400
TZOFFSETTO:-0500
TZNAME:EST
DTSTART:20241103T060000
END:STANDARD
BEGIN:DAYLIGHT
TZOFFSETFROM:-0500
TZOFFSETTO:-0400
TZNAME:EDT
DTSTART:20250309T070000
END:DAYLIGHT
BEGIN:STANDARD
TZOFFSETFROM:-0400
TZOFFSETTO:-0500
TZNAME:EST
DTSTART:20251102T060000
END:STANDARD
BEGIN:DAYLIGHT
TZOFFSETFROM:-0500
TZOFFSETTO:-0400
TZNAME:EDT
DTSTART:20260308T070000
END:DAYLIGHT
BEGIN:STANDARD
TZOFFSETFROM:-0400
TZOFFSETTO:-0500
TZNAME:EST
DTSTART:20261101T060000
END:STANDARD
END:VTIMEZONE
BEGIN:VEVENT
DTSTART;TZID=America/New_York:20250408T100000
DTEND;TZID=America/New_York:20250408T170000
DTSTAMP:20260423T222202
CREATED:20250327T223757Z
LAST-MODIFIED:20250328T141451Z
UID:10055641-1744106400-1744131600@thepinestimes.com
SUMMARY:Downtown Carthage Easter Egg Hunt
DESCRIPTION:Join the Downtown Carthage Easter Egg Hunt from April 5th-April 20th! Discover eggs filled with prizes and giveaways from local businesses hidden throughout the downtown area. If you find one\, visit the business listed inside to claim your reward. With prizes for all ages\, this family-friendly event promises fun for everyone. Happy hunting! \n 
URL:https://thepinestimes.com/event/downtown-carthage-easter-egg-hunt/2025-04-08/
LOCATION:Downtown Carthage\, 1 Courthouse Square\, Carthage\, NC\, 28327\, United States
CATEGORIES:Adults,Carthage Events,Children,Contest,Easter,Family,Games,Holiday Events,Social
ATTACH;FMTTYPE=image/jpeg:https://thepinestimes.com/wp-content/uploads/Town-of-Carthage-Featur.jpg
END:VEVENT
BEGIN:VEVENT
DTSTART;TZID=America/New_York:20250407T100000
DTEND;TZID=America/New_York:20250407T170000
DTSTAMP:20260423T222202
CREATED:20250327T223757Z
LAST-MODIFIED:20250328T141451Z
UID:10055640-1744020000-1744045200@thepinestimes.com
SUMMARY:Downtown Carthage Easter Egg Hunt
DESCRIPTION:Join the Downtown Carthage Easter Egg Hunt from April 5th-April 20th! Discover eggs filled with prizes and giveaways from local businesses hidden throughout the downtown area. If you find one\, visit the business listed inside to claim your reward. With prizes for all ages\, this family-friendly event promises fun for everyone. Happy hunting! \n 
URL:https://thepinestimes.com/event/downtown-carthage-easter-egg-hunt/2025-04-07/
LOCATION:Downtown Carthage\, 1 Courthouse Square\, Carthage\, NC\, 28327\, United States
CATEGORIES:Adults,Carthage Events,Children,Contest,Easter,Family,Games,Holiday Events,Social
ATTACH;FMTTYPE=image/jpeg:https://thepinestimes.com/wp-content/uploads/Town-of-Carthage-Featur.jpg
END:VEVENT
BEGIN:VEVENT
DTSTART;TZID=America/New_York:20250406T100000
DTEND;TZID=America/New_York:20250406T170000
DTSTAMP:20260423T222202
CREATED:20250327T223757Z
LAST-MODIFIED:20250328T141451Z
UID:10055639-1743933600-1743958800@thepinestimes.com
SUMMARY:Downtown Carthage Easter Egg Hunt
DESCRIPTION:Join the Downtown Carthage Easter Egg Hunt from April 5th-April 20th! Discover eggs filled with prizes and giveaways from local businesses hidden throughout the downtown area. If you find one\, visit the business listed inside to claim your reward. With prizes for all ages\, this family-friendly event promises fun for everyone. Happy hunting! \n 
URL:https://thepinestimes.com/event/downtown-carthage-easter-egg-hunt/2025-04-06/
LOCATION:Downtown Carthage\, 1 Courthouse Square\, Carthage\, NC\, 28327\, United States
CATEGORIES:Adults,Carthage Events,Children,Contest,Easter,Family,Games,Holiday Events,Social
ATTACH;FMTTYPE=image/jpeg:https://thepinestimes.com/wp-content/uploads/Town-of-Carthage-Featur.jpg
END:VEVENT
BEGIN:VEVENT
DTSTART;TZID=America/New_York:20250405T100000
DTEND;TZID=America/New_York:20250405T170000
DTSTAMP:20260423T222202
CREATED:20250327T223757Z
LAST-MODIFIED:20250328T141451Z
UID:10055638-1743847200-1743872400@thepinestimes.com
SUMMARY:Downtown Carthage Easter Egg Hunt
DESCRIPTION:Join the Downtown Carthage Easter Egg Hunt from April 5th-April 20th! Discover eggs filled with prizes and giveaways from local businesses hidden throughout the downtown area. If you find one\, visit the business listed inside to claim your reward. With prizes for all ages\, this family-friendly event promises fun for everyone. Happy hunting! \n 
URL:https://thepinestimes.com/event/downtown-carthage-easter-egg-hunt/2025-04-05/
LOCATION:Downtown Carthage\, 1 Courthouse Square\, Carthage\, NC\, 28327\, United States
CATEGORIES:Adults,Carthage Events,Children,Contest,Easter,Family,Games,Holiday Events,Social
ATTACH;FMTTYPE=image/jpeg:https://thepinestimes.com/wp-content/uploads/Town-of-Carthage-Featur.jpg
END:VEVENT
END:VCALENDAR