BEGIN:VCALENDAR
VERSION:2.0
PRODID:-//The Pines Times - ECPv6.15.20//NONSGML v1.0//EN
CALSCALE:GREGORIAN
METHOD:PUBLISH
X-WR-CALNAME:The Pines Times
X-ORIGINAL-URL:https://thepinestimes.com
X-WR-CALDESC:Events for The Pines Times
REFRESH-INTERVAL;VALUE=DURATION:PT1H
X-Robots-Tag:noindex
X-PUBLISHED-TTL:PT1H
BEGIN:VTIMEZONE
TZID:America/New_York
BEGIN:DAYLIGHT
TZOFFSETFROM:-0500
TZOFFSETTO:-0400
TZNAME:EDT
DTSTART:20240310T070000
END:DAYLIGHT
BEGIN:STANDARD
TZOFFSETFROM:-0400
TZOFFSETTO:-0500
TZNAME:EST
DTSTART:20241103T060000
END:STANDARD
BEGIN:DAYLIGHT
TZOFFSETFROM:-0500
TZOFFSETTO:-0400
TZNAME:EDT
DTSTART:20250309T070000
END:DAYLIGHT
BEGIN:STANDARD
TZOFFSETFROM:-0400
TZOFFSETTO:-0500
TZNAME:EST
DTSTART:20251102T060000
END:STANDARD
BEGIN:DAYLIGHT
TZOFFSETFROM:-0500
TZOFFSETTO:-0400
TZNAME:EDT
DTSTART:20260308T070000
END:DAYLIGHT
BEGIN:STANDARD
TZOFFSETFROM:-0400
TZOFFSETTO:-0500
TZNAME:EST
DTSTART:20261101T060000
END:STANDARD
BEGIN:DAYLIGHT
TZOFFSETFROM:-0500
TZOFFSETTO:-0400
TZNAME:EDT
DTSTART:20270314T070000
END:DAYLIGHT
BEGIN:STANDARD
TZOFFSETFROM:-0400
TZOFFSETTO:-0500
TZNAME:EST
DTSTART:20271107T060000
END:STANDARD
END:VTIMEZONE
BEGIN:VEVENT
DTSTART;TZID=America/New_York:20260402T160000
DTEND;TZID=America/New_York:20260402T210000
DTSTAMP:20260425T132407
CREATED:20260329T154054Z
LAST-MODIFIED:20260329T154246Z
UID:10085301-1775145600-1775163600@thepinestimes.com
SUMMARY:ThunderFest 2026: The Rock Pre-Race Celebration
DESCRIPTION:ThunderFest returns to downtown Rockingham at Harrington Square on Thursday\, April 2nd\, from 4:00PM-9:00 PM. This free high-energy street festival serves as the official pre-race celebration for the return of NASCAR to Rockingham Speedway. \nPresented by Duke Energy and Piedmont Natural Gas\, the event features live music headlined by The Eli Young Band with opening performance by Anna J. Attendees can enjoy NASCAR driver meet-and-greets\, a free kids’ zone\, a beer garden\, and various local vendors. \nThe celebration kicks off a major racing weekend that includes the NASCAR CRAFTSMAN Truck Series on Friday and both the ARCA Menards Series East and the North Carolina Education Lottery 250 on Saturday. For more details or to purchase race tickets\, visit the event website link provided below.
URL:https://thepinestimes.com/event/thunderfest-2026-the-rock-pre-race-celebration/
LOCATION:Harrington Square\, Downtown Rockingham\, NC\, 111 E. Washington Street\, Rockingham\, 28379\, United States
CATEGORIES:Adults,Beer and Wine,Family,Food,Games,Live Entertainment,Music,Racing,Rockingham,Social,Sports,Vendors
ATTACH;FMTTYPE=image/jpeg:https://thepinestimes.com/wp-content/uploads/ThunderFestFeature.jpg
END:VEVENT
BEGIN:VEVENT
DTSTART;TZID=America/New_York:20251206T100000
DTEND;TZID=America/New_York:20251206T160000
DTSTAMP:20260425T132407
CREATED:20241117T200723Z
LAST-MODIFIED:20251123T135141Z
UID:10048330-1765015200-1765036800@thepinestimes.com
SUMMARY:Rockingham Christmas on the Square 2025
DESCRIPTION:Christmas on the Square is slated for Saturday\, December 6th\, from 10:00am-4:00pm in downtown Rockingham. All of the staples are back this year for Rockingham’s traditional Christmas festival- a wide variety of craft\, commercial\, and food vendors\, live music and entertainment throughout the day with performances from artists\, church\, school and dance groups\, and the Kids Zone with bounce houses\, an obstacle course\, rock climbing wall\, and other fun activities for children\, including special guests\, Santa Claus\, who will have a special gift for every child\, and Sparky from Rockingham Fire Department.
URL:https://thepinestimes.com/event/rockingham-christmas-on-the-square/
LOCATION:Downtown Rockingham\, Rockingham\, NC\, 28379\, United States
CATEGORIES:Adults,Children,Christmas,Family,Finding Santa,Finding Santa,Food,Games,Hobby/Enthusiast,Holiday Events,Live Entertainment,Markets,Music,Out of Town,Piney's Kids,Piney's Tiny's,Rockingham,Santa,Senior,Shopping,Social,Teen Activities,Vendors,Young Adults
ATTACH;FMTTYPE=image/jpeg:https://thepinestimes.com/wp-content/uploads/City-of-Rockingham-Feature.jpg
END:VEVENT
BEGIN:VEVENT
DTSTART;TZID=America/New_York:20251202T190000
DTEND;TZID=America/New_York:20251202T193000
DTSTAMP:20260425T132407
CREATED:20241125T200730Z
LAST-MODIFIED:20251123T134659Z
UID:10048669-1764702000-1764703800@thepinestimes.com
SUMMARY:Town of Rockingham: Christmas Tree Lighting 2025
DESCRIPTION:The town of Rockingham will hold the 23rd annual Christmas Tree Lighting Ceremony on Tuesday\, December 2nd | 7:00pm-7:30pm at Cole Plaza. LJ Bell Elementary school choirs will be singing Christmas carols before and after the lighting. There will be cookies and hot cocoa after the lighting ceremony.
URL:https://thepinestimes.com/event/town-of-rockingham-christmas-tree-lighting-2025/
LOCATION:Downtown Rockingham\, Rockingham\, NC\, 28379\, United States
CATEGORIES:Adults,Ceremony,Children,Christmas,Family,Hobby/Enthusiast,Holiday Events,Music,Out of Town,Rockingham,Senior,Social
ATTACH;FMTTYPE=image/jpeg:https://thepinestimes.com/wp-content/uploads/City-of-Rockingham-Feature.jpg
END:VEVENT
BEGIN:VEVENT
DTSTART;TZID=America/New_York:20251002T183000
DTEND;TZID=America/New_York:20251002T203000
DTSTAMP:20260425T132407
CREATED:20250625T182543Z
LAST-MODIFIED:20250625T182543Z
UID:10062047-1759429800-1759437000@thepinestimes.com
SUMMARY:Thursday Plaza Jam: The Embers Featuring Craig Woolard
DESCRIPTION:Come out to Thursday Plaza Jam in Rockingham! Thursday Plaza Jam is a free concert series that takes place the first Thursday of each month\, May-October. Concerts are held on Cole Plaza\, 6:30pm-8:30pm. This is a free and family-friendly event. There will be a food truck on site for the fun. Please bring a chair or blanket for your own comfort. \nPerforming on Thursday\, October 2nd is The Embers Featuring Craig Woolard!
URL:https://thepinestimes.com/event/thursday-plaza-jam-the-embers-featuring-craig-woolard/
LOCATION:Cole Plaza\, 514 Rockingham Road\, Rockingham\, NC\, 28379\, United States
CATEGORIES:Adults,Concert,Dance,Family,Food,Hobby/Enthusiast,Live Entertainment,Live Music,Nature/Outdoors,Rockingham,Senior,Social
ATTACH;FMTTYPE=image/jpeg:https://thepinestimes.com/wp-content/uploads/PlazaJamFeature.jpg
END:VEVENT
BEGIN:VEVENT
DTSTART;TZID=America/New_York:20250904T183000
DTEND;TZID=America/New_York:20250904T203000
DTSTAMP:20260425T132407
CREATED:20250625T182341Z
LAST-MODIFIED:20250625T182341Z
UID:10062046-1757010600-1757017800@thepinestimes.com
SUMMARY:Thursday Plaza Jam: The Tams
DESCRIPTION:Come out to Thursday Plaza Jam in Rockingham! Thursday Plaza Jam is a free concert series that takes place the first Thursday of each month\, May-October. Concerts are held on Cole Plaza\, 6:30pm-8:30pm. This is a free and family-friendly event. There will be a food truck on site for the fun. Please bring a chair or blanket for your own comfort. \nPerforming on Thursday\, September 4th is The Tams!
URL:https://thepinestimes.com/event/thursday-plaza-jam-the-tams/
LOCATION:Cole Plaza\, 514 Rockingham Road\, Rockingham\, NC\, 28379\, United States
CATEGORIES:Adults,Concert,Dance,Family,Food,Hobby/Enthusiast,Live Entertainment,Live Music,Nature/Outdoors,Rockingham,Senior,Social
ATTACH;FMTTYPE=image/jpeg:https://thepinestimes.com/wp-content/uploads/PlazaJamFeature.jpg
END:VEVENT
BEGIN:VEVENT
DTSTART;TZID=America/New_York:20250807T183000
DTEND;TZID=America/New_York:20250807T203000
DTSTAMP:20260425T132407
CREATED:20250625T182228Z
LAST-MODIFIED:20250625T182228Z
UID:10062045-1754591400-1754598600@thepinestimes.com
SUMMARY:Thursday Plaza Jam: Chocolate Chip & Company
DESCRIPTION:Come out to Thursday Plaza Jam in Rockingham! Thursday Plaza Jam is a free concert series that takes place the first Thursday of each month\, May-October. Concerts are held on Cole Plaza\, 6:30pm-8:30pm. This is a free and family-friendly event. There will be a food truck on site for the fun. Please bring a chair or blanket for your own comfort. \nPerforming on Thursday\, August 7th is Chocolate Chip & Company!
URL:https://thepinestimes.com/event/thursday-plaza-jam-chocolate-chip-company/
LOCATION:Cole Plaza\, 514 Rockingham Road\, Rockingham\, NC\, 28379\, United States
CATEGORIES:Adults,Concert,Dance,Family,Food,Hobby/Enthusiast,Live Entertainment,Live Music,Nature/Outdoors,Rockingham,Senior,Social
ATTACH;FMTTYPE=image/jpeg:https://thepinestimes.com/wp-content/uploads/PlazaJamFeature.jpg
END:VEVENT
BEGIN:VEVENT
DTSTART;TZID=America/New_York:20250703T183000
DTEND;TZID=America/New_York:20250703T203000
DTSTAMP:20260425T132407
CREATED:20240606T171852Z
LAST-MODIFIED:20250625T182121Z
UID:10038151-1751567400-1751574600@thepinestimes.com
SUMMARY:Thursday Plaza Jam: The Tonez
DESCRIPTION:Come out to Thursday Plaza Jam in Rockingham! Thursday Plaza Jam is a free concert series that takes place the first Thursday of each month\, May-October. Concerts are held on Cole Plaza\, 6:30pm-8:30pm. This is a free and family-friendly event. There will be a food truck on site for the fun. Please bring a chair or blanket for your own comfort. \nPerforming on Thursday\, July 3rd is The Tonez!
URL:https://thepinestimes.com/event/thursday-plaza-jam-the-tonez/
LOCATION:Cole Plaza\, 514 Rockingham Road\, Rockingham\, NC\, 28379\, United States
CATEGORIES:Adults,Concert,Dance,Family,Food,Hobby/Enthusiast,Live Entertainment,Live Music,Nature/Outdoors,Rockingham,Senior,Social
ATTACH;FMTTYPE=image/jpeg:https://thepinestimes.com/wp-content/uploads/PlazaJamFeature.jpg
END:VEVENT
BEGIN:VEVENT
DTSTART;TZID=America/New_York:20250605T183000
DTEND;TZID=America/New_York:20250605T203000
DTSTAMP:20260425T132407
CREATED:20250422T200257Z
LAST-MODIFIED:20250422T200257Z
UID:10056912-1749148200-1749155400@thepinestimes.com
SUMMARY:Thursday Plaza Jam: Too Much Sylvia
DESCRIPTION:Come out to Thursday Plaza Jam in Rockingham! Thursday Plaza Jam is a free concert series that takes place the first Thursday of each month\, May-October. Concerts are held on Cole Plaza\, 6:30pm-8:30pm. This is a free and family-friendly event. There will be a food truck on site for the fun. Please bring a chair or blanket for your own comfort. \nPerforming on Thursday\, June 5th is Too Much Sylvia!
URL:https://thepinestimes.com/event/thursday-plaza-jam-too-much-sylvia/
LOCATION:Cole Plaza\, 514 Rockingham Road\, Rockingham\, NC\, 28379\, United States
CATEGORIES:Adults,Concert,Dance,Family,Food,Hobby/Enthusiast,Live Entertainment,Live Music,Nature/Outdoors,Rockingham,Senior,Social
ATTACH;FMTTYPE=image/jpeg:https://thepinestimes.com/wp-content/uploads/PlazaJamFeature.jpg
END:VEVENT
END:VCALENDAR