BEGIN:VCALENDAR
VERSION:2.0
PRODID:-//The Pines Times - ECPv6.15.20//NONSGML v1.0//EN
CALSCALE:GREGORIAN
METHOD:PUBLISH
X-WR-CALNAME:The Pines Times
X-ORIGINAL-URL:https://thepinestimes.com
X-WR-CALDESC:Events for The Pines Times
REFRESH-INTERVAL;VALUE=DURATION:PT1H
X-Robots-Tag:noindex
X-PUBLISHED-TTL:PT1H
BEGIN:VTIMEZONE
TZID:America/New_York
BEGIN:DAYLIGHT
TZOFFSETFROM:-0500
TZOFFSETTO:-0400
TZNAME:EDT
DTSTART:20250309T070000
END:DAYLIGHT
BEGIN:STANDARD
TZOFFSETFROM:-0400
TZOFFSETTO:-0500
TZNAME:EST
DTSTART:20251102T060000
END:STANDARD
BEGIN:DAYLIGHT
TZOFFSETFROM:-0500
TZOFFSETTO:-0400
TZNAME:EDT
DTSTART:20260308T070000
END:DAYLIGHT
BEGIN:STANDARD
TZOFFSETFROM:-0400
TZOFFSETTO:-0500
TZNAME:EST
DTSTART:20261101T060000
END:STANDARD
BEGIN:DAYLIGHT
TZOFFSETFROM:-0500
TZOFFSETTO:-0400
TZNAME:EDT
DTSTART:20270314T070000
END:DAYLIGHT
BEGIN:STANDARD
TZOFFSETFROM:-0400
TZOFFSETTO:-0500
TZNAME:EST
DTSTART:20271107T060000
END:STANDARD
END:VTIMEZONE
BEGIN:VEVENT
DTSTART;TZID=America/New_York:20260423T140000
DTEND;TZID=America/New_York:20260423T150000
DTSTAMP:20260420T113455
CREATED:20260119T235525Z
LAST-MODIFIED:20260119T235525Z
UID:10079828-1776952800-1776956400@thepinestimes.com
SUMMARY:Read\, Create\, Play! Craft and Storytime in the Park
DESCRIPTION:Bring the little ones out for Read\, Create\, Play! Craft and Storytime in the Park\, a fun monthly event hosted by Sanford Parks and Lee County Libraries. These gatherings take place on the fourth Thursday of every month at 2:00 p.m.\, providing a wonderful opportunity for children to engage with stories and hands-on crafts. The activities are held outdoors at Third Street Park\, located at 228 North Ave\, making it a perfect afternoon for community connection and creative play.
URL:https://thepinestimes.com/event/read-create-play-craft-and-storytime-in-the-park/2026-04-23/
LOCATION:Third Street Park\, 228 North Ave\, Sanford\, 27330\, United States
CATEGORIES:Children,Crafts,Educational,Family,Piney's Kids,Piney's Tiny's,Sanford Events,Sanford Events,Social
ATTACH;FMTTYPE=image/jpeg:https://thepinestimes.com/wp-content/uploads/SanfordLibraryStorytimeFeature.jpg
END:VEVENT
BEGIN:VEVENT
DTSTART;TZID=America/New_York:20260508T174500
DTEND;TZID=America/New_York:20260508T200000
DTSTAMP:20260420T113455
CREATED:20260222T163819Z
LAST-MODIFIED:20260222T163819Z
UID:10081491-1778262300-1778270400@thepinestimes.com
SUMMARY:Sanford Family Movie Nights: "Lilo & Stitch"
DESCRIPTION:The City of Sanford Parks and Lee County Parks & Recreation are hosting a series of Family Movie Nights at Kiwanis Family Park in Sanford this spring! These free community events take place on the second Friday of each month\, with food trucks opening at 5:00pm and the PG-rated films beginning at 5:45pm. Families are encouraged to bring lawn chairs and blankets to enjoy a fun-filled evening under the stars with friends and neighbors. \nSpring 2026 Movie Schedule\nMarch 13th: Zootopia 2\nApril 10th: Bad Guys 2\nMay 8th: Lilo & Stitch
URL:https://thepinestimes.com/event/sanford-family-movie-nights-lilo-stitch/
LOCATION:Kiwanis Family Park\, 1800 Wicker Street\, Sanford\, NC\, 27330\, United States
CATEGORIES:Adults,Family,Movie,Nature/Outdoors,Piney's Kids,Piney's Tiny's,Sanford Events,Social,Teen Activities,Young Adults
ATTACH;FMTTYPE=image/jpeg:https://thepinestimes.com/wp-content/uploads/CityOfSanfordParksFeature.jpg
END:VEVENT
BEGIN:VEVENT
DTSTART;TZID=America/New_York:20260510T170000
DTEND;TZID=America/New_York:20260510T183000
DTSTAMP:20260420T113455
CREATED:20260323T155430Z
LAST-MODIFIED:20260323T155430Z
UID:10083746-1778432400-1778437800@thepinestimes.com
SUMMARY:Second Sundays: Free Outdoor Concert Series with Sugar Lime Blue
DESCRIPTION:Come out for Second Sundays\, a free outdoor concert series held on the second Sunday of each month during the spring and fall at Kiwanis Family Park! Bring your lawn chairs\, blankets\, friends\, and family and enjoy live music in a relaxed park setting. Concerts run from 5:00PM-6:30PM: making it the perfect way to wind down your weekend. \nPerforming on May 10th: Sugar Lime Blue \n– Family-friendly\n– Live local & regional bands\n– Lawn chairs & blankets encouraged\n– Free admission \nSpring Concerts: March 8th\, April 12th\, May 10th \nFall Concerts: September 13th\, October 11th\, November 8th \nCome out and make Second Sundays a seasonal tradition!
URL:https://thepinestimes.com/event/second-sundays-free-outdoor-concert-series-with-sugar-lime-blue/
LOCATION:Kiwanis Family Park\, 1800 Wicker Street\, Sanford\, NC\, 27330\, United States
CATEGORIES:Adults,Concert,Family,Hobby/Enthusiast,Live Entertainment,Music,Nature/Outdoors,Out of Town,Sanford Events,Social
ATTACH;FMTTYPE=image/jpeg:https://thepinestimes.com/wp-content/uploads/CityOfSanfordParksFeature.jpg
END:VEVENT
BEGIN:VEVENT
DTSTART;TZID=America/New_York:20260528T140000
DTEND;TZID=America/New_York:20260528T150000
DTSTAMP:20260420T113455
CREATED:20260119T235525Z
LAST-MODIFIED:20260119T235525Z
UID:10079829-1779976800-1779980400@thepinestimes.com
SUMMARY:Read\, Create\, Play! Craft and Storytime in the Park
DESCRIPTION:Bring the little ones out for Read\, Create\, Play! Craft and Storytime in the Park\, a fun monthly event hosted by Sanford Parks and Lee County Libraries. These gatherings take place on the fourth Thursday of every month at 2:00 p.m.\, providing a wonderful opportunity for children to engage with stories and hands-on crafts. The activities are held outdoors at Third Street Park\, located at 228 North Ave\, making it a perfect afternoon for community connection and creative play.
URL:https://thepinestimes.com/event/read-create-play-craft-and-storytime-in-the-park/2026-05-28/
LOCATION:Third Street Park\, 228 North Ave\, Sanford\, 27330\, United States
CATEGORIES:Children,Crafts,Educational,Family,Piney's Kids,Piney's Tiny's,Sanford Events,Sanford Events,Social
ATTACH;FMTTYPE=image/jpeg:https://thepinestimes.com/wp-content/uploads/SanfordLibraryStorytimeFeature.jpg
END:VEVENT
BEGIN:VEVENT
DTSTART;TZID=America/New_York:20260604T183000
DTEND;TZID=America/New_York:20260604T200000
DTSTAMP:20260420T113455
CREATED:20260401T195303Z
LAST-MODIFIED:20260401T212610Z
UID:10085974-1780597800-1780603200@thepinestimes.com
SUMMARY:City of Sanford Summer Concert Series 2026: Tuesday Night Music Club
DESCRIPTION:Join the City of Sanford for the 2026 Summer Concert Series at Depot Park! Make your Thursdays a little brighter with the Summer Concert Series at Depot Park! Enjoy live music from local and regional bands every Thursday evening at 6:30PM all summer long. These family-friendly performances offer a wonderful outdoor experience at Depot Park\, so be sure to bring your lawn chairs\, blankets\, and friends for a laid-back night of entertainment. \nJune 4th: Tuesday Night Music Club\nJune 11th: New Directions Bluegrass\nJune 18th: Workin’ on Commission\nJune 25th: Empire Strikes Brass \nJuly 9th: Dowdy Boys\nJuly 16th: Big Daddy Love\nJuly 23rd: Sahara Reggae Band\nJuly 30th: Florencia and the Feeling \nAugust 6th: d.a.l.i.a.\nAugust 13th: Big Time Shine\nAugust 20th: Feeling 22\nAugust 27th: 22 Strings \nCome relax\, enjoy the music\, and celebrate summer with us at Depot Park.
URL:https://thepinestimes.com/event/city-of-sanford-summer-concert-series-2026-tuesday-night-music-club/
LOCATION:Depot Park\, 106 Charlotte Ave\, Sanford\, NC\, 27330\, United States
CATEGORIES:Adults,Concert,Family,Live Entertainment,Music,Nature/Outdoors,Out of Town,Sanford Events,Social
ATTACH;FMTTYPE=image/jpeg:https://thepinestimes.com/wp-content/uploads/SanfordSummerConcertSeriesFeature.jpg
END:VEVENT
BEGIN:VEVENT
DTSTART;TZID=America/New_York:20260625T140000
DTEND;TZID=America/New_York:20260625T150000
DTSTAMP:20260420T113455
CREATED:20260119T235525Z
LAST-MODIFIED:20260119T235525Z
UID:10079830-1782396000-1782399600@thepinestimes.com
SUMMARY:Read\, Create\, Play! Craft and Storytime in the Park
DESCRIPTION:Bring the little ones out for Read\, Create\, Play! Craft and Storytime in the Park\, a fun monthly event hosted by Sanford Parks and Lee County Libraries. These gatherings take place on the fourth Thursday of every month at 2:00 p.m.\, providing a wonderful opportunity for children to engage with stories and hands-on crafts. The activities are held outdoors at Third Street Park\, located at 228 North Ave\, making it a perfect afternoon for community connection and creative play.
URL:https://thepinestimes.com/event/read-create-play-craft-and-storytime-in-the-park/2026-06-25/
LOCATION:Third Street Park\, 228 North Ave\, Sanford\, 27330\, United States
CATEGORIES:Children,Crafts,Educational,Family,Piney's Kids,Piney's Tiny's,Sanford Events,Sanford Events,Social
ATTACH;FMTTYPE=image/jpeg:https://thepinestimes.com/wp-content/uploads/SanfordLibraryStorytimeFeature.jpg
END:VEVENT
BEGIN:VEVENT
DTSTART;TZID=America/New_York:20260723T140000
DTEND;TZID=America/New_York:20260723T150000
DTSTAMP:20260420T113455
CREATED:20260119T235525Z
LAST-MODIFIED:20260119T235525Z
UID:10079831-1784815200-1784818800@thepinestimes.com
SUMMARY:Read\, Create\, Play! Craft and Storytime in the Park
DESCRIPTION:Bring the little ones out for Read\, Create\, Play! Craft and Storytime in the Park\, a fun monthly event hosted by Sanford Parks and Lee County Libraries. These gatherings take place on the fourth Thursday of every month at 2:00 p.m.\, providing a wonderful opportunity for children to engage with stories and hands-on crafts. The activities are held outdoors at Third Street Park\, located at 228 North Ave\, making it a perfect afternoon for community connection and creative play.
URL:https://thepinestimes.com/event/read-create-play-craft-and-storytime-in-the-park/2026-07-23/
LOCATION:Third Street Park\, 228 North Ave\, Sanford\, 27330\, United States
CATEGORIES:Children,Crafts,Educational,Family,Piney's Kids,Piney's Tiny's,Sanford Events,Sanford Events,Social
ATTACH;FMTTYPE=image/jpeg:https://thepinestimes.com/wp-content/uploads/SanfordLibraryStorytimeFeature.jpg
END:VEVENT
BEGIN:VEVENT
DTSTART;TZID=America/New_York:20260827T140000
DTEND;TZID=America/New_York:20260827T150000
DTSTAMP:20260420T113455
CREATED:20260119T235525Z
LAST-MODIFIED:20260119T235525Z
UID:10079832-1787839200-1787842800@thepinestimes.com
SUMMARY:Read\, Create\, Play! Craft and Storytime in the Park
DESCRIPTION:Bring the little ones out for Read\, Create\, Play! Craft and Storytime in the Park\, a fun monthly event hosted by Sanford Parks and Lee County Libraries. These gatherings take place on the fourth Thursday of every month at 2:00 p.m.\, providing a wonderful opportunity for children to engage with stories and hands-on crafts. The activities are held outdoors at Third Street Park\, located at 228 North Ave\, making it a perfect afternoon for community connection and creative play.
URL:https://thepinestimes.com/event/read-create-play-craft-and-storytime-in-the-park/2026-08-27/
LOCATION:Third Street Park\, 228 North Ave\, Sanford\, 27330\, United States
CATEGORIES:Children,Crafts,Educational,Family,Piney's Kids,Piney's Tiny's,Sanford Events,Sanford Events,Social
ATTACH;FMTTYPE=image/jpeg:https://thepinestimes.com/wp-content/uploads/SanfordLibraryStorytimeFeature.jpg
END:VEVENT
BEGIN:VEVENT
DTSTART;TZID=America/New_York:20260924T140000
DTEND;TZID=America/New_York:20260924T150000
DTSTAMP:20260420T113455
CREATED:20260119T235525Z
LAST-MODIFIED:20260119T235525Z
UID:10079833-1790258400-1790262000@thepinestimes.com
SUMMARY:Read\, Create\, Play! Craft and Storytime in the Park
DESCRIPTION:Bring the little ones out for Read\, Create\, Play! Craft and Storytime in the Park\, a fun monthly event hosted by Sanford Parks and Lee County Libraries. These gatherings take place on the fourth Thursday of every month at 2:00 p.m.\, providing a wonderful opportunity for children to engage with stories and hands-on crafts. The activities are held outdoors at Third Street Park\, located at 228 North Ave\, making it a perfect afternoon for community connection and creative play.
URL:https://thepinestimes.com/event/read-create-play-craft-and-storytime-in-the-park/2026-09-24/
LOCATION:Third Street Park\, 228 North Ave\, Sanford\, 27330\, United States
CATEGORIES:Children,Crafts,Educational,Family,Piney's Kids,Piney's Tiny's,Sanford Events,Sanford Events,Social
ATTACH;FMTTYPE=image/jpeg:https://thepinestimes.com/wp-content/uploads/SanfordLibraryStorytimeFeature.jpg
END:VEVENT
BEGIN:VEVENT
DTSTART;TZID=America/New_York:20261022T140000
DTEND;TZID=America/New_York:20261022T150000
DTSTAMP:20260420T113455
CREATED:20260119T235525Z
LAST-MODIFIED:20260119T235525Z
UID:10079834-1792677600-1792681200@thepinestimes.com
SUMMARY:Read\, Create\, Play! Craft and Storytime in the Park
DESCRIPTION:Bring the little ones out for Read\, Create\, Play! Craft and Storytime in the Park\, a fun monthly event hosted by Sanford Parks and Lee County Libraries. These gatherings take place on the fourth Thursday of every month at 2:00 p.m.\, providing a wonderful opportunity for children to engage with stories and hands-on crafts. The activities are held outdoors at Third Street Park\, located at 228 North Ave\, making it a perfect afternoon for community connection and creative play.
URL:https://thepinestimes.com/event/read-create-play-craft-and-storytime-in-the-park/2026-10-22/
LOCATION:Third Street Park\, 228 North Ave\, Sanford\, 27330\, United States
CATEGORIES:Children,Crafts,Educational,Family,Piney's Kids,Piney's Tiny's,Sanford Events,Sanford Events,Social
ATTACH;FMTTYPE=image/jpeg:https://thepinestimes.com/wp-content/uploads/SanfordLibraryStorytimeFeature.jpg
END:VEVENT
END:VCALENDAR