BEGIN:VCALENDAR
VERSION:2.0
PRODID:-//The Pines Times - ECPv6.15.20//NONSGML v1.0//EN
CALSCALE:GREGORIAN
METHOD:PUBLISH
X-WR-CALNAME:The Pines Times
X-ORIGINAL-URL:https://thepinestimes.com
X-WR-CALDESC:Events for The Pines Times
REFRESH-INTERVAL;VALUE=DURATION:PT1H
X-Robots-Tag:noindex
X-PUBLISHED-TTL:PT1H
BEGIN:VTIMEZONE
TZID:America/New_York
BEGIN:DAYLIGHT
TZOFFSETFROM:-0500
TZOFFSETTO:-0400
TZNAME:EDT
DTSTART:20240310T070000
END:DAYLIGHT
BEGIN:STANDARD
TZOFFSETFROM:-0400
TZOFFSETTO:-0500
TZNAME:EST
DTSTART:20241103T060000
END:STANDARD
BEGIN:DAYLIGHT
TZOFFSETFROM:-0500
TZOFFSETTO:-0400
TZNAME:EDT
DTSTART:20250309T070000
END:DAYLIGHT
BEGIN:STANDARD
TZOFFSETFROM:-0400
TZOFFSETTO:-0500
TZNAME:EST
DTSTART:20251102T060000
END:STANDARD
BEGIN:DAYLIGHT
TZOFFSETFROM:-0500
TZOFFSETTO:-0400
TZNAME:EDT
DTSTART:20260308T070000
END:DAYLIGHT
BEGIN:STANDARD
TZOFFSETFROM:-0400
TZOFFSETTO:-0500
TZNAME:EST
DTSTART:20261101T060000
END:STANDARD
END:VTIMEZONE
BEGIN:VEVENT
DTSTART;TZID=America/New_York:20250625T130000
DTEND;TZID=America/New_York:20250625T180000
DTSTAMP:20260422T071944
CREATED:20250622T205344Z
LAST-MODIFIED:20250622T205440Z
UID:10061875-1750856400-1750874400@thepinestimes.com
SUMMARY:Moore County Cooling Station
DESCRIPTION:A dangerous heat wave is forecasted to impact Moore County and surrounding areas\, with heat index values expected to reach between 104°F and 107°F from Monday-Thursday and potentially climbing as high as 110°F in parts of central North Carolina\, according to Moore County Public Safety. To help residents stay cool and safe\, the County will open a temporary Cooling Station at the Moore County Sports Complex\, located at 155 Hillcrest Park Lane in Carthage. The station will be open Monday\, June 23rd-Friday\, June 27th |1:00pm-6:00pm. Residents can also cool off at the on-site Splash Pad\, open daily from 10:00am-6:00pm. Follow the event website link provided below for full details.
URL:https://thepinestimes.com/event/moore-county-cooling-station/2025-06-25/
LOCATION:Hillcrest Park & Moore County Sports Complex\, 155 Hillcrest Park Ln.\, Carthage\, NC\, 28327\, United States
CATEGORIES:Adults,Carthage Events,Children,Family,Health & Wellness,HOMEPAGE Featured,Moore County Events,Nature/Outdoors,Senior
ATTACH;FMTTYPE=image/jpeg:https://thepinestimes.com/wp-content/uploads/Moore-County-Health-Dpt-1.jpg
END:VEVENT
BEGIN:VEVENT
DTSTART;TZID=America/New_York:20250624T130000
DTEND;TZID=America/New_York:20250624T180000
DTSTAMP:20260422T071944
CREATED:20250622T205344Z
LAST-MODIFIED:20250622T205440Z
UID:10061874-1750770000-1750788000@thepinestimes.com
SUMMARY:Moore County Cooling Station
DESCRIPTION:A dangerous heat wave is forecasted to impact Moore County and surrounding areas\, with heat index values expected to reach between 104°F and 107°F from Monday-Thursday and potentially climbing as high as 110°F in parts of central North Carolina\, according to Moore County Public Safety. To help residents stay cool and safe\, the County will open a temporary Cooling Station at the Moore County Sports Complex\, located at 155 Hillcrest Park Lane in Carthage. The station will be open Monday\, June 23rd-Friday\, June 27th |1:00pm-6:00pm. Residents can also cool off at the on-site Splash Pad\, open daily from 10:00am-6:00pm. Follow the event website link provided below for full details.
URL:https://thepinestimes.com/event/moore-county-cooling-station/2025-06-24/
LOCATION:Hillcrest Park & Moore County Sports Complex\, 155 Hillcrest Park Ln.\, Carthage\, NC\, 28327\, United States
CATEGORIES:Adults,Carthage Events,Children,Family,Health & Wellness,HOMEPAGE Featured,Moore County Events,Nature/Outdoors,Senior
ATTACH;FMTTYPE=image/jpeg:https://thepinestimes.com/wp-content/uploads/Moore-County-Health-Dpt-1.jpg
END:VEVENT
BEGIN:VEVENT
DTSTART;TZID=America/New_York:20250623T130000
DTEND;TZID=America/New_York:20250623T180000
DTSTAMP:20260422T071944
CREATED:20250622T205344Z
LAST-MODIFIED:20250622T205440Z
UID:10061873-1750683600-1750701600@thepinestimes.com
SUMMARY:Moore County Cooling Station
DESCRIPTION:A dangerous heat wave is forecasted to impact Moore County and surrounding areas\, with heat index values expected to reach between 104°F and 107°F from Monday-Thursday and potentially climbing as high as 110°F in parts of central North Carolina\, according to Moore County Public Safety. To help residents stay cool and safe\, the County will open a temporary Cooling Station at the Moore County Sports Complex\, located at 155 Hillcrest Park Lane in Carthage. The station will be open Monday\, June 23rd-Friday\, June 27th |1:00pm-6:00pm. Residents can also cool off at the on-site Splash Pad\, open daily from 10:00am-6:00pm. Follow the event website link provided below for full details.
URL:https://thepinestimes.com/event/moore-county-cooling-station/2025-06-23/
LOCATION:Hillcrest Park & Moore County Sports Complex\, 155 Hillcrest Park Ln.\, Carthage\, NC\, 28327\, United States
CATEGORIES:Adults,Carthage Events,Children,Family,Health & Wellness,HOMEPAGE Featured,Moore County Events,Nature/Outdoors,Senior
ATTACH;FMTTYPE=image/jpeg:https://thepinestimes.com/wp-content/uploads/Moore-County-Health-Dpt-1.jpg
END:VEVENT
END:VCALENDAR