BEGIN:VCALENDAR
VERSION:2.0
PRODID:-//The Pines Times - ECPv6.15.20//NONSGML v1.0//EN
CALSCALE:GREGORIAN
METHOD:PUBLISH
X-ORIGINAL-URL:https://thepinestimes.com
X-WR-CALDESC:Events for The Pines Times
REFRESH-INTERVAL;VALUE=DURATION:PT1H
X-Robots-Tag:noindex
X-PUBLISHED-TTL:PT1H
BEGIN:VTIMEZONE
TZID:America/New_York
BEGIN:DAYLIGHT
TZOFFSETFROM:-0500
TZOFFSETTO:-0400
TZNAME:EDT
DTSTART:20240310T070000
END:DAYLIGHT
BEGIN:STANDARD
TZOFFSETFROM:-0400
TZOFFSETTO:-0500
TZNAME:EST
DTSTART:20241103T060000
END:STANDARD
BEGIN:DAYLIGHT
TZOFFSETFROM:-0500
TZOFFSETTO:-0400
TZNAME:EDT
DTSTART:20250309T070000
END:DAYLIGHT
BEGIN:STANDARD
TZOFFSETFROM:-0400
TZOFFSETTO:-0500
TZNAME:EST
DTSTART:20251102T060000
END:STANDARD
BEGIN:DAYLIGHT
TZOFFSETFROM:-0500
TZOFFSETTO:-0400
TZNAME:EDT
DTSTART:20260308T070000
END:DAYLIGHT
BEGIN:STANDARD
TZOFFSETFROM:-0400
TZOFFSETTO:-0500
TZNAME:EST
DTSTART:20261101T060000
END:STANDARD
BEGIN:DAYLIGHT
TZOFFSETFROM:-0500
TZOFFSETTO:-0400
TZNAME:EDT
DTSTART:20270314T070000
END:DAYLIGHT
BEGIN:STANDARD
TZOFFSETFROM:-0400
TZOFFSETTO:-0500
TZNAME:EST
DTSTART:20271107T060000
END:STANDARD
END:VTIMEZONE
BEGIN:VEVENT
DTSTART;TZID=America/New_York:20260328T120000
DTEND;TZID=America/New_York:20260328T180000
DTSTAMP:20260425T214855
CREATED:20260328T134953Z
LAST-MODIFIED:20260328T135223Z
UID:10085234-1774699200-1774720800@thepinestimes.com
SUMMARY:Crains Creek Fire-Rescue: BBQ Pork Fundraiser
DESCRIPTION:Crains Creek Fire-Rescue is hosting a BBQ Pork Fundraiser on Saturday\, March 28th\, from 12:00PM-6:00PM at 4525 Lobelia Rd. in Vass. Community members can enjoy a delicious meal while supporting local fire-rescue services\, with BBQ pork plates available for $12 including tender pulled pork and all the fixings. Whether you prefer to eat in and socialize or grab your food to go\, this event is a great opportunity to enjoy excellent food while contributing to a vital local cause.
URL:https://thepinestimes.com/event/rains-creek-fire-rescue-bbq-pork-fundraiser/
LOCATION:Crains Creek Fire Department\, 4525 Lobelia Rd\, Vass\, 28394\, United States
CATEGORIES:Family,Food,Fundraiser
ORGANIZER;CN="Crains Creek Fire Department":MAILTO:crainscreekvfd@pinehurst.net
END:VEVENT
BEGIN:VEVENT
DTSTART;TZID=America/New_York:20251213T133000
DTEND;TZID=America/New_York:20251213T163000
DTSTAMP:20260425T214855
CREATED:20241029T142531Z
LAST-MODIFIED:20251126T204341Z
UID:10047342-1765632600-1765643400@thepinestimes.com
SUMMARY:Crains Creek Fire Department: Santa Route
DESCRIPTION:Crains Creek Fire Department will be driving Santa Claus around the fire district again this year on Saturday\, December 13th! \n“Hello everyone. We have been in contact with the big ol jolly fella himself. We have made arrangements again for him to visit the fire district again this year on Dec 13th. We will post his schedule soon. Keep your eyes out and ensure the kids are being smart.” \nVisit the event website link provided below to view the estimated route and times. \n \n  \n 
URL:https://thepinestimes.com/event/crains-creek-fire-department-santa-route/
LOCATION:Town of Vass\, 140 S Alma St.\, Vass\, NC\, 28394\, United States
CATEGORIES:Adults,Children,Christmas,Family,Finding Santa,Finding Santa,Hobby/Enthusiast,Holiday Events,Santa,Vass Events
ATTACH;FMTTYPE=image/jpeg:https://thepinestimes.com/wp-content/uploads/CrainsCreekFireAndRescueFeature.jpg
ORGANIZER;CN="Crains Creek Fire Department":MAILTO:crainscreekvfd@pinehurst.net
END:VEVENT
BEGIN:VEVENT
DTSTART;TZID=America/New_York:20250920T110000
DTEND;TZID=America/New_York:20250920T180000
DTSTAMP:20260425T214855
CREATED:20250918T170226Z
LAST-MODIFIED:20250918T170720Z
UID:10070041-1758366000-1758391200@thepinestimes.com
SUMMARY:Crains Creek Fire-Rescue BBQ Plates / Car & Truck Show
DESCRIPTION:This Saturday\, September 20th head over to the Crains Creek Fire-Rescue BBQ Plates / Car & Truck Show for a day of food and fun that supports a great cause! The event\, located at 4525 Lobelia Rd. in Vass\, features a BBQ plate fundraiser with plates for just $11. Plate sales run from 11:30am-6pm. The car and truck show is from 11am-3pm. You can also enjoy free entertainment from DJ Gary “G Money” Smith from 11am-2pm\, followed by a live performance from the Low Down Dirty Heathens Band from 2pm-5pm. Raffle tickets are also available. Bring the whole family for a day of free entertainment\, and help support your local fire department by buying a plate.
URL:https://thepinestimes.com/event/crains-creek-fire-rescue-bbq-plates-car-truck-show/
LOCATION:Crains Creek Fire Department\, 4525 Lobelia Rd\, Vass\, 28394\, United States
CATEGORIES:Adults,Car Show/Motorcycle Show/Cruise In,Concert,Family,Food,Fundraiser,Music,Raffle,Social,Vass Events,Young Adults
ORGANIZER;CN="Crains Creek Fire Department":MAILTO:crainscreekvfd@pinehurst.net
END:VEVENT
END:VCALENDAR