BEGIN:VCALENDAR
VERSION:2.0
PRODID:-//The Pines Times - ECPv6.15.20//NONSGML v1.0//EN
CALSCALE:GREGORIAN
METHOD:PUBLISH
X-WR-CALNAME:The Pines Times
X-ORIGINAL-URL:https://thepinestimes.com
X-WR-CALDESC:Events for The Pines Times
REFRESH-INTERVAL;VALUE=DURATION:PT1H
X-Robots-Tag:noindex
X-PUBLISHED-TTL:PT1H
BEGIN:VTIMEZONE
TZID:America/New_York
BEGIN:DAYLIGHT
TZOFFSETFROM:-0500
TZOFFSETTO:-0400
TZNAME:EDT
DTSTART:20240310T070000
END:DAYLIGHT
BEGIN:STANDARD
TZOFFSETFROM:-0400
TZOFFSETTO:-0500
TZNAME:EST
DTSTART:20241103T060000
END:STANDARD
BEGIN:DAYLIGHT
TZOFFSETFROM:-0500
TZOFFSETTO:-0400
TZNAME:EDT
DTSTART:20250309T070000
END:DAYLIGHT
BEGIN:STANDARD
TZOFFSETFROM:-0400
TZOFFSETTO:-0500
TZNAME:EST
DTSTART:20251102T060000
END:STANDARD
BEGIN:DAYLIGHT
TZOFFSETFROM:-0500
TZOFFSETTO:-0400
TZNAME:EDT
DTSTART:20260308T070000
END:DAYLIGHT
BEGIN:STANDARD
TZOFFSETFROM:-0400
TZOFFSETTO:-0500
TZNAME:EST
DTSTART:20261101T060000
END:STANDARD
END:VTIMEZONE
BEGIN:VEVENT
DTSTART;TZID=America/New_York:20250827T094500
DTEND;TZID=America/New_York:20250827T094500
DTSTAMP:20260421T220333
CREATED:20240329T132519Z
LAST-MODIFIED:20250813T142931Z
UID:10061284-1756287900-1756287900@thepinestimes.com
SUMMARY:Pop Up Storytime
DESCRIPTION:Come out for Pop Up Summer Storytimes with Dandelions Learning Community\, LLC at Reservoir Park! Summer dates coincide with the Walking Wednesday club with Sandhills Friends and Moore For Mamas groups. Enjoy the storytime fun and then stay for a nice walk around the lake. Storytime begins at 9:45am. Invite a friend and join. \n 
URL:https://thepinestimes.com/event/spring-pop-up-storytime/2025-08-27/
LOCATION:Southern Pines Reservoir Park\, 300 Reservoir Park Dr.\, Southern Pines\, NC\, 28387\, United States
CATEGORIES:Children,Educational,Family,Games,Hobby/Enthusiast,Live Entertainment,Nature/Outdoors,Pinehurst Events,Piney's Kids,Piney's Tiny's,Social
ATTACH;FMTTYPE=image/jpeg:https://thepinestimes.com/wp-content/uploads/Dandelions-feature.jpg
END:VEVENT
BEGIN:VEVENT
DTSTART;TZID=America/New_York:20250820T094500
DTEND;TZID=America/New_York:20250820T094500
DTSTAMP:20260421T220333
CREATED:20240329T132519Z
LAST-MODIFIED:20250813T142931Z
UID:10061283-1755683100-1755683100@thepinestimes.com
SUMMARY:Pop Up Storytime
DESCRIPTION:Come out for Pop Up Summer Storytimes with Dandelions Learning Community\, LLC at Reservoir Park! Summer dates coincide with the Walking Wednesday club with Sandhills Friends and Moore For Mamas groups. Enjoy the storytime fun and then stay for a nice walk around the lake. Storytime begins at 9:45am. Invite a friend and join. \n 
URL:https://thepinestimes.com/event/spring-pop-up-storytime/2025-08-20/
LOCATION:Southern Pines Reservoir Park\, 300 Reservoir Park Dr.\, Southern Pines\, NC\, 28387\, United States
CATEGORIES:Children,Educational,Family,Games,Hobby/Enthusiast,Live Entertainment,Nature/Outdoors,Pinehurst Events,Piney's Kids,Piney's Tiny's,Social
ATTACH;FMTTYPE=image/jpeg:https://thepinestimes.com/wp-content/uploads/Dandelions-feature.jpg
END:VEVENT
BEGIN:VEVENT
DTSTART;TZID=America/New_York:20250813T094500
DTEND;TZID=America/New_York:20250813T094500
DTSTAMP:20260421T220333
CREATED:20240329T132519Z
LAST-MODIFIED:20250813T142931Z
UID:10061282-1755078300-1755078300@thepinestimes.com
SUMMARY:Pop Up Storytime
DESCRIPTION:Come out for Pop Up Summer Storytimes with Dandelions Learning Community\, LLC at Reservoir Park! Summer dates coincide with the Walking Wednesday club with Sandhills Friends and Moore For Mamas groups. Enjoy the storytime fun and then stay for a nice walk around the lake. Storytime begins at 9:45am. Invite a friend and join. \n 
URL:https://thepinestimes.com/event/spring-pop-up-storytime/2025-08-13/
LOCATION:Southern Pines Reservoir Park\, 300 Reservoir Park Dr.\, Southern Pines\, NC\, 28387\, United States
CATEGORIES:Children,Educational,Family,Games,Hobby/Enthusiast,Live Entertainment,Nature/Outdoors,Pinehurst Events,Piney's Kids,Piney's Tiny's,Social
ATTACH;FMTTYPE=image/jpeg:https://thepinestimes.com/wp-content/uploads/Dandelions-feature.jpg
END:VEVENT
BEGIN:VEVENT
DTSTART;TZID=America/New_York:20250723T094500
DTEND;TZID=America/New_York:20250723T094500
DTSTAMP:20260421T220333
CREATED:20240329T132519Z
LAST-MODIFIED:20250813T142931Z
UID:10061281-1753263900-1753263900@thepinestimes.com
SUMMARY:Pop Up Storytime
DESCRIPTION:Come out for Pop Up Summer Storytimes with Dandelions Learning Community\, LLC at Reservoir Park! Summer dates coincide with the Walking Wednesday club with Sandhills Friends and Moore For Mamas groups. Enjoy the storytime fun and then stay for a nice walk around the lake. Storytime begins at 9:45am. Invite a friend and join. \n 
URL:https://thepinestimes.com/event/spring-pop-up-storytime/2025-07-23/
LOCATION:Southern Pines Reservoir Park\, 300 Reservoir Park Dr.\, Southern Pines\, NC\, 28387\, United States
CATEGORIES:Children,Educational,Family,Games,Hobby/Enthusiast,Live Entertainment,Nature/Outdoors,Pinehurst Events,Piney's Kids,Piney's Tiny's,Social
ATTACH;FMTTYPE=image/jpeg:https://thepinestimes.com/wp-content/uploads/Dandelions-feature.jpg
END:VEVENT
BEGIN:VEVENT
DTSTART;TZID=America/New_York:20250716T094500
DTEND;TZID=America/New_York:20250716T094500
DTSTAMP:20260421T220333
CREATED:20240329T132519Z
LAST-MODIFIED:20250813T142931Z
UID:10061280-1752659100-1752659100@thepinestimes.com
SUMMARY:Pop Up Storytime
DESCRIPTION:Come out for Pop Up Summer Storytimes with Dandelions Learning Community\, LLC at Reservoir Park! Summer dates coincide with the Walking Wednesday club with Sandhills Friends and Moore For Mamas groups. Enjoy the storytime fun and then stay for a nice walk around the lake. Storytime begins at 9:45am. Invite a friend and join. \n 
URL:https://thepinestimes.com/event/spring-pop-up-storytime/2025-07-16/
LOCATION:Southern Pines Reservoir Park\, 300 Reservoir Park Dr.\, Southern Pines\, NC\, 28387\, United States
CATEGORIES:Children,Educational,Family,Games,Hobby/Enthusiast,Live Entertainment,Nature/Outdoors,Pinehurst Events,Piney's Kids,Piney's Tiny's,Social
ATTACH;FMTTYPE=image/jpeg:https://thepinestimes.com/wp-content/uploads/Dandelions-feature.jpg
END:VEVENT
BEGIN:VEVENT
DTSTART;TZID=America/New_York:20250709T094500
DTEND;TZID=America/New_York:20250709T094500
DTSTAMP:20260421T220333
CREATED:20240329T132519Z
LAST-MODIFIED:20250813T142931Z
UID:10061279-1752054300-1752054300@thepinestimes.com
SUMMARY:Pop Up Storytime
DESCRIPTION:Come out for Pop Up Summer Storytimes with Dandelions Learning Community\, LLC at Reservoir Park! Summer dates coincide with the Walking Wednesday club with Sandhills Friends and Moore For Mamas groups. Enjoy the storytime fun and then stay for a nice walk around the lake. Storytime begins at 9:45am. Invite a friend and join. \n 
URL:https://thepinestimes.com/event/spring-pop-up-storytime/2025-07-09/
LOCATION:Southern Pines Reservoir Park\, 300 Reservoir Park Dr.\, Southern Pines\, NC\, 28387\, United States
CATEGORIES:Children,Educational,Family,Games,Hobby/Enthusiast,Live Entertainment,Nature/Outdoors,Pinehurst Events,Piney's Kids,Piney's Tiny's,Social
ATTACH;FMTTYPE=image/jpeg:https://thepinestimes.com/wp-content/uploads/Dandelions-feature.jpg
END:VEVENT
BEGIN:VEVENT
DTSTART;TZID=America/New_York:20250618T094500
DTEND;TZID=America/New_York:20250618T094500
DTSTAMP:20260421T220333
CREATED:20240329T132519Z
LAST-MODIFIED:20250813T142931Z
UID:10061277-1750239900-1750239900@thepinestimes.com
SUMMARY:Pop Up Storytime
DESCRIPTION:Come out for Pop Up Summer Storytimes with Dandelions Learning Community\, LLC at Reservoir Park! Summer dates coincide with the Walking Wednesday club with Sandhills Friends and Moore For Mamas groups. Enjoy the storytime fun and then stay for a nice walk around the lake. Storytime begins at 9:45am. Invite a friend and join. \n 
URL:https://thepinestimes.com/event/spring-pop-up-storytime/2025-06-18/
LOCATION:Southern Pines Reservoir Park\, 300 Reservoir Park Dr.\, Southern Pines\, NC\, 28387\, United States
CATEGORIES:Children,Educational,Family,Games,Hobby/Enthusiast,Live Entertainment,Nature/Outdoors,Pinehurst Events,Piney's Kids,Piney's Tiny's,Social
ATTACH;FMTTYPE=image/jpeg:https://thepinestimes.com/wp-content/uploads/Dandelions-feature.jpg
END:VEVENT
END:VCALENDAR