BEGIN:VCALENDAR
VERSION:2.0
PRODID:-//The Pines Times - ECPv6.15.20//NONSGML v1.0//EN
CALSCALE:GREGORIAN
METHOD:PUBLISH
X-WR-CALNAME:The Pines Times
X-ORIGINAL-URL:https://thepinestimes.com
X-WR-CALDESC:Events for The Pines Times
REFRESH-INTERVAL;VALUE=DURATION:PT1H
X-Robots-Tag:noindex
X-PUBLISHED-TTL:PT1H
BEGIN:VTIMEZONE
TZID:America/New_York
BEGIN:DAYLIGHT
TZOFFSETFROM:-0500
TZOFFSETTO:-0400
TZNAME:EDT
DTSTART:20250309T070000
END:DAYLIGHT
BEGIN:STANDARD
TZOFFSETFROM:-0400
TZOFFSETTO:-0500
TZNAME:EST
DTSTART:20251102T060000
END:STANDARD
BEGIN:DAYLIGHT
TZOFFSETFROM:-0500
TZOFFSETTO:-0400
TZNAME:EDT
DTSTART:20260308T070000
END:DAYLIGHT
BEGIN:STANDARD
TZOFFSETFROM:-0400
TZOFFSETTO:-0500
TZNAME:EST
DTSTART:20261101T060000
END:STANDARD
BEGIN:DAYLIGHT
TZOFFSETFROM:-0500
TZOFFSETTO:-0400
TZNAME:EDT
DTSTART:20270314T070000
END:DAYLIGHT
BEGIN:STANDARD
TZOFFSETFROM:-0400
TZOFFSETTO:-0500
TZNAME:EST
DTSTART:20271107T060000
END:STANDARD
END:VTIMEZONE
BEGIN:VEVENT
DTSTART;TZID=America/New_York:20260422T180000
DTEND;TZID=America/New_York:20260422T200000
DTSTAMP:20260421T063732
CREATED:20260407T152405Z
LAST-MODIFIED:20260407T152405Z
UID:10086507-1776880800-1776888000@thepinestimes.com
SUMMARY:Ladies Night at the Dub Social Mixer
DESCRIPTION:Join Women Who Golf powered by GolfGrinders for a Ladies Night at the Dub social mixer on Wednesday\, April 22nd\, from 6PM-8PM at Double Eagle Indoor Golf and Lounge. This information session with the GolfGrinders local community group includes beverages\, appetizers\, and time to play a course or games on the simulators. RSVP using the QR code provided on the flyer so the hosts can ensure there are enough munchies on hand for everyone.
URL:https://thepinestimes.com/event/ladies-night-at-the-dub-social-mixer/
LOCATION:Double Eagle Indoor Golf & Lounge\, 208 Brucewood Road\, Southern Pines\, 28387\, United States
CATEGORIES:Adults,Classes/Workshops,Food,Golf,Senior,Social,Sports,Women,Young Adults
ATTACH;FMTTYPE=image/jpeg:https://thepinestimes.com/wp-content/uploads/DoubleEagleLadiesNightFeature.jpg
ORGANIZER;CN="Double Eagle Indoor Golf and Lounge":MAILTO:golfpros@doubleeaglenc.com
END:VEVENT
END:VCALENDAR