BEGIN:VCALENDAR
VERSION:2.0
PRODID:-//The Pines Times - ECPv6.15.20//NONSGML v1.0//EN
CALSCALE:GREGORIAN
METHOD:PUBLISH
X-ORIGINAL-URL:https://thepinestimes.com
X-WR-CALDESC:Events for The Pines Times
REFRESH-INTERVAL;VALUE=DURATION:PT1H
X-Robots-Tag:noindex
X-PUBLISHED-TTL:PT1H
BEGIN:VTIMEZONE
TZID:America/New_York
BEGIN:DAYLIGHT
TZOFFSETFROM:-0500
TZOFFSETTO:-0400
TZNAME:EDT
DTSTART:20240310T070000
END:DAYLIGHT
BEGIN:STANDARD
TZOFFSETFROM:-0400
TZOFFSETTO:-0500
TZNAME:EST
DTSTART:20241103T060000
END:STANDARD
BEGIN:DAYLIGHT
TZOFFSETFROM:-0500
TZOFFSETTO:-0400
TZNAME:EDT
DTSTART:20250309T070000
END:DAYLIGHT
BEGIN:STANDARD
TZOFFSETFROM:-0400
TZOFFSETTO:-0500
TZNAME:EST
DTSTART:20251102T060000
END:STANDARD
BEGIN:DAYLIGHT
TZOFFSETFROM:-0500
TZOFFSETTO:-0400
TZNAME:EDT
DTSTART:20260308T070000
END:DAYLIGHT
BEGIN:STANDARD
TZOFFSETFROM:-0400
TZOFFSETTO:-0500
TZNAME:EST
DTSTART:20261101T060000
END:STANDARD
END:VTIMEZONE
BEGIN:VEVENT
DTSTART;TZID=America/New_York:20251213T120000
DTEND;TZID=America/New_York:20251213T170000
DTSTAMP:20260421T105458
CREATED:20231107T173144Z
LAST-MODIFIED:20251031T154204Z
UID:10074110-1765627200-1765645200@thepinestimes.com
SUMMARY:Dashing Through Downtown Carthage 2025
DESCRIPTION:Take part in the fourth annual Dashing Through Downtown Carthage Holiday event! Shop local this holiday season for a chance to win Downtown Dollars and prizes from the participating merchants. Dashing Through Downtown runs November 1st-December 13th! Enjoy the holiday shopping\, dining and entertainment throughout Historic Downtown Carthage! Enjoy specials\, giveaways and surprises all season long. Visit the local shops and get your lunch card started for the chance to win dashing dollars\, new tires and gifts from your Carthage businesses! \n \n 
URL:https://thepinestimes.com/event/dashing-through-downtown-carthage-2025/2025-12-13/
LOCATION:Downtown Carthage\, 1 Courthouse Square\, Carthage\, NC\, 28327\, United States
CATEGORIES:Adults,Carthage Events,Christmas,Hobby/Enthusiast,Holiday Events,Senior,Shopping,Social,Thanksgiving
ATTACH;FMTTYPE=image/jpeg:https://thepinestimes.com/wp-content/uploads/DashingThroughDowntownCarthageFeature.jpg
END:VEVENT
BEGIN:VEVENT
DTSTART;TZID=America/New_York:20251210T120000
DTEND;TZID=America/New_York:20251210T170000
DTSTAMP:20260421T105458
CREATED:20231107T173144Z
LAST-MODIFIED:20251031T154204Z
UID:10074109-1765368000-1765386000@thepinestimes.com
SUMMARY:Dashing Through Downtown Carthage 2025
DESCRIPTION:Take part in the fourth annual Dashing Through Downtown Carthage Holiday event! Shop local this holiday season for a chance to win Downtown Dollars and prizes from the participating merchants. Dashing Through Downtown runs November 1st-December 13th! Enjoy the holiday shopping\, dining and entertainment throughout Historic Downtown Carthage! Enjoy specials\, giveaways and surprises all season long. Visit the local shops and get your lunch card started for the chance to win dashing dollars\, new tires and gifts from your Carthage businesses! \n \n 
URL:https://thepinestimes.com/event/dashing-through-downtown-carthage-2025/2025-12-10/
LOCATION:Downtown Carthage\, 1 Courthouse Square\, Carthage\, NC\, 28327\, United States
CATEGORIES:Adults,Carthage Events,Christmas,Hobby/Enthusiast,Holiday Events,Senior,Shopping,Social,Thanksgiving
ATTACH;FMTTYPE=image/jpeg:https://thepinestimes.com/wp-content/uploads/DashingThroughDowntownCarthageFeature.jpg
END:VEVENT
BEGIN:VEVENT
DTSTART;TZID=America/New_York:20251207T120000
DTEND;TZID=America/New_York:20251207T170000
DTSTAMP:20260421T105458
CREATED:20231107T173144Z
LAST-MODIFIED:20251031T154204Z
UID:10074108-1765108800-1765126800@thepinestimes.com
SUMMARY:Dashing Through Downtown Carthage 2025
DESCRIPTION:Take part in the fourth annual Dashing Through Downtown Carthage Holiday event! Shop local this holiday season for a chance to win Downtown Dollars and prizes from the participating merchants. Dashing Through Downtown runs November 1st-December 13th! Enjoy the holiday shopping\, dining and entertainment throughout Historic Downtown Carthage! Enjoy specials\, giveaways and surprises all season long. Visit the local shops and get your lunch card started for the chance to win dashing dollars\, new tires and gifts from your Carthage businesses! \n \n 
URL:https://thepinestimes.com/event/dashing-through-downtown-carthage-2025/2025-12-07/
LOCATION:Downtown Carthage\, 1 Courthouse Square\, Carthage\, NC\, 28327\, United States
CATEGORIES:Adults,Carthage Events,Christmas,Hobby/Enthusiast,Holiday Events,Senior,Shopping,Social,Thanksgiving
ATTACH;FMTTYPE=image/jpeg:https://thepinestimes.com/wp-content/uploads/DashingThroughDowntownCarthageFeature.jpg
END:VEVENT
BEGIN:VEVENT
DTSTART;TZID=America/New_York:20251206T120000
DTEND;TZID=America/New_York:20251206T170000
DTSTAMP:20260421T105458
CREATED:20231107T173144Z
LAST-MODIFIED:20251031T154204Z
UID:10074107-1765022400-1765040400@thepinestimes.com
SUMMARY:Dashing Through Downtown Carthage 2025
DESCRIPTION:Take part in the fourth annual Dashing Through Downtown Carthage Holiday event! Shop local this holiday season for a chance to win Downtown Dollars and prizes from the participating merchants. Dashing Through Downtown runs November 1st-December 13th! Enjoy the holiday shopping\, dining and entertainment throughout Historic Downtown Carthage! Enjoy specials\, giveaways and surprises all season long. Visit the local shops and get your lunch card started for the chance to win dashing dollars\, new tires and gifts from your Carthage businesses! \n \n 
URL:https://thepinestimes.com/event/dashing-through-downtown-carthage-2025/2025-12-06/
LOCATION:Downtown Carthage\, 1 Courthouse Square\, Carthage\, NC\, 28327\, United States
CATEGORIES:Adults,Carthage Events,Christmas,Hobby/Enthusiast,Holiday Events,Senior,Shopping,Social,Thanksgiving
ATTACH;FMTTYPE=image/jpeg:https://thepinestimes.com/wp-content/uploads/DashingThroughDowntownCarthageFeature.jpg
END:VEVENT
BEGIN:VEVENT
DTSTART;TZID=America/New_York:20251203T120000
DTEND;TZID=America/New_York:20251203T170000
DTSTAMP:20260421T105458
CREATED:20231107T173144Z
LAST-MODIFIED:20251031T154204Z
UID:10074106-1764763200-1764781200@thepinestimes.com
SUMMARY:Dashing Through Downtown Carthage 2025
DESCRIPTION:Take part in the fourth annual Dashing Through Downtown Carthage Holiday event! Shop local this holiday season for a chance to win Downtown Dollars and prizes from the participating merchants. Dashing Through Downtown runs November 1st-December 13th! Enjoy the holiday shopping\, dining and entertainment throughout Historic Downtown Carthage! Enjoy specials\, giveaways and surprises all season long. Visit the local shops and get your lunch card started for the chance to win dashing dollars\, new tires and gifts from your Carthage businesses! \n \n 
URL:https://thepinestimes.com/event/dashing-through-downtown-carthage-2025/2025-12-03/
LOCATION:Downtown Carthage\, 1 Courthouse Square\, Carthage\, NC\, 28327\, United States
CATEGORIES:Adults,Carthage Events,Christmas,Hobby/Enthusiast,Holiday Events,Senior,Shopping,Social,Thanksgiving
ATTACH;FMTTYPE=image/jpeg:https://thepinestimes.com/wp-content/uploads/DashingThroughDowntownCarthageFeature.jpg
END:VEVENT
BEGIN:VEVENT
DTSTART;TZID=America/New_York:20251130T120000
DTEND;TZID=America/New_York:20251130T170000
DTSTAMP:20260421T105458
CREATED:20231107T173144Z
LAST-MODIFIED:20251031T154204Z
UID:10074105-1764504000-1764522000@thepinestimes.com
SUMMARY:Dashing Through Downtown Carthage 2025
DESCRIPTION:Take part in the fourth annual Dashing Through Downtown Carthage Holiday event! Shop local this holiday season for a chance to win Downtown Dollars and prizes from the participating merchants. Dashing Through Downtown runs November 1st-December 13th! Enjoy the holiday shopping\, dining and entertainment throughout Historic Downtown Carthage! Enjoy specials\, giveaways and surprises all season long. Visit the local shops and get your lunch card started for the chance to win dashing dollars\, new tires and gifts from your Carthage businesses! \n \n 
URL:https://thepinestimes.com/event/dashing-through-downtown-carthage-2025/2025-11-30/
LOCATION:Downtown Carthage\, 1 Courthouse Square\, Carthage\, NC\, 28327\, United States
CATEGORIES:Adults,Carthage Events,Christmas,Hobby/Enthusiast,Holiday Events,Senior,Shopping,Social,Thanksgiving
ATTACH;FMTTYPE=image/jpeg:https://thepinestimes.com/wp-content/uploads/DashingThroughDowntownCarthageFeature.jpg
END:VEVENT
BEGIN:VEVENT
DTSTART;TZID=America/New_York:20251129T120000
DTEND;TZID=America/New_York:20251129T170000
DTSTAMP:20260421T105458
CREATED:20231107T173144Z
LAST-MODIFIED:20251031T154204Z
UID:10074104-1764417600-1764435600@thepinestimes.com
SUMMARY:Dashing Through Downtown Carthage 2025
DESCRIPTION:Take part in the fourth annual Dashing Through Downtown Carthage Holiday event! Shop local this holiday season for a chance to win Downtown Dollars and prizes from the participating merchants. Dashing Through Downtown runs November 1st-December 13th! Enjoy the holiday shopping\, dining and entertainment throughout Historic Downtown Carthage! Enjoy specials\, giveaways and surprises all season long. Visit the local shops and get your lunch card started for the chance to win dashing dollars\, new tires and gifts from your Carthage businesses! \n \n 
URL:https://thepinestimes.com/event/dashing-through-downtown-carthage-2025/2025-11-29/
LOCATION:Downtown Carthage\, 1 Courthouse Square\, Carthage\, NC\, 28327\, United States
CATEGORIES:Adults,Carthage Events,Christmas,Hobby/Enthusiast,Holiday Events,Senior,Shopping,Social,Thanksgiving
ATTACH;FMTTYPE=image/jpeg:https://thepinestimes.com/wp-content/uploads/DashingThroughDowntownCarthageFeature.jpg
END:VEVENT
BEGIN:VEVENT
DTSTART;TZID=America/New_York:20251126T120000
DTEND;TZID=America/New_York:20251126T170000
DTSTAMP:20260421T105458
CREATED:20231107T173144Z
LAST-MODIFIED:20251031T154204Z
UID:10074103-1764158400-1764176400@thepinestimes.com
SUMMARY:Dashing Through Downtown Carthage 2025
DESCRIPTION:Take part in the fourth annual Dashing Through Downtown Carthage Holiday event! Shop local this holiday season for a chance to win Downtown Dollars and prizes from the participating merchants. Dashing Through Downtown runs November 1st-December 13th! Enjoy the holiday shopping\, dining and entertainment throughout Historic Downtown Carthage! Enjoy specials\, giveaways and surprises all season long. Visit the local shops and get your lunch card started for the chance to win dashing dollars\, new tires and gifts from your Carthage businesses! \n \n 
URL:https://thepinestimes.com/event/dashing-through-downtown-carthage-2025/2025-11-26/
LOCATION:Downtown Carthage\, 1 Courthouse Square\, Carthage\, NC\, 28327\, United States
CATEGORIES:Adults,Carthage Events,Christmas,Hobby/Enthusiast,Holiday Events,Senior,Shopping,Social,Thanksgiving
ATTACH;FMTTYPE=image/jpeg:https://thepinestimes.com/wp-content/uploads/DashingThroughDowntownCarthageFeature.jpg
END:VEVENT
BEGIN:VEVENT
DTSTART;TZID=America/New_York:20251123T120000
DTEND;TZID=America/New_York:20251123T170000
DTSTAMP:20260421T105458
CREATED:20231107T173144Z
LAST-MODIFIED:20251031T154204Z
UID:10074102-1763899200-1763917200@thepinestimes.com
SUMMARY:Dashing Through Downtown Carthage 2025
DESCRIPTION:Take part in the fourth annual Dashing Through Downtown Carthage Holiday event! Shop local this holiday season for a chance to win Downtown Dollars and prizes from the participating merchants. Dashing Through Downtown runs November 1st-December 13th! Enjoy the holiday shopping\, dining and entertainment throughout Historic Downtown Carthage! Enjoy specials\, giveaways and surprises all season long. Visit the local shops and get your lunch card started for the chance to win dashing dollars\, new tires and gifts from your Carthage businesses! \n \n 
URL:https://thepinestimes.com/event/dashing-through-downtown-carthage-2025/2025-11-23/
LOCATION:Downtown Carthage\, 1 Courthouse Square\, Carthage\, NC\, 28327\, United States
CATEGORIES:Adults,Carthage Events,Christmas,Hobby/Enthusiast,Holiday Events,Senior,Shopping,Social,Thanksgiving
ATTACH;FMTTYPE=image/jpeg:https://thepinestimes.com/wp-content/uploads/DashingThroughDowntownCarthageFeature.jpg
END:VEVENT
BEGIN:VEVENT
DTSTART;TZID=America/New_York:20251122T120000
DTEND;TZID=America/New_York:20251122T170000
DTSTAMP:20260421T105458
CREATED:20231107T173144Z
LAST-MODIFIED:20251031T154204Z
UID:10074101-1763812800-1763830800@thepinestimes.com
SUMMARY:Dashing Through Downtown Carthage 2025
DESCRIPTION:Take part in the fourth annual Dashing Through Downtown Carthage Holiday event! Shop local this holiday season for a chance to win Downtown Dollars and prizes from the participating merchants. Dashing Through Downtown runs November 1st-December 13th! Enjoy the holiday shopping\, dining and entertainment throughout Historic Downtown Carthage! Enjoy specials\, giveaways and surprises all season long. Visit the local shops and get your lunch card started for the chance to win dashing dollars\, new tires and gifts from your Carthage businesses! \n \n 
URL:https://thepinestimes.com/event/dashing-through-downtown-carthage-2025/2025-11-22/
LOCATION:Downtown Carthage\, 1 Courthouse Square\, Carthage\, NC\, 28327\, United States
CATEGORIES:Adults,Carthage Events,Christmas,Hobby/Enthusiast,Holiday Events,Senior,Shopping,Social,Thanksgiving
ATTACH;FMTTYPE=image/jpeg:https://thepinestimes.com/wp-content/uploads/DashingThroughDowntownCarthageFeature.jpg
END:VEVENT
BEGIN:VEVENT
DTSTART;TZID=America/New_York:20251119T120000
DTEND;TZID=America/New_York:20251119T170000
DTSTAMP:20260421T105458
CREATED:20231107T173144Z
LAST-MODIFIED:20251031T154204Z
UID:10074100-1763553600-1763571600@thepinestimes.com
SUMMARY:Dashing Through Downtown Carthage 2025
DESCRIPTION:Take part in the fourth annual Dashing Through Downtown Carthage Holiday event! Shop local this holiday season for a chance to win Downtown Dollars and prizes from the participating merchants. Dashing Through Downtown runs November 1st-December 13th! Enjoy the holiday shopping\, dining and entertainment throughout Historic Downtown Carthage! Enjoy specials\, giveaways and surprises all season long. Visit the local shops and get your lunch card started for the chance to win dashing dollars\, new tires and gifts from your Carthage businesses! \n \n 
URL:https://thepinestimes.com/event/dashing-through-downtown-carthage-2025/2025-11-19/
LOCATION:Downtown Carthage\, 1 Courthouse Square\, Carthage\, NC\, 28327\, United States
CATEGORIES:Adults,Carthage Events,Christmas,Hobby/Enthusiast,Holiday Events,Senior,Shopping,Social,Thanksgiving
ATTACH;FMTTYPE=image/jpeg:https://thepinestimes.com/wp-content/uploads/DashingThroughDowntownCarthageFeature.jpg
END:VEVENT
BEGIN:VEVENT
DTSTART;TZID=America/New_York:20251116T120000
DTEND;TZID=America/New_York:20251116T170000
DTSTAMP:20260421T105458
CREATED:20231107T173144Z
LAST-MODIFIED:20251031T154204Z
UID:10074099-1763294400-1763312400@thepinestimes.com
SUMMARY:Dashing Through Downtown Carthage 2025
DESCRIPTION:Take part in the fourth annual Dashing Through Downtown Carthage Holiday event! Shop local this holiday season for a chance to win Downtown Dollars and prizes from the participating merchants. Dashing Through Downtown runs November 1st-December 13th! Enjoy the holiday shopping\, dining and entertainment throughout Historic Downtown Carthage! Enjoy specials\, giveaways and surprises all season long. Visit the local shops and get your lunch card started for the chance to win dashing dollars\, new tires and gifts from your Carthage businesses! \n \n 
URL:https://thepinestimes.com/event/dashing-through-downtown-carthage-2025/2025-11-16/
LOCATION:Downtown Carthage\, 1 Courthouse Square\, Carthage\, NC\, 28327\, United States
CATEGORIES:Adults,Carthage Events,Christmas,Hobby/Enthusiast,Holiday Events,Senior,Shopping,Social,Thanksgiving
ATTACH;FMTTYPE=image/jpeg:https://thepinestimes.com/wp-content/uploads/DashingThroughDowntownCarthageFeature.jpg
END:VEVENT
BEGIN:VEVENT
DTSTART;TZID=America/New_York:20251115T120000
DTEND;TZID=America/New_York:20251115T170000
DTSTAMP:20260421T105458
CREATED:20231107T173144Z
LAST-MODIFIED:20251031T154204Z
UID:10074098-1763208000-1763226000@thepinestimes.com
SUMMARY:Dashing Through Downtown Carthage 2025
DESCRIPTION:Take part in the fourth annual Dashing Through Downtown Carthage Holiday event! Shop local this holiday season for a chance to win Downtown Dollars and prizes from the participating merchants. Dashing Through Downtown runs November 1st-December 13th! Enjoy the holiday shopping\, dining and entertainment throughout Historic Downtown Carthage! Enjoy specials\, giveaways and surprises all season long. Visit the local shops and get your lunch card started for the chance to win dashing dollars\, new tires and gifts from your Carthage businesses! \n \n 
URL:https://thepinestimes.com/event/dashing-through-downtown-carthage-2025/2025-11-15/
LOCATION:Downtown Carthage\, 1 Courthouse Square\, Carthage\, NC\, 28327\, United States
CATEGORIES:Adults,Carthage Events,Christmas,Hobby/Enthusiast,Holiday Events,Senior,Shopping,Social,Thanksgiving
ATTACH;FMTTYPE=image/jpeg:https://thepinestimes.com/wp-content/uploads/DashingThroughDowntownCarthageFeature.jpg
END:VEVENT
BEGIN:VEVENT
DTSTART;TZID=America/New_York:20251112T120000
DTEND;TZID=America/New_York:20251112T170000
DTSTAMP:20260421T105458
CREATED:20231107T173144Z
LAST-MODIFIED:20251031T154204Z
UID:10074097-1762948800-1762966800@thepinestimes.com
SUMMARY:Dashing Through Downtown Carthage 2025
DESCRIPTION:Take part in the fourth annual Dashing Through Downtown Carthage Holiday event! Shop local this holiday season for a chance to win Downtown Dollars and prizes from the participating merchants. Dashing Through Downtown runs November 1st-December 13th! Enjoy the holiday shopping\, dining and entertainment throughout Historic Downtown Carthage! Enjoy specials\, giveaways and surprises all season long. Visit the local shops and get your lunch card started for the chance to win dashing dollars\, new tires and gifts from your Carthage businesses! \n \n 
URL:https://thepinestimes.com/event/dashing-through-downtown-carthage-2025/2025-11-12/
LOCATION:Downtown Carthage\, 1 Courthouse Square\, Carthage\, NC\, 28327\, United States
CATEGORIES:Adults,Carthage Events,Christmas,Hobby/Enthusiast,Holiday Events,Senior,Shopping,Social,Thanksgiving
ATTACH;FMTTYPE=image/jpeg:https://thepinestimes.com/wp-content/uploads/DashingThroughDowntownCarthageFeature.jpg
END:VEVENT
BEGIN:VEVENT
DTSTART;TZID=America/New_York:20251109T120000
DTEND;TZID=America/New_York:20251109T170000
DTSTAMP:20260421T105458
CREATED:20231107T173144Z
LAST-MODIFIED:20251031T154204Z
UID:10074096-1762689600-1762707600@thepinestimes.com
SUMMARY:Dashing Through Downtown Carthage 2025
DESCRIPTION:Take part in the fourth annual Dashing Through Downtown Carthage Holiday event! Shop local this holiday season for a chance to win Downtown Dollars and prizes from the participating merchants. Dashing Through Downtown runs November 1st-December 13th! Enjoy the holiday shopping\, dining and entertainment throughout Historic Downtown Carthage! Enjoy specials\, giveaways and surprises all season long. Visit the local shops and get your lunch card started for the chance to win dashing dollars\, new tires and gifts from your Carthage businesses! \n \n 
URL:https://thepinestimes.com/event/dashing-through-downtown-carthage-2025/2025-11-09/
LOCATION:Downtown Carthage\, 1 Courthouse Square\, Carthage\, NC\, 28327\, United States
CATEGORIES:Adults,Carthage Events,Christmas,Hobby/Enthusiast,Holiday Events,Senior,Shopping,Social,Thanksgiving
ATTACH;FMTTYPE=image/jpeg:https://thepinestimes.com/wp-content/uploads/DashingThroughDowntownCarthageFeature.jpg
END:VEVENT
BEGIN:VEVENT
DTSTART;TZID=America/New_York:20251108T120000
DTEND;TZID=America/New_York:20251108T170000
DTSTAMP:20260421T105458
CREATED:20231107T173144Z
LAST-MODIFIED:20251031T154204Z
UID:10074095-1762603200-1762621200@thepinestimes.com
SUMMARY:Dashing Through Downtown Carthage 2025
DESCRIPTION:Take part in the fourth annual Dashing Through Downtown Carthage Holiday event! Shop local this holiday season for a chance to win Downtown Dollars and prizes from the participating merchants. Dashing Through Downtown runs November 1st-December 13th! Enjoy the holiday shopping\, dining and entertainment throughout Historic Downtown Carthage! Enjoy specials\, giveaways and surprises all season long. Visit the local shops and get your lunch card started for the chance to win dashing dollars\, new tires and gifts from your Carthage businesses! \n \n 
URL:https://thepinestimes.com/event/dashing-through-downtown-carthage-2025/2025-11-08/
LOCATION:Downtown Carthage\, 1 Courthouse Square\, Carthage\, NC\, 28327\, United States
CATEGORIES:Adults,Carthage Events,Christmas,Hobby/Enthusiast,Holiday Events,Senior,Shopping,Social,Thanksgiving
ATTACH;FMTTYPE=image/jpeg:https://thepinestimes.com/wp-content/uploads/DashingThroughDowntownCarthageFeature.jpg
END:VEVENT
BEGIN:VEVENT
DTSTART;TZID=America/New_York:20251105T120000
DTEND;TZID=America/New_York:20251105T170000
DTSTAMP:20260421T105458
CREATED:20231107T173144Z
LAST-MODIFIED:20251031T154204Z
UID:10074094-1762344000-1762362000@thepinestimes.com
SUMMARY:Dashing Through Downtown Carthage 2025
DESCRIPTION:Take part in the fourth annual Dashing Through Downtown Carthage Holiday event! Shop local this holiday season for a chance to win Downtown Dollars and prizes from the participating merchants. Dashing Through Downtown runs November 1st-December 13th! Enjoy the holiday shopping\, dining and entertainment throughout Historic Downtown Carthage! Enjoy specials\, giveaways and surprises all season long. Visit the local shops and get your lunch card started for the chance to win dashing dollars\, new tires and gifts from your Carthage businesses! \n \n 
URL:https://thepinestimes.com/event/dashing-through-downtown-carthage-2025/2025-11-05/
LOCATION:Downtown Carthage\, 1 Courthouse Square\, Carthage\, NC\, 28327\, United States
CATEGORIES:Adults,Carthage Events,Christmas,Hobby/Enthusiast,Holiday Events,Senior,Shopping,Social,Thanksgiving
ATTACH;FMTTYPE=image/jpeg:https://thepinestimes.com/wp-content/uploads/DashingThroughDowntownCarthageFeature.jpg
END:VEVENT
BEGIN:VEVENT
DTSTART;TZID=America/New_York:20251102T120000
DTEND;TZID=America/New_York:20251102T170000
DTSTAMP:20260421T105458
CREATED:20231107T173144Z
LAST-MODIFIED:20251031T154204Z
UID:10074093-1762084800-1762102800@thepinestimes.com
SUMMARY:Dashing Through Downtown Carthage 2025
DESCRIPTION:Take part in the fourth annual Dashing Through Downtown Carthage Holiday event! Shop local this holiday season for a chance to win Downtown Dollars and prizes from the participating merchants. Dashing Through Downtown runs November 1st-December 13th! Enjoy the holiday shopping\, dining and entertainment throughout Historic Downtown Carthage! Enjoy specials\, giveaways and surprises all season long. Visit the local shops and get your lunch card started for the chance to win dashing dollars\, new tires and gifts from your Carthage businesses! \n \n 
URL:https://thepinestimes.com/event/dashing-through-downtown-carthage-2025/2025-11-02/
LOCATION:Downtown Carthage\, 1 Courthouse Square\, Carthage\, NC\, 28327\, United States
CATEGORIES:Adults,Carthage Events,Christmas,Hobby/Enthusiast,Holiday Events,Senior,Shopping,Social,Thanksgiving
ATTACH;FMTTYPE=image/jpeg:https://thepinestimes.com/wp-content/uploads/DashingThroughDowntownCarthageFeature.jpg
END:VEVENT
BEGIN:VEVENT
DTSTART;TZID=America/New_York:20251101T120000
DTEND;TZID=America/New_York:20251101T170000
DTSTAMP:20260421T105458
CREATED:20231107T173144Z
LAST-MODIFIED:20251031T154204Z
UID:10074092-1761998400-1762016400@thepinestimes.com
SUMMARY:Dashing Through Downtown Carthage 2025
DESCRIPTION:Take part in the fourth annual Dashing Through Downtown Carthage Holiday event! Shop local this holiday season for a chance to win Downtown Dollars and prizes from the participating merchants. Dashing Through Downtown runs November 1st-December 13th! Enjoy the holiday shopping\, dining and entertainment throughout Historic Downtown Carthage! Enjoy specials\, giveaways and surprises all season long. Visit the local shops and get your lunch card started for the chance to win dashing dollars\, new tires and gifts from your Carthage businesses! \n \n 
URL:https://thepinestimes.com/event/dashing-through-downtown-carthage-2025/2025-11-01/
LOCATION:Downtown Carthage\, 1 Courthouse Square\, Carthage\, NC\, 28327\, United States
CATEGORIES:Adults,Carthage Events,Christmas,Hobby/Enthusiast,Holiday Events,Senior,Shopping,Social,Thanksgiving
ATTACH;FMTTYPE=image/jpeg:https://thepinestimes.com/wp-content/uploads/DashingThroughDowntownCarthageFeature.jpg
END:VEVENT
END:VCALENDAR