BEGIN:VCALENDAR
VERSION:2.0
PRODID:-//The Pines Times - ECPv6.15.20//NONSGML v1.0//EN
CALSCALE:GREGORIAN
METHOD:PUBLISH
X-WR-CALNAME:The Pines Times
X-ORIGINAL-URL:https://thepinestimes.com
X-WR-CALDESC:Events for The Pines Times
REFRESH-INTERVAL;VALUE=DURATION:PT1H
X-Robots-Tag:noindex
X-PUBLISHED-TTL:PT1H
BEGIN:VTIMEZONE
TZID:America/New_York
BEGIN:DAYLIGHT
TZOFFSETFROM:-0500
TZOFFSETTO:-0400
TZNAME:EDT
DTSTART:20240310T070000
END:DAYLIGHT
BEGIN:STANDARD
TZOFFSETFROM:-0400
TZOFFSETTO:-0500
TZNAME:EST
DTSTART:20241103T060000
END:STANDARD
BEGIN:DAYLIGHT
TZOFFSETFROM:-0500
TZOFFSETTO:-0400
TZNAME:EDT
DTSTART:20250309T070000
END:DAYLIGHT
BEGIN:STANDARD
TZOFFSETFROM:-0400
TZOFFSETTO:-0500
TZNAME:EST
DTSTART:20251102T060000
END:STANDARD
BEGIN:DAYLIGHT
TZOFFSETFROM:-0500
TZOFFSETTO:-0400
TZNAME:EDT
DTSTART:20260308T070000
END:DAYLIGHT
BEGIN:STANDARD
TZOFFSETFROM:-0400
TZOFFSETTO:-0500
TZNAME:EST
DTSTART:20261101T060000
END:STANDARD
BEGIN:DAYLIGHT
TZOFFSETFROM:-0500
TZOFFSETTO:-0400
TZNAME:EDT
DTSTART:20270314T070000
END:DAYLIGHT
BEGIN:STANDARD
TZOFFSETFROM:-0400
TZOFFSETTO:-0500
TZNAME:EST
DTSTART:20271107T060000
END:STANDARD
END:VTIMEZONE
BEGIN:VEVENT
DTSTART;TZID=America/New_York:20260326T143000
DTEND;TZID=America/New_York:20260326T160000
DTSTAMP:20260421T221522
CREATED:20260102T180126Z
LAST-MODIFIED:20260102T180126Z
UID:10078279-1774535400-1774540800@thepinestimes.com
SUMMARY:Still\, Us: A Monthly Community Circle "Letting Us Attune"
DESCRIPTION:Still\, Us Finding Ourselves in Each Other! Join once a month for a supportive\, reflective gathering led by Dr. Karen D. Sullivan\, focused on connection\, compassion\, and living well alongside brain change and dementia. Meetings take place at Community Presbyterian Church in Pinehurst\, 2:30pm-4:00pm. \nDecember 18th-Letting Be: Practicing acceptance and mindfulness\, learning to sit with dementia as it is. \nJanuary 29th\, 2026-Letting Down: Allowing vulnerability and rest\, honoring exhaustion\, and asking for help. \nFebruary 26th-Letting In: Receiving support\, love\, and wisdom\, and allowing ourselves to be held by others. \nMarch 26th-Letting Us Attune: Practicing deep listening\, presence\, and co-regulation to build connection. \nApril 30th-Letting In Love: Nurturing compassion\, empathy\, and seeing love as the center of the journey. \nMay 28th-Letting In Light: Opening to hope\, spirituality\, and renewal as we close the circle together. \nAll are welcome.
URL:https://thepinestimes.com/event/still-us-a-monthly-community-circle-letting-us-attune/
LOCATION:Pinehurst Community Presbyterian Church\, 125 Everette Rd\, Pinehurst\, 28374\, United States
CATEGORIES:Adults,Brain Change,Educational,Health & Wellness,Moore County Events,Pinehurst Events,Senior,Social,Support Group
ATTACH;FMTTYPE=image/png:https://thepinestimes.com/wp-content/uploads/Brain-Change-e1762089418327.png
ORGANIZER;CN="Dr. Karen D. Sullivan":MAILTO:Carrief@icfyb.com
END:VEVENT
BEGIN:VEVENT
DTSTART;TZID=America/New_York:20260306T100000
DTEND;TZID=America/New_York:20260306T120000
DTSTAMP:20260421T221522
CREATED:20260220T184820Z
LAST-MODIFIED:20260220T184820Z
UID:10081455-1772791200-1772798400@thepinestimes.com
SUMMARY:"Staying Healthy and Living Longer" Health Symposium
DESCRIPTION:On Friday\, March 6th\, the Women of the Pines will host the “Staying Healthy and Living Longer” health symposium at the Pinehurst Village Hall from 10:00am-12:00pm. Moderated by neuropsychologist Dr. Karen D. Sullivan\, this expert-led panel—the “Insider Champions of Good Health”—will feature Dr. Miller Johnstone\, Dr. Angela Fox\, and Dr. G. Will Stone discussing essential strategies for eating well\, staying active\, and supporting mental health. The event is designed to provide attendees with the current tools and information necessary to maintain a healthy lifestyle through a formal presentation followed by a dedicated question-and-answer period. Registration is required through the event website link provided below. \n \n 
URL:https://thepinestimes.com/event/staying-healthy-and-living-longer-health-symposium/
LOCATION:Pinehurst Village Hall\, 395 Magnolia Rd\, Pinehurst\, NC\, 28374\, United States
CATEGORIES:Adults,Brain Change,Discussion,Educational,Health & Wellness,Pinehurst Events,Seminar,Senior,Social,Women
ATTACH;FMTTYPE=image/jpeg:https://thepinestimes.com/wp-content/uploads/WomenOfThePinesSymposiumFeature.jpg
END:VEVENT
BEGIN:VEVENT
DTSTART;TZID=America/New_York:20260226T143000
DTEND;TZID=America/New_York:20260226T160000
DTSTAMP:20260421T221522
CREATED:20251215T152640Z
LAST-MODIFIED:20251215T153234Z
UID:10077462-1772116200-1772121600@thepinestimes.com
SUMMARY:Still\, Us: A Monthly Community Circle "Letting In"
DESCRIPTION:Still\, Us Finding Ourselves in Each Other! Join once a month for a supportive\, reflective gathering led by Dr. Karen D. Sullivan\, focused on connection\, compassion\, and living well alongside brain change and dementia. Meetings take place at Community Presbyterian Church in Pinehurst\, 2:30pm-4:00pm. \nDecember 18th-Letting Be: Practicing acceptance and mindfulness\, learning to sit with dementia as it is. \nJanuary 29th\, 2026-Letting Down: Allowing vulnerability and rest\, honoring exhaustion\, and asking for help. \nFebruary 26th-Letting In: Receiving support\, love\, and wisdom\, and allowing ourselves to be held by others. \nMarch 26th-Letting Us Attune: Practicing deep listening\, presence\, and co-regulation to build connection. \nApril 30th-Letting In Love: Nurturing compassion\, empathy\, and seeing love as the center of the journey. \nMay 28th-Letting In Light: Opening to hope\, spirituality\, and renewal as we close the circle together. \nAll are welcome.
URL:https://thepinestimes.com/event/still-us-a-monthly-community-circle-letting-in/
LOCATION:Pinehurst Community Presbyterian Church\, 125 Everette Rd\, Pinehurst\, 28374\, United States
CATEGORIES:Adults,Brain Change,Educational,Health & Wellness,Moore County Events,Pinehurst Events,Senior,Social,Support Group
ATTACH;FMTTYPE=image/png:https://thepinestimes.com/wp-content/uploads/Brain-Change-e1762089418327.png
ORGANIZER;CN="Dr. Karen D. Sullivan":MAILTO:Carrief@icfyb.com
END:VEVENT
BEGIN:VEVENT
DTSTART;TZID=America/New_York:20260129T143000
DTEND;TZID=America/New_York:20260129T160000
DTSTAMP:20260421T221522
CREATED:20251215T143744Z
LAST-MODIFIED:20251215T153424Z
UID:10077442-1769697000-1769702400@thepinestimes.com
SUMMARY:Still\, Us: A Monthly Community Circle "Letting Down"
DESCRIPTION:Still\, Us Finding Ourselves in Each Other! Join once a month for a supportive\, reflective gathering led by Dr. Karen D. Sullivan\, focused on connection\, compassion\, and living well alongside brain change and dementia. Meetings take place at Community Presbyterian Church in Pinehurst\, 2:30pm-4:00pm. \nDecember 18th-Letting Be: Practicing acceptance and mindfulness\, learning to sit with dementia as it is. \nJanuary 29th\, 2026-Letting Down: Allowing vulnerability and rest\, honoring exhaustion\, and asking for help. \nFebruary 26th-Letting In: Receiving support\, love\, and wisdom\, and allowing ourselves to be held by others. \nMarch 26th-Letting Us Attune: Practicing deep listening\, presence\, and co-regulation to build connection. \nApril 30th-Letting In Love: Nurturing compassion\, empathy\, and seeing love as the center of the journey. \nMay 28th-Letting In Light: Opening to hope\, spirituality\, and renewal as we close the circle together. \nAll are welcome.
URL:https://thepinestimes.com/event/still-us-a-monthly-community-circle-letting-down/
LOCATION:Pinehurst Community Presbyterian Church\, 125 Everette Rd\, Pinehurst\, 28374\, United States
CATEGORIES:Adults,Brain Change,Educational,Health & Wellness,Moore County Events,Pinehurst Events,Senior,Social,Support Group
ATTACH;FMTTYPE=image/png:https://thepinestimes.com/wp-content/uploads/Brain-Change-e1762089418327.png
ORGANIZER;CN="Dr. Karen D. Sullivan":MAILTO:Carrief@icfyb.com
END:VEVENT
BEGIN:VEVENT
DTSTART;TZID=America/New_York:20251218T143000
DTEND;TZID=America/New_York:20251218T160000
DTSTAMP:20260421T221522
CREATED:20251215T141236Z
LAST-MODIFIED:20251215T153338Z
UID:10077441-1766068200-1766073600@thepinestimes.com
SUMMARY:Still\, Us: A Monthly Community Circle "Letting Be"
DESCRIPTION:Still\, Us Finding Ourselves in Each Other! Join once a month for a supportive\, reflective gathering led by Dr. Karen D. Sullivan\, focused on connection\, compassion\, and living well alongside brain change and dementia. Meetings take place at Community Presbyterian Church in Pinehurst\, 2:30pm-4:00pm. \nDecember 18th-Letting Be: Practicing acceptance and mindfulness\, learning to sit with dementia as it is. \nJanuary 29th\, 2026-Letting Down: Allowing vulnerability and rest\, honoring exhaustion\, and asking for help. \nFebruary 26th-Letting In: Receiving support\, love\, and wisdom\, and allowing ourselves to be held by others. \nMarch 26th-Letting Us Attune: Practicing deep listening\, presence\, and co-regulation to build connection. \nApril 30th-Letting In Love: Nurturing compassion\, empathy\, and seeing love as the center of the journey. \nMay 28th-Letting In Light: Opening to hope\, spirituality\, and renewal as we close the circle together. \nAll are welcome.
URL:https://thepinestimes.com/event/still-us-a-monthly-community-circle-letting-be/
LOCATION:Pinehurst Community Presbyterian Church\, 125 Everette Rd\, Pinehurst\, 28374\, United States
CATEGORIES:Adults,Brain Change,Educational,Health & Wellness,Moore County Events,Pinehurst Events,Senior,Social,Support Group
ATTACH;FMTTYPE=image/png:https://thepinestimes.com/wp-content/uploads/Brain-Change-e1762089418327.png
ORGANIZER;CN="Dr. Karen D. Sullivan":MAILTO:Carrief@icfyb.com
END:VEVENT
END:VCALENDAR