BEGIN:VCALENDAR
VERSION:2.0
PRODID:-//The Pines Times - ECPv6.15.20//NONSGML v1.0//EN
CALSCALE:GREGORIAN
METHOD:PUBLISH
X-WR-CALNAME:The Pines Times
X-ORIGINAL-URL:https://thepinestimes.com
X-WR-CALDESC:Events for The Pines Times
REFRESH-INTERVAL;VALUE=DURATION:PT1H
X-Robots-Tag:noindex
X-PUBLISHED-TTL:PT1H
BEGIN:VTIMEZONE
TZID:America/New_York
BEGIN:DAYLIGHT
TZOFFSETFROM:-0500
TZOFFSETTO:-0400
TZNAME:EDT
DTSTART:20240310T070000
END:DAYLIGHT
BEGIN:STANDARD
TZOFFSETFROM:-0400
TZOFFSETTO:-0500
TZNAME:EST
DTSTART:20241103T060000
END:STANDARD
BEGIN:DAYLIGHT
TZOFFSETFROM:-0500
TZOFFSETTO:-0400
TZNAME:EDT
DTSTART:20250309T070000
END:DAYLIGHT
BEGIN:STANDARD
TZOFFSETFROM:-0400
TZOFFSETTO:-0500
TZNAME:EST
DTSTART:20251102T060000
END:STANDARD
BEGIN:DAYLIGHT
TZOFFSETFROM:-0500
TZOFFSETTO:-0400
TZNAME:EDT
DTSTART:20260308T070000
END:DAYLIGHT
BEGIN:STANDARD
TZOFFSETFROM:-0400
TZOFFSETTO:-0500
TZNAME:EST
DTSTART:20261101T060000
END:STANDARD
BEGIN:DAYLIGHT
TZOFFSETFROM:-0500
TZOFFSETTO:-0400
TZNAME:EDT
DTSTART:20270314T070000
END:DAYLIGHT
BEGIN:STANDARD
TZOFFSETFROM:-0400
TZOFFSETTO:-0500
TZNAME:EST
DTSTART:20271107T060000
END:STANDARD
END:VTIMEZONE
BEGIN:VEVENT
DTSTART;TZID=America/New_York:20260416T200000
DTEND;TZID=America/New_York:20260416T200000
DTSTAMP:20260419T224925
CREATED:20230713T211948Z
LAST-MODIFIED:20260305T021542Z
UID:10082326-1776369600-1776369600@thepinestimes.com
SUMMARY:Karaoke Thursday
DESCRIPTION:Have some fun at Dugan’s Pub in Pinehurst with a Thursday Karaoke Night!
URL:https://thepinestimes.com/event/karaoke-thursday-2/2026-04-16/
LOCATION:Dugan’s Pub Pinehurst\, 2 Market Square\, Pinehurst\, NC\, 28374\, United States
CATEGORIES:Adult Connections,Adults,Hobby/Enthusiast,Night Life,Pinehurst Events,Pines Connector,Social
ATTACH;FMTTYPE=image/png:https://thepinestimes.com/wp-content/uploads/Karaoke-e1754409547503.png
ORGANIZER;CN="Dugan's Pub Pinehurst":MAILTO:duganspub@aol.com
END:VEVENT
BEGIN:VEVENT
DTSTART;TZID=America/New_York:20260411T210000
DTEND;TZID=America/New_York:20260411T235900
DTSTAMP:20260419T224925
CREATED:20230131T195509Z
LAST-MODIFIED:20260410T211032Z
UID:10008919-1775941200-1775951940@thepinestimes.com
SUMMARY:Live Music: Jonathan Robinson
DESCRIPTION:Enjoy live music tonight at Dugan’s Pub tonight from Jonathan Robinson! \n \n  \n 
URL:https://thepinestimes.com/event/live-music-jonathan-robinson-3/
LOCATION:Dugan’s Pub Pinehurst\, 2 Market Square\, Pinehurst\, NC\, 28374\, United States
CATEGORIES:Adults,Beer and Wine,Hobby/Enthusiast,Live Music,Night Life,Pinehurst Events,Senior,Social
ATTACH;FMTTYPE=image/jpeg:https://thepinestimes.com/wp-content/uploads/LiveMusicFeature.jpg
ORGANIZER;CN="Dugan's Pub Pinehurst":MAILTO:duganspub@aol.com
END:VEVENT
BEGIN:VEVENT
DTSTART;TZID=America/New_York:20260410T210000
DTEND;TZID=America/New_York:20260410T235900
DTSTAMP:20260419T224925
CREATED:20250811T133120Z
LAST-MODIFIED:20260410T210754Z
UID:10064459-1775854800-1775865540@thepinestimes.com
SUMMARY:Live Music: DJ Stone
DESCRIPTION:Come out to Dugan’s Pub of Pinehurst for music and dancing DJ Night this Saturday! DJ Stone will be providing the night’s entertainment.
URL:https://thepinestimes.com/event/live-music-dj-karaoke-night/
LOCATION:Dugan’s Pub Pinehurst\, 2 Market Square\, Pinehurst\, NC\, 28374\, United States
CATEGORIES:Adult Connections,Adults,Hobby/Enthusiast,Live Music,Night Life,Pinehurst Events,Senior,Social
ATTACH;FMTTYPE=image/jpeg:https://thepinestimes.com/wp-content/uploads/LiveMusicFeature.jpg
ORGANIZER;CN="Dugan's Pub Pinehurst":MAILTO:duganspub@aol.com
END:VEVENT
BEGIN:VEVENT
DTSTART;TZID=America/New_York:20260409T200000
DTEND;TZID=America/New_York:20260409T200000
DTSTAMP:20260419T224925
CREATED:20230713T211948Z
LAST-MODIFIED:20260305T021542Z
UID:10082325-1775764800-1775764800@thepinestimes.com
SUMMARY:Karaoke Thursday
DESCRIPTION:Have some fun at Dugan’s Pub in Pinehurst with a Thursday Karaoke Night!
URL:https://thepinestimes.com/event/karaoke-thursday-2/2026-04-09/
LOCATION:Dugan’s Pub Pinehurst\, 2 Market Square\, Pinehurst\, NC\, 28374\, United States
CATEGORIES:Adult Connections,Adults,Hobby/Enthusiast,Night Life,Pinehurst Events,Pines Connector,Social
ATTACH;FMTTYPE=image/png:https://thepinestimes.com/wp-content/uploads/Karaoke-e1754409547503.png
ORGANIZER;CN="Dugan's Pub Pinehurst":MAILTO:duganspub@aol.com
END:VEVENT
BEGIN:VEVENT
DTSTART;TZID=America/New_York:20260402T200000
DTEND;TZID=America/New_York:20260402T200000
DTSTAMP:20260419T224925
CREATED:20230713T211948Z
LAST-MODIFIED:20260305T021542Z
UID:10082324-1775160000-1775160000@thepinestimes.com
SUMMARY:Karaoke Thursday
DESCRIPTION:Have some fun at Dugan’s Pub in Pinehurst with a Thursday Karaoke Night!
URL:https://thepinestimes.com/event/karaoke-thursday-2/2026-04-02/
LOCATION:Dugan’s Pub Pinehurst\, 2 Market Square\, Pinehurst\, NC\, 28374\, United States
CATEGORIES:Adult Connections,Adults,Hobby/Enthusiast,Night Life,Pinehurst Events,Pines Connector,Social
ATTACH;FMTTYPE=image/png:https://thepinestimes.com/wp-content/uploads/Karaoke-e1754409547503.png
ORGANIZER;CN="Dugan's Pub Pinehurst":MAILTO:duganspub@aol.com
END:VEVENT
BEGIN:VEVENT
DTSTART;TZID=America/New_York:20260326T200000
DTEND;TZID=America/New_York:20260326T200000
DTSTAMP:20260419T224925
CREATED:20230713T211948Z
LAST-MODIFIED:20260305T021542Z
UID:10077771-1774555200-1774555200@thepinestimes.com
SUMMARY:Karaoke Thursday
DESCRIPTION:Have some fun at Dugan’s Pub in Pinehurst with a Thursday Karaoke Night!
URL:https://thepinestimes.com/event/karaoke-thursday-2/2026-03-26/
LOCATION:Dugan’s Pub Pinehurst\, 2 Market Square\, Pinehurst\, NC\, 28374\, United States
CATEGORIES:Adult Connections,Adults,Hobby/Enthusiast,Night Life,Pinehurst Events,Pines Connector,Social
ATTACH;FMTTYPE=image/png:https://thepinestimes.com/wp-content/uploads/Karaoke-e1754409547503.png
ORGANIZER;CN="Dugan's Pub Pinehurst":MAILTO:duganspub@aol.com
END:VEVENT
BEGIN:VEVENT
DTSTART;TZID=America/New_York:20260319T200000
DTEND;TZID=America/New_York:20260319T200000
DTSTAMP:20260419T224925
CREATED:20230713T211948Z
LAST-MODIFIED:20260305T021542Z
UID:10077770-1773950400-1773950400@thepinestimes.com
SUMMARY:Karaoke Thursday
DESCRIPTION:Have some fun at Dugan’s Pub in Pinehurst with a Thursday Karaoke Night!
URL:https://thepinestimes.com/event/karaoke-thursday-2/2026-03-19/
LOCATION:Dugan’s Pub Pinehurst\, 2 Market Square\, Pinehurst\, NC\, 28374\, United States
CATEGORIES:Adult Connections,Adults,Hobby/Enthusiast,Night Life,Pinehurst Events,Pines Connector,Social
ATTACH;FMTTYPE=image/png:https://thepinestimes.com/wp-content/uploads/Karaoke-e1754409547503.png
ORGANIZER;CN="Dugan's Pub Pinehurst":MAILTO:duganspub@aol.com
END:VEVENT
BEGIN:VEVENT
DTSTART;TZID=America/New_York:20260314T110000
DTEND;TZID=America/New_York:20260314T235900
DTSTAMP:20260419T224925
CREATED:20260311T170308Z
LAST-MODIFIED:20260312T171212Z
UID:10083318-1773486000-1773532740@thepinestimes.com
SUMMARY:St. Patrick's Day Party with DJ KyllDyll
DESCRIPTION:Shake Your Shamrocks at the all-day St. Patrick’s Day Party happening on Saturday\, March 14th! Enjoy all your leprechaun festivities\, featuring green beer\, plenty of Guinness\, and traditional corned beef and cabbage. Guests can also pick up special event shirts to commemorate the day. The celebration continues late into the night with DJ KyllDyll taking the stage starting at 9:00PM.
URL:https://thepinestimes.com/event/st-patricks-day-party-with-dj-kylldyll/
LOCATION:Dugan’s Pub Pinehurst\, 2 Market Square\, Pinehurst\, NC\, 28374\, United States
CATEGORIES:Holiday Events,Music,St. Patrick's Day
ORGANIZER;CN="Dugan's Pub Pinehurst":MAILTO:duganspub@aol.com
END:VEVENT
BEGIN:VEVENT
DTSTART;TZID=America/New_York:20260312T200000
DTEND;TZID=America/New_York:20260312T200000
DTSTAMP:20260419T224925
CREATED:20230713T211948Z
LAST-MODIFIED:20260305T021542Z
UID:10077769-1773345600-1773345600@thepinestimes.com
SUMMARY:Karaoke Thursday
DESCRIPTION:Have some fun at Dugan’s Pub in Pinehurst with a Thursday Karaoke Night!
URL:https://thepinestimes.com/event/karaoke-thursday-2/2026-03-12/
LOCATION:Dugan’s Pub Pinehurst\, 2 Market Square\, Pinehurst\, NC\, 28374\, United States
CATEGORIES:Adult Connections,Adults,Hobby/Enthusiast,Night Life,Pinehurst Events,Pines Connector,Social
ATTACH;FMTTYPE=image/png:https://thepinestimes.com/wp-content/uploads/Karaoke-e1754409547503.png
ORGANIZER;CN="Dugan's Pub Pinehurst":MAILTO:duganspub@aol.com
END:VEVENT
BEGIN:VEVENT
DTSTART;TZID=America/New_York:20260306T210000
DTEND;TZID=America/New_York:20260306T235900
DTSTAMP:20260419T224925
CREATED:20240417T215134Z
LAST-MODIFIED:20260305T022636Z
UID:10035475-1772830800-1772841540@thepinestimes.com
SUMMARY:Live Music: Guy Unger Band
DESCRIPTION:Head out to Dugan’s Pub in the Historic Village of Pinehurst! The Guy Unger Band will be performing starting at 9pm. \n \n  \n  \n  \n  \n 
URL:https://thepinestimes.com/event/live-music-guy-unger-band/
LOCATION:Dugan’s Pub Pinehurst\, 2 Market Square\, Pinehurst\, NC\, 28374\, United States
CATEGORIES:Adults,Beer and Wine,Hobby/Enthusiast,Live Music,Music,Night Life,Pinehurst Events,Senior,Social
ATTACH;FMTTYPE=image/jpeg:https://thepinestimes.com/wp-content/uploads/LiveMusicFeature.jpg
ORGANIZER;CN="Dugan's Pub Pinehurst":MAILTO:duganspub@aol.com
END:VEVENT
BEGIN:VEVENT
DTSTART;TZID=America/New_York:20260305T200000
DTEND;TZID=America/New_York:20260305T200000
DTSTAMP:20260419T224925
CREATED:20230713T211948Z
LAST-MODIFIED:20260305T021542Z
UID:10077768-1772740800-1772740800@thepinestimes.com
SUMMARY:Karaoke Thursday
DESCRIPTION:Have some fun at Dugan’s Pub in Pinehurst with a Thursday Karaoke Night!
URL:https://thepinestimes.com/event/karaoke-thursday-2/2026-03-05/
LOCATION:Dugan’s Pub Pinehurst\, 2 Market Square\, Pinehurst\, NC\, 28374\, United States
CATEGORIES:Adult Connections,Adults,Hobby/Enthusiast,Night Life,Pinehurst Events,Pines Connector,Social
ATTACH;FMTTYPE=image/png:https://thepinestimes.com/wp-content/uploads/Karaoke-e1754409547503.png
ORGANIZER;CN="Dugan's Pub Pinehurst":MAILTO:duganspub@aol.com
END:VEVENT
BEGIN:VEVENT
DTSTART;TZID=America/New_York:20260226T200000
DTEND;TZID=America/New_York:20260226T200000
DTSTAMP:20260419T224925
CREATED:20230713T211948Z
LAST-MODIFIED:20260305T021542Z
UID:10077767-1772136000-1772136000@thepinestimes.com
SUMMARY:Karaoke Thursday
DESCRIPTION:Have some fun at Dugan’s Pub in Pinehurst with a Thursday Karaoke Night!
URL:https://thepinestimes.com/event/karaoke-thursday-2/2026-02-26/
LOCATION:Dugan’s Pub Pinehurst\, 2 Market Square\, Pinehurst\, NC\, 28374\, United States
CATEGORIES:Adult Connections,Adults,Hobby/Enthusiast,Night Life,Pinehurst Events,Pines Connector,Social
ATTACH;FMTTYPE=image/png:https://thepinestimes.com/wp-content/uploads/Karaoke-e1754409547503.png
ORGANIZER;CN="Dugan's Pub Pinehurst":MAILTO:duganspub@aol.com
END:VEVENT
BEGIN:VEVENT
DTSTART;TZID=America/New_York:20260219T200000
DTEND;TZID=America/New_York:20260219T200000
DTSTAMP:20260419T224925
CREATED:20230713T211948Z
LAST-MODIFIED:20260305T021542Z
UID:10077766-1771531200-1771531200@thepinestimes.com
SUMMARY:Karaoke Thursday
DESCRIPTION:Have some fun at Dugan’s Pub in Pinehurst with a Thursday Karaoke Night!
URL:https://thepinestimes.com/event/karaoke-thursday-2/2026-02-19/
LOCATION:Dugan’s Pub Pinehurst\, 2 Market Square\, Pinehurst\, NC\, 28374\, United States
CATEGORIES:Adult Connections,Adults,Hobby/Enthusiast,Night Life,Pinehurst Events,Pines Connector,Social
ATTACH;FMTTYPE=image/png:https://thepinestimes.com/wp-content/uploads/Karaoke-e1754409547503.png
ORGANIZER;CN="Dugan's Pub Pinehurst":MAILTO:duganspub@aol.com
END:VEVENT
BEGIN:VEVENT
DTSTART;TZID=America/New_York:20260212T200000
DTEND;TZID=America/New_York:20260212T200000
DTSTAMP:20260419T224925
CREATED:20230713T211948Z
LAST-MODIFIED:20260305T021542Z
UID:10077765-1770926400-1770926400@thepinestimes.com
SUMMARY:Karaoke Thursday
DESCRIPTION:Have some fun at Dugan’s Pub in Pinehurst with a Thursday Karaoke Night!
URL:https://thepinestimes.com/event/karaoke-thursday-2/2026-02-12/
LOCATION:Dugan’s Pub Pinehurst\, 2 Market Square\, Pinehurst\, NC\, 28374\, United States
CATEGORIES:Adult Connections,Adults,Hobby/Enthusiast,Night Life,Pinehurst Events,Pines Connector,Social
ATTACH;FMTTYPE=image/png:https://thepinestimes.com/wp-content/uploads/Karaoke-e1754409547503.png
ORGANIZER;CN="Dugan's Pub Pinehurst":MAILTO:duganspub@aol.com
END:VEVENT
BEGIN:VEVENT
DTSTART;TZID=America/New_York:20260207T210000
DTEND;TZID=America/New_York:20260207T235900
DTSTAMP:20260419T224925
CREATED:20260115T135233Z
LAST-MODIFIED:20260205T205520Z
UID:10079414-1770498000-1770508740@thepinestimes.com
SUMMARY:Club Night with DJ KyllDyll
DESCRIPTION:Come out to Dugan’s Pub of Pinehurst for Club Night this Saturday with DJ KyllDyll! \n \n 
URL:https://thepinestimes.com/event/club-night-with-dj-kylldyll/
LOCATION:Dugan’s Pub Pinehurst\, 2 Market Square\, Pinehurst\, NC\, 28374\, United States
CATEGORIES:Adult Connections,Adults,Hobby/Enthusiast,Live Music,Night Life,Pinehurst Events,Senior,Social
ATTACH;FMTTYPE=image/jpeg:https://thepinestimes.com/wp-content/uploads/LiveMusicFeature.jpg
ORGANIZER;CN="Dugan's Pub Pinehurst":MAILTO:duganspub@aol.com
END:VEVENT
BEGIN:VEVENT
DTSTART;TZID=America/New_York:20260205T200000
DTEND;TZID=America/New_York:20260205T200000
DTSTAMP:20260419T224925
CREATED:20230713T211948Z
LAST-MODIFIED:20260305T021542Z
UID:10077764-1770321600-1770321600@thepinestimes.com
SUMMARY:Karaoke Thursday
DESCRIPTION:Have some fun at Dugan’s Pub in Pinehurst with a Thursday Karaoke Night!
URL:https://thepinestimes.com/event/karaoke-thursday-2/2026-02-05/
LOCATION:Dugan’s Pub Pinehurst\, 2 Market Square\, Pinehurst\, NC\, 28374\, United States
CATEGORIES:Adult Connections,Adults,Hobby/Enthusiast,Night Life,Pinehurst Events,Pines Connector,Social
ATTACH;FMTTYPE=image/png:https://thepinestimes.com/wp-content/uploads/Karaoke-e1754409547503.png
ORGANIZER;CN="Dugan's Pub Pinehurst":MAILTO:duganspub@aol.com
END:VEVENT
BEGIN:VEVENT
DTSTART;TZID=America/New_York:20260129T200000
DTEND;TZID=America/New_York:20260129T200000
DTSTAMP:20260419T224925
CREATED:20230713T211948Z
LAST-MODIFIED:20260305T021542Z
UID:10077763-1769716800-1769716800@thepinestimes.com
SUMMARY:Karaoke Thursday
DESCRIPTION:Have some fun at Dugan’s Pub in Pinehurst with a Thursday Karaoke Night!
URL:https://thepinestimes.com/event/karaoke-thursday-2/2026-01-29/
LOCATION:Dugan’s Pub Pinehurst\, 2 Market Square\, Pinehurst\, NC\, 28374\, United States
CATEGORIES:Adult Connections,Adults,Hobby/Enthusiast,Night Life,Pinehurst Events,Pines Connector,Social
ATTACH;FMTTYPE=image/png:https://thepinestimes.com/wp-content/uploads/Karaoke-e1754409547503.png
ORGANIZER;CN="Dugan's Pub Pinehurst":MAILTO:duganspub@aol.com
END:VEVENT
BEGIN:VEVENT
DTSTART;TZID=America/New_York:20260122T200000
DTEND;TZID=America/New_York:20260122T200000
DTSTAMP:20260419T224925
CREATED:20230713T211948Z
LAST-MODIFIED:20260305T021542Z
UID:10077762-1769112000-1769112000@thepinestimes.com
SUMMARY:Karaoke Thursday
DESCRIPTION:Have some fun at Dugan’s Pub in Pinehurst with a Thursday Karaoke Night!
URL:https://thepinestimes.com/event/karaoke-thursday-2/2026-01-22/
LOCATION:Dugan’s Pub Pinehurst\, 2 Market Square\, Pinehurst\, NC\, 28374\, United States
CATEGORIES:Adult Connections,Adults,Hobby/Enthusiast,Night Life,Pinehurst Events,Pines Connector,Social
ATTACH;FMTTYPE=image/png:https://thepinestimes.com/wp-content/uploads/Karaoke-e1754409547503.png
ORGANIZER;CN="Dugan's Pub Pinehurst":MAILTO:duganspub@aol.com
END:VEVENT
BEGIN:VEVENT
DTSTART;TZID=America/New_York:20260115T200000
DTEND;TZID=America/New_York:20260115T200000
DTSTAMP:20260419T224925
CREATED:20230713T211948Z
LAST-MODIFIED:20260305T021542Z
UID:10077761-1768507200-1768507200@thepinestimes.com
SUMMARY:Karaoke Thursday
DESCRIPTION:Have some fun at Dugan’s Pub in Pinehurst with a Thursday Karaoke Night!
URL:https://thepinestimes.com/event/karaoke-thursday-2/2026-01-15/
LOCATION:Dugan’s Pub Pinehurst\, 2 Market Square\, Pinehurst\, NC\, 28374\, United States
CATEGORIES:Adult Connections,Adults,Hobby/Enthusiast,Night Life,Pinehurst Events,Pines Connector,Social
ATTACH;FMTTYPE=image/png:https://thepinestimes.com/wp-content/uploads/Karaoke-e1754409547503.png
ORGANIZER;CN="Dugan's Pub Pinehurst":MAILTO:duganspub@aol.com
END:VEVENT
BEGIN:VEVENT
DTSTART;TZID=America/New_York:20260110T210000
DTEND;TZID=America/New_York:20260110T235900
DTSTAMP:20260419T224925
CREATED:20251210T135329Z
LAST-MODIFIED:20260106T143625Z
UID:10077108-1768078800-1768089540@thepinestimes.com
SUMMARY:Club Night at the Pub
DESCRIPTION:Head out for a high-energy transformation as Dugan’s Pub in Pinehurst turns into a full-on Club Night on Saturday\, January 10th. Starting at 9pm\, get ready for loud beats and a packed dance floor designed to keep the party vibes going all night long. Grab your friends and your best going-out outfit for an unforgettable evening of dancing and drinks! \n \n  \n  \n 
URL:https://thepinestimes.com/event/live-music-john-teal/
LOCATION:Dugan’s Pub Pinehurst\, 2 Market Square\, Pinehurst\, NC\, 28374\, United States
CATEGORIES:Adult Connections,Adults,Beer and Wine,Dance,Hobby/Enthusiast,Live Music,Music,Night Life,Pinehurst Events,Senior,Social
ATTACH;FMTTYPE=image/jpeg:https://thepinestimes.com/wp-content/uploads/LiveMusicFeature.jpg
ORGANIZER;CN="Dugan's Pub Pinehurst":MAILTO:duganspub@aol.com
END:VEVENT
BEGIN:VEVENT
DTSTART;TZID=America/New_York:20260108T200000
DTEND;TZID=America/New_York:20260108T200000
DTSTAMP:20260419T224925
CREATED:20230713T211948Z
LAST-MODIFIED:20260305T021542Z
UID:10077760-1767902400-1767902400@thepinestimes.com
SUMMARY:Karaoke Thursday
DESCRIPTION:Have some fun at Dugan’s Pub in Pinehurst with a Thursday Karaoke Night!
URL:https://thepinestimes.com/event/karaoke-thursday-2/2026-01-08/
LOCATION:Dugan’s Pub Pinehurst\, 2 Market Square\, Pinehurst\, NC\, 28374\, United States
CATEGORIES:Adult Connections,Adults,Hobby/Enthusiast,Night Life,Pinehurst Events,Pines Connector,Social
ATTACH;FMTTYPE=image/png:https://thepinestimes.com/wp-content/uploads/Karaoke-e1754409547503.png
ORGANIZER;CN="Dugan's Pub Pinehurst":MAILTO:duganspub@aol.com
END:VEVENT
BEGIN:VEVENT
DTSTART;TZID=America/New_York:20260101T200000
DTEND;TZID=America/New_York:20260101T200000
DTSTAMP:20260419T224925
CREATED:20230713T211948Z
LAST-MODIFIED:20260305T021542Z
UID:10077759-1767297600-1767297600@thepinestimes.com
SUMMARY:Karaoke Thursday
DESCRIPTION:Have some fun at Dugan’s Pub in Pinehurst with a Thursday Karaoke Night!
URL:https://thepinestimes.com/event/karaoke-thursday-2/2026-01-01/
LOCATION:Dugan’s Pub Pinehurst\, 2 Market Square\, Pinehurst\, NC\, 28374\, United States
CATEGORIES:Adult Connections,Adults,Hobby/Enthusiast,Night Life,Pinehurst Events,Pines Connector,Social
ATTACH;FMTTYPE=image/png:https://thepinestimes.com/wp-content/uploads/Karaoke-e1754409547503.png
ORGANIZER;CN="Dugan's Pub Pinehurst":MAILTO:duganspub@aol.com
END:VEVENT
BEGIN:VEVENT
DTSTART;TZID=America/New_York:20251225T200000
DTEND;TZID=America/New_York:20251225T200000
DTSTAMP:20260419T224925
CREATED:20230713T211948Z
LAST-MODIFIED:20260305T021542Z
UID:10078101-1766692800-1766692800@thepinestimes.com
SUMMARY:Karaoke Thursday
DESCRIPTION:Have some fun at Dugan’s Pub in Pinehurst with a Thursday Karaoke Night!
URL:https://thepinestimes.com/event/karaoke-thursday-2/2025-12-25/
LOCATION:Dugan’s Pub Pinehurst\, 2 Market Square\, Pinehurst\, NC\, 28374\, United States
CATEGORIES:Adult Connections,Adults,Hobby/Enthusiast,Night Life,Pinehurst Events,Pines Connector,Social
ATTACH;FMTTYPE=image/png:https://thepinestimes.com/wp-content/uploads/Karaoke-e1754409547503.png
ORGANIZER;CN="Dugan's Pub Pinehurst":MAILTO:duganspub@aol.com
END:VEVENT
BEGIN:VEVENT
DTSTART;TZID=America/New_York:20251220T190000
DTEND;TZID=America/New_York:20251220T235900
DTSTAMP:20260419T224925
CREATED:20230524T140449Z
LAST-MODIFIED:20251219T191819Z
UID:10012479-1766257200-1766275140@thepinestimes.com
SUMMARY:You Be the DJ
DESCRIPTION:Come be the DJ at Dugan’s Pub in Pinehurst and provide the Saturday night music on jukebox.
URL:https://thepinestimes.com/event/music-event-you-be-the-dj/
LOCATION:Dugan’s Pub Pinehurst\, 2 Market Square\, Pinehurst\, NC\, 28374\, United States
CATEGORIES:Adults,Hobby/Enthusiast,Night Life,Pinehurst Events,Social
ATTACH;FMTTYPE=image/png:https://thepinestimes.com/wp-content/uploads/DugansPubLogo.png
ORGANIZER;CN="Dugan's Pub Pinehurst":MAILTO:duganspub@aol.com
END:VEVENT
BEGIN:VEVENT
DTSTART;TZID=America/New_York:20251218T200000
DTEND;TZID=America/New_York:20251218T200000
DTSTAMP:20260419T224925
CREATED:20230713T211948Z
LAST-MODIFIED:20260305T021542Z
UID:10077107-1766088000-1766088000@thepinestimes.com
SUMMARY:Karaoke Thursday
DESCRIPTION:Have some fun at Dugan’s Pub in Pinehurst with a Thursday Karaoke Night!
URL:https://thepinestimes.com/event/karaoke-thursday-2/2025-12-18/
LOCATION:Dugan’s Pub Pinehurst\, 2 Market Square\, Pinehurst\, NC\, 28374\, United States
CATEGORIES:Adult Connections,Adults,Hobby/Enthusiast,Night Life,Pinehurst Events,Pines Connector,Social
ATTACH;FMTTYPE=image/png:https://thepinestimes.com/wp-content/uploads/Karaoke-e1754409547503.png
ORGANIZER;CN="Dugan's Pub Pinehurst":MAILTO:duganspub@aol.com
END:VEVENT
BEGIN:VEVENT
DTSTART;TZID=America/New_York:20251211T200000
DTEND;TZID=America/New_York:20251211T200000
DTSTAMP:20260419T224925
CREATED:20230713T211948Z
LAST-MODIFIED:20260305T021542Z
UID:10077106-1765483200-1765483200@thepinestimes.com
SUMMARY:Karaoke Thursday
DESCRIPTION:Have some fun at Dugan’s Pub in Pinehurst with a Thursday Karaoke Night!
URL:https://thepinestimes.com/event/karaoke-thursday-2/2025-12-11/
LOCATION:Dugan’s Pub Pinehurst\, 2 Market Square\, Pinehurst\, NC\, 28374\, United States
CATEGORIES:Adult Connections,Adults,Hobby/Enthusiast,Night Life,Pinehurst Events,Pines Connector,Social
ATTACH;FMTTYPE=image/png:https://thepinestimes.com/wp-content/uploads/Karaoke-e1754409547503.png
ORGANIZER;CN="Dugan's Pub Pinehurst":MAILTO:duganspub@aol.com
END:VEVENT
BEGIN:VEVENT
DTSTART;TZID=America/New_York:20251204T200000
DTEND;TZID=America/New_York:20251204T200000
DTSTAMP:20260419T224925
CREATED:20230713T211948Z
LAST-MODIFIED:20260305T021542Z
UID:10077105-1764878400-1764878400@thepinestimes.com
SUMMARY:Karaoke Thursday
DESCRIPTION:Have some fun at Dugan’s Pub in Pinehurst with a Thursday Karaoke Night!
URL:https://thepinestimes.com/event/karaoke-thursday-2/2025-12-04/
LOCATION:Dugan’s Pub Pinehurst\, 2 Market Square\, Pinehurst\, NC\, 28374\, United States
CATEGORIES:Adult Connections,Adults,Hobby/Enthusiast,Night Life,Pinehurst Events,Pines Connector,Social
ATTACH;FMTTYPE=image/png:https://thepinestimes.com/wp-content/uploads/Karaoke-e1754409547503.png
ORGANIZER;CN="Dugan's Pub Pinehurst":MAILTO:duganspub@aol.com
END:VEVENT
BEGIN:VEVENT
DTSTART;TZID=America/New_York:20251127T200000
DTEND;TZID=America/New_York:20251127T200000
DTSTAMP:20260419T224925
CREATED:20230713T211948Z
LAST-MODIFIED:20260305T021542Z
UID:10077104-1764273600-1764273600@thepinestimes.com
SUMMARY:Karaoke Thursday
DESCRIPTION:Have some fun at Dugan’s Pub in Pinehurst with a Thursday Karaoke Night!
URL:https://thepinestimes.com/event/karaoke-thursday-2/2025-11-27/
LOCATION:Dugan’s Pub Pinehurst\, 2 Market Square\, Pinehurst\, NC\, 28374\, United States
CATEGORIES:Adult Connections,Adults,Hobby/Enthusiast,Night Life,Pinehurst Events,Pines Connector,Social
ATTACH;FMTTYPE=image/png:https://thepinestimes.com/wp-content/uploads/Karaoke-e1754409547503.png
ORGANIZER;CN="Dugan's Pub Pinehurst":MAILTO:duganspub@aol.com
END:VEVENT
BEGIN:VEVENT
DTSTART;TZID=America/New_York:20251122T210000
DTEND;TZID=America/New_York:20251122T235900
DTSTAMP:20260419T224925
CREATED:20240308T003002Z
LAST-MODIFIED:20251120T023414Z
UID:10032007-1763845200-1763855940@thepinestimes.com
SUMMARY:Ladies Night with Live Music from John Teal
DESCRIPTION:Dugan’s Pub invites you to their First Ladies Night on Saturday\, November 22nd! Enjoy a night out with special cocktails priced at just $10 all night long for the ladies. John Teal will be playing live music starting at 9:00pm. Arrive early because the first 20 people will receive a $5 gift card to use on a future visit. \n \n  \n  \n 
URL:https://thepinestimes.com/event/ladies-night-with-live-music-from-john-teal/
LOCATION:Dugan’s Pub Pinehurst\, 2 Market Square\, Pinehurst\, NC\, 28374\, United States
CATEGORIES:Adult Connections,Adults,Hobby/Enthusiast,Live Music,Music,Night Life,Pinehurst Events,Senior,Social
ATTACH;FMTTYPE=image/jpeg:https://thepinestimes.com/wp-content/uploads/LiveMusicFeature.jpg
ORGANIZER;CN="Dugan's Pub Pinehurst":MAILTO:duganspub@aol.com
END:VEVENT
BEGIN:VEVENT
DTSTART;TZID=America/New_York:20251120T200000
DTEND;TZID=America/New_York:20251120T200000
DTSTAMP:20260419T224925
CREATED:20230713T211948Z
LAST-MODIFIED:20260305T021542Z
UID:10069290-1763668800-1763668800@thepinestimes.com
SUMMARY:Karaoke Thursday
DESCRIPTION:Have some fun at Dugan’s Pub in Pinehurst with a Thursday Karaoke Night!
URL:https://thepinestimes.com/event/karaoke-thursday-2/2025-11-20/
LOCATION:Dugan’s Pub Pinehurst\, 2 Market Square\, Pinehurst\, NC\, 28374\, United States
CATEGORIES:Adult Connections,Adults,Hobby/Enthusiast,Night Life,Pinehurst Events,Pines Connector,Social
ATTACH;FMTTYPE=image/png:https://thepinestimes.com/wp-content/uploads/Karaoke-e1754409547503.png
ORGANIZER;CN="Dugan's Pub Pinehurst":MAILTO:duganspub@aol.com
END:VEVENT
END:VCALENDAR