BEGIN:VCALENDAR
VERSION:2.0
PRODID:-//The Pines Times - ECPv6.15.20//NONSGML v1.0//EN
CALSCALE:GREGORIAN
METHOD:PUBLISH
X-WR-CALNAME:The Pines Times
X-ORIGINAL-URL:https://thepinestimes.com
X-WR-CALDESC:Events for The Pines Times
REFRESH-INTERVAL;VALUE=DURATION:PT1H
X-Robots-Tag:noindex
X-PUBLISHED-TTL:PT1H
BEGIN:VTIMEZONE
TZID:America/New_York
BEGIN:DAYLIGHT
TZOFFSETFROM:-0500
TZOFFSETTO:-0400
TZNAME:EDT
DTSTART:20240310T070000
END:DAYLIGHT
BEGIN:STANDARD
TZOFFSETFROM:-0400
TZOFFSETTO:-0500
TZNAME:EST
DTSTART:20241103T060000
END:STANDARD
BEGIN:DAYLIGHT
TZOFFSETFROM:-0500
TZOFFSETTO:-0400
TZNAME:EDT
DTSTART:20250309T070000
END:DAYLIGHT
BEGIN:STANDARD
TZOFFSETFROM:-0400
TZOFFSETTO:-0500
TZNAME:EST
DTSTART:20251102T060000
END:STANDARD
BEGIN:DAYLIGHT
TZOFFSETFROM:-0500
TZOFFSETTO:-0400
TZNAME:EDT
DTSTART:20260308T070000
END:DAYLIGHT
BEGIN:STANDARD
TZOFFSETFROM:-0400
TZOFFSETTO:-0500
TZNAME:EST
DTSTART:20261101T060000
END:STANDARD
END:VTIMEZONE
BEGIN:VEVENT
DTSTART;TZID=America/New_York:20251218T200000
DTEND;TZID=America/New_York:20251218T200000
DTSTAMP:20260423T091145
CREATED:20230713T211948Z
LAST-MODIFIED:20260305T021542Z
UID:10077107-1766088000-1766088000@thepinestimes.com
SUMMARY:Karaoke Thursday
DESCRIPTION:Have some fun at Dugan’s Pub in Pinehurst with a Thursday Karaoke Night!
URL:https://thepinestimes.com/event/karaoke-thursday-2/2025-12-18/
LOCATION:Dugan’s Pub Pinehurst\, 2 Market Square\, Pinehurst\, NC\, 28374\, United States
CATEGORIES:Adult Connections,Adults,Hobby/Enthusiast,Night Life,Pinehurst Events,Pines Connector,Social
ATTACH;FMTTYPE=image/png:https://thepinestimes.com/wp-content/uploads/Karaoke-e1754409547503.png
ORGANIZER;CN="Dugan's Pub Pinehurst":MAILTO:duganspub@aol.com
END:VEVENT
BEGIN:VEVENT
DTSTART;TZID=America/New_York:20251211T200000
DTEND;TZID=America/New_York:20251211T200000
DTSTAMP:20260423T091145
CREATED:20230713T211948Z
LAST-MODIFIED:20260305T021542Z
UID:10077106-1765483200-1765483200@thepinestimes.com
SUMMARY:Karaoke Thursday
DESCRIPTION:Have some fun at Dugan’s Pub in Pinehurst with a Thursday Karaoke Night!
URL:https://thepinestimes.com/event/karaoke-thursday-2/2025-12-11/
LOCATION:Dugan’s Pub Pinehurst\, 2 Market Square\, Pinehurst\, NC\, 28374\, United States
CATEGORIES:Adult Connections,Adults,Hobby/Enthusiast,Night Life,Pinehurst Events,Pines Connector,Social
ATTACH;FMTTYPE=image/png:https://thepinestimes.com/wp-content/uploads/Karaoke-e1754409547503.png
ORGANIZER;CN="Dugan's Pub Pinehurst":MAILTO:duganspub@aol.com
END:VEVENT
BEGIN:VEVENT
DTSTART;TZID=America/New_York:20251204T200000
DTEND;TZID=America/New_York:20251204T200000
DTSTAMP:20260423T091145
CREATED:20230713T211948Z
LAST-MODIFIED:20260305T021542Z
UID:10077105-1764878400-1764878400@thepinestimes.com
SUMMARY:Karaoke Thursday
DESCRIPTION:Have some fun at Dugan’s Pub in Pinehurst with a Thursday Karaoke Night!
URL:https://thepinestimes.com/event/karaoke-thursday-2/2025-12-04/
LOCATION:Dugan’s Pub Pinehurst\, 2 Market Square\, Pinehurst\, NC\, 28374\, United States
CATEGORIES:Adult Connections,Adults,Hobby/Enthusiast,Night Life,Pinehurst Events,Pines Connector,Social
ATTACH;FMTTYPE=image/png:https://thepinestimes.com/wp-content/uploads/Karaoke-e1754409547503.png
ORGANIZER;CN="Dugan's Pub Pinehurst":MAILTO:duganspub@aol.com
END:VEVENT
BEGIN:VEVENT
DTSTART;TZID=America/New_York:20251127T200000
DTEND;TZID=America/New_York:20251127T200000
DTSTAMP:20260423T091145
CREATED:20230713T211948Z
LAST-MODIFIED:20260305T021542Z
UID:10077104-1764273600-1764273600@thepinestimes.com
SUMMARY:Karaoke Thursday
DESCRIPTION:Have some fun at Dugan’s Pub in Pinehurst with a Thursday Karaoke Night!
URL:https://thepinestimes.com/event/karaoke-thursday-2/2025-11-27/
LOCATION:Dugan’s Pub Pinehurst\, 2 Market Square\, Pinehurst\, NC\, 28374\, United States
CATEGORIES:Adult Connections,Adults,Hobby/Enthusiast,Night Life,Pinehurst Events,Pines Connector,Social
ATTACH;FMTTYPE=image/png:https://thepinestimes.com/wp-content/uploads/Karaoke-e1754409547503.png
ORGANIZER;CN="Dugan's Pub Pinehurst":MAILTO:duganspub@aol.com
END:VEVENT
BEGIN:VEVENT
DTSTART;TZID=America/New_York:20251122T210000
DTEND;TZID=America/New_York:20251122T235900
DTSTAMP:20260423T091145
CREATED:20240308T003002Z
LAST-MODIFIED:20251120T023414Z
UID:10032007-1763845200-1763855940@thepinestimes.com
SUMMARY:Ladies Night with Live Music from John Teal
DESCRIPTION:Dugan’s Pub invites you to their First Ladies Night on Saturday\, November 22nd! Enjoy a night out with special cocktails priced at just $10 all night long for the ladies. John Teal will be playing live music starting at 9:00pm. Arrive early because the first 20 people will receive a $5 gift card to use on a future visit. \n \n  \n  \n 
URL:https://thepinestimes.com/event/ladies-night-with-live-music-from-john-teal/
LOCATION:Dugan’s Pub Pinehurst\, 2 Market Square\, Pinehurst\, NC\, 28374\, United States
CATEGORIES:Adult Connections,Adults,Hobby/Enthusiast,Live Music,Music,Night Life,Pinehurst Events,Senior,Social
ATTACH;FMTTYPE=image/jpeg:https://thepinestimes.com/wp-content/uploads/LiveMusicFeature.jpg
ORGANIZER;CN="Dugan's Pub Pinehurst":MAILTO:duganspub@aol.com
END:VEVENT
BEGIN:VEVENT
DTSTART;TZID=America/New_York:20251120T200000
DTEND;TZID=America/New_York:20251120T200000
DTSTAMP:20260423T091145
CREATED:20230713T211948Z
LAST-MODIFIED:20260305T021542Z
UID:10069290-1763668800-1763668800@thepinestimes.com
SUMMARY:Karaoke Thursday
DESCRIPTION:Have some fun at Dugan’s Pub in Pinehurst with a Thursday Karaoke Night!
URL:https://thepinestimes.com/event/karaoke-thursday-2/2025-11-20/
LOCATION:Dugan’s Pub Pinehurst\, 2 Market Square\, Pinehurst\, NC\, 28374\, United States
CATEGORIES:Adult Connections,Adults,Hobby/Enthusiast,Night Life,Pinehurst Events,Pines Connector,Social
ATTACH;FMTTYPE=image/png:https://thepinestimes.com/wp-content/uploads/Karaoke-e1754409547503.png
ORGANIZER;CN="Dugan's Pub Pinehurst":MAILTO:duganspub@aol.com
END:VEVENT
BEGIN:VEVENT
DTSTART;TZID=America/New_York:20251113T200000
DTEND;TZID=America/New_York:20251113T200000
DTSTAMP:20260423T091145
CREATED:20230713T211948Z
LAST-MODIFIED:20260305T021542Z
UID:10069289-1763064000-1763064000@thepinestimes.com
SUMMARY:Karaoke Thursday
DESCRIPTION:Have some fun at Dugan’s Pub in Pinehurst with a Thursday Karaoke Night!
URL:https://thepinestimes.com/event/karaoke-thursday-2/2025-11-13/
LOCATION:Dugan’s Pub Pinehurst\, 2 Market Square\, Pinehurst\, NC\, 28374\, United States
CATEGORIES:Adult Connections,Adults,Hobby/Enthusiast,Night Life,Pinehurst Events,Pines Connector,Social
ATTACH;FMTTYPE=image/png:https://thepinestimes.com/wp-content/uploads/Karaoke-e1754409547503.png
ORGANIZER;CN="Dugan's Pub Pinehurst":MAILTO:duganspub@aol.com
END:VEVENT
BEGIN:VEVENT
DTSTART;TZID=America/New_York:20251106T200000
DTEND;TZID=America/New_York:20251106T200000
DTSTAMP:20260423T091145
CREATED:20230713T211948Z
LAST-MODIFIED:20260305T021542Z
UID:10069288-1762459200-1762459200@thepinestimes.com
SUMMARY:Karaoke Thursday
DESCRIPTION:Have some fun at Dugan’s Pub in Pinehurst with a Thursday Karaoke Night!
URL:https://thepinestimes.com/event/karaoke-thursday-2/2025-11-06/
LOCATION:Dugan’s Pub Pinehurst\, 2 Market Square\, Pinehurst\, NC\, 28374\, United States
CATEGORIES:Adult Connections,Adults,Hobby/Enthusiast,Night Life,Pinehurst Events,Pines Connector,Social
ATTACH;FMTTYPE=image/png:https://thepinestimes.com/wp-content/uploads/Karaoke-e1754409547503.png
ORGANIZER;CN="Dugan's Pub Pinehurst":MAILTO:duganspub@aol.com
END:VEVENT
BEGIN:VEVENT
DTSTART;TZID=America/New_York:20251030T200000
DTEND;TZID=America/New_York:20251030T200000
DTSTAMP:20260423T091145
CREATED:20230713T211948Z
LAST-MODIFIED:20260305T021542Z
UID:10064468-1761854400-1761854400@thepinestimes.com
SUMMARY:Karaoke Thursday
DESCRIPTION:Have some fun at Dugan’s Pub in Pinehurst with a Thursday Karaoke Night!
URL:https://thepinestimes.com/event/karaoke-thursday-2/2025-10-30/
LOCATION:Dugan’s Pub Pinehurst\, 2 Market Square\, Pinehurst\, NC\, 28374\, United States
CATEGORIES:Adult Connections,Adults,Hobby/Enthusiast,Night Life,Pinehurst Events,Pines Connector,Social
ATTACH;FMTTYPE=image/png:https://thepinestimes.com/wp-content/uploads/Karaoke-e1754409547503.png
ORGANIZER;CN="Dugan's Pub Pinehurst":MAILTO:duganspub@aol.com
END:VEVENT
BEGIN:VEVENT
DTSTART;TZID=America/New_York:20251023T200000
DTEND;TZID=America/New_York:20251023T200000
DTSTAMP:20260423T091145
CREATED:20230713T211948Z
LAST-MODIFIED:20260305T021542Z
UID:10064467-1761249600-1761249600@thepinestimes.com
SUMMARY:Karaoke Thursday
DESCRIPTION:Have some fun at Dugan’s Pub in Pinehurst with a Thursday Karaoke Night!
URL:https://thepinestimes.com/event/karaoke-thursday-2/2025-10-23/
LOCATION:Dugan’s Pub Pinehurst\, 2 Market Square\, Pinehurst\, NC\, 28374\, United States
CATEGORIES:Adult Connections,Adults,Hobby/Enthusiast,Night Life,Pinehurst Events,Pines Connector,Social
ATTACH;FMTTYPE=image/png:https://thepinestimes.com/wp-content/uploads/Karaoke-e1754409547503.png
ORGANIZER;CN="Dugan's Pub Pinehurst":MAILTO:duganspub@aol.com
END:VEVENT
BEGIN:VEVENT
DTSTART;TZID=America/New_York:20251016T200000
DTEND;TZID=America/New_York:20251016T200000
DTSTAMP:20260423T091145
CREATED:20230713T211948Z
LAST-MODIFIED:20260305T021542Z
UID:10064466-1760644800-1760644800@thepinestimes.com
SUMMARY:Karaoke Thursday
DESCRIPTION:Have some fun at Dugan’s Pub in Pinehurst with a Thursday Karaoke Night!
URL:https://thepinestimes.com/event/karaoke-thursday-2/2025-10-16/
LOCATION:Dugan’s Pub Pinehurst\, 2 Market Square\, Pinehurst\, NC\, 28374\, United States
CATEGORIES:Adult Connections,Adults,Hobby/Enthusiast,Night Life,Pinehurst Events,Pines Connector,Social
ATTACH;FMTTYPE=image/png:https://thepinestimes.com/wp-content/uploads/Karaoke-e1754409547503.png
ORGANIZER;CN="Dugan's Pub Pinehurst":MAILTO:duganspub@aol.com
END:VEVENT
BEGIN:VEVENT
DTSTART;TZID=America/New_York:20251009T200000
DTEND;TZID=America/New_York:20251009T200000
DTSTAMP:20260423T091145
CREATED:20230713T211948Z
LAST-MODIFIED:20260305T021542Z
UID:10064465-1760040000-1760040000@thepinestimes.com
SUMMARY:Karaoke Thursday
DESCRIPTION:Have some fun at Dugan’s Pub in Pinehurst with a Thursday Karaoke Night!
URL:https://thepinestimes.com/event/karaoke-thursday-2/2025-10-09/
LOCATION:Dugan’s Pub Pinehurst\, 2 Market Square\, Pinehurst\, NC\, 28374\, United States
CATEGORIES:Adult Connections,Adults,Hobby/Enthusiast,Night Life,Pinehurst Events,Pines Connector,Social
ATTACH;FMTTYPE=image/png:https://thepinestimes.com/wp-content/uploads/Karaoke-e1754409547503.png
ORGANIZER;CN="Dugan's Pub Pinehurst":MAILTO:duganspub@aol.com
END:VEVENT
BEGIN:VEVENT
DTSTART;TZID=America/New_York:20251002T200000
DTEND;TZID=America/New_York:20251002T200000
DTSTAMP:20260423T091145
CREATED:20230713T211948Z
LAST-MODIFIED:20260305T021542Z
UID:10064464-1759435200-1759435200@thepinestimes.com
SUMMARY:Karaoke Thursday
DESCRIPTION:Have some fun at Dugan’s Pub in Pinehurst with a Thursday Karaoke Night!
URL:https://thepinestimes.com/event/karaoke-thursday-2/2025-10-02/
LOCATION:Dugan’s Pub Pinehurst\, 2 Market Square\, Pinehurst\, NC\, 28374\, United States
CATEGORIES:Adult Connections,Adults,Hobby/Enthusiast,Night Life,Pinehurst Events,Pines Connector,Social
ATTACH;FMTTYPE=image/png:https://thepinestimes.com/wp-content/uploads/Karaoke-e1754409547503.png
ORGANIZER;CN="Dugan's Pub Pinehurst":MAILTO:duganspub@aol.com
END:VEVENT
BEGIN:VEVENT
DTSTART;TZID=America/New_York:20250925T200000
DTEND;TZID=America/New_York:20250925T200000
DTSTAMP:20260423T091145
CREATED:20230713T211948Z
LAST-MODIFIED:20260305T021542Z
UID:10064463-1758830400-1758830400@thepinestimes.com
SUMMARY:Karaoke Thursday
DESCRIPTION:Have some fun at Dugan’s Pub in Pinehurst with a Thursday Karaoke Night!
URL:https://thepinestimes.com/event/karaoke-thursday-2/2025-09-25/
LOCATION:Dugan’s Pub Pinehurst\, 2 Market Square\, Pinehurst\, NC\, 28374\, United States
CATEGORIES:Adult Connections,Adults,Hobby/Enthusiast,Night Life,Pinehurst Events,Pines Connector,Social
ATTACH;FMTTYPE=image/png:https://thepinestimes.com/wp-content/uploads/Karaoke-e1754409547503.png
ORGANIZER;CN="Dugan's Pub Pinehurst":MAILTO:duganspub@aol.com
END:VEVENT
BEGIN:VEVENT
DTSTART;TZID=America/New_York:20250918T200000
DTEND;TZID=America/New_York:20250918T200000
DTSTAMP:20260423T091145
CREATED:20230713T211948Z
LAST-MODIFIED:20260305T021542Z
UID:10064462-1758225600-1758225600@thepinestimes.com
SUMMARY:Karaoke Thursday
DESCRIPTION:Have some fun at Dugan’s Pub in Pinehurst with a Thursday Karaoke Night!
URL:https://thepinestimes.com/event/karaoke-thursday-2/2025-09-18/
LOCATION:Dugan’s Pub Pinehurst\, 2 Market Square\, Pinehurst\, NC\, 28374\, United States
CATEGORIES:Adult Connections,Adults,Hobby/Enthusiast,Night Life,Pinehurst Events,Pines Connector,Social
ATTACH;FMTTYPE=image/png:https://thepinestimes.com/wp-content/uploads/Karaoke-e1754409547503.png
ORGANIZER;CN="Dugan's Pub Pinehurst":MAILTO:duganspub@aol.com
END:VEVENT
BEGIN:VEVENT
DTSTART;TZID=America/New_York:20250911T200000
DTEND;TZID=America/New_York:20250911T200000
DTSTAMP:20260423T091145
CREATED:20230713T211948Z
LAST-MODIFIED:20260305T021542Z
UID:10064461-1757620800-1757620800@thepinestimes.com
SUMMARY:Karaoke Thursday
DESCRIPTION:Have some fun at Dugan’s Pub in Pinehurst with a Thursday Karaoke Night!
URL:https://thepinestimes.com/event/karaoke-thursday-2/2025-09-11/
LOCATION:Dugan’s Pub Pinehurst\, 2 Market Square\, Pinehurst\, NC\, 28374\, United States
CATEGORIES:Adult Connections,Adults,Hobby/Enthusiast,Night Life,Pinehurst Events,Pines Connector,Social
ATTACH;FMTTYPE=image/png:https://thepinestimes.com/wp-content/uploads/Karaoke-e1754409547503.png
ORGANIZER;CN="Dugan's Pub Pinehurst":MAILTO:duganspub@aol.com
END:VEVENT
BEGIN:VEVENT
DTSTART;TZID=America/New_York:20250904T200000
DTEND;TZID=America/New_York:20250904T200000
DTSTAMP:20260423T091145
CREATED:20230713T211948Z
LAST-MODIFIED:20260305T021542Z
UID:10064460-1757016000-1757016000@thepinestimes.com
SUMMARY:Karaoke Thursday
DESCRIPTION:Have some fun at Dugan’s Pub in Pinehurst with a Thursday Karaoke Night!
URL:https://thepinestimes.com/event/karaoke-thursday-2/2025-09-04/
LOCATION:Dugan’s Pub Pinehurst\, 2 Market Square\, Pinehurst\, NC\, 28374\, United States
CATEGORIES:Adult Connections,Adults,Hobby/Enthusiast,Night Life,Pinehurst Events,Pines Connector,Social
ATTACH;FMTTYPE=image/png:https://thepinestimes.com/wp-content/uploads/Karaoke-e1754409547503.png
ORGANIZER;CN="Dugan's Pub Pinehurst":MAILTO:duganspub@aol.com
END:VEVENT
BEGIN:VEVENT
DTSTART;TZID=America/New_York:20250828T200000
DTEND;TZID=America/New_York:20250828T200000
DTSTAMP:20260423T091145
CREATED:20230713T211948Z
LAST-MODIFIED:20260305T021542Z
UID:10057173-1756411200-1756411200@thepinestimes.com
SUMMARY:Karaoke Thursday
DESCRIPTION:Have some fun at Dugan’s Pub in Pinehurst with a Thursday Karaoke Night!
URL:https://thepinestimes.com/event/karaoke-thursday-2/2025-08-28/
LOCATION:Dugan’s Pub Pinehurst\, 2 Market Square\, Pinehurst\, NC\, 28374\, United States
CATEGORIES:Adult Connections,Adults,Hobby/Enthusiast,Night Life,Pinehurst Events,Pines Connector,Social
ATTACH;FMTTYPE=image/png:https://thepinestimes.com/wp-content/uploads/Karaoke-e1754409547503.png
ORGANIZER;CN="Dugan's Pub Pinehurst":MAILTO:duganspub@aol.com
END:VEVENT
BEGIN:VEVENT
DTSTART;TZID=America/New_York:20250821T200000
DTEND;TZID=America/New_York:20250821T200000
DTSTAMP:20260423T091145
CREATED:20230713T211948Z
LAST-MODIFIED:20260305T021542Z
UID:10057172-1755806400-1755806400@thepinestimes.com
SUMMARY:Karaoke Thursday
DESCRIPTION:Have some fun at Dugan’s Pub in Pinehurst with a Thursday Karaoke Night!
URL:https://thepinestimes.com/event/karaoke-thursday-2/2025-08-21/
LOCATION:Dugan’s Pub Pinehurst\, 2 Market Square\, Pinehurst\, NC\, 28374\, United States
CATEGORIES:Adult Connections,Adults,Hobby/Enthusiast,Night Life,Pinehurst Events,Pines Connector,Social
ATTACH;FMTTYPE=image/png:https://thepinestimes.com/wp-content/uploads/Karaoke-e1754409547503.png
ORGANIZER;CN="Dugan's Pub Pinehurst":MAILTO:duganspub@aol.com
END:VEVENT
BEGIN:VEVENT
DTSTART;TZID=America/New_York:20250814T200000
DTEND;TZID=America/New_York:20250814T200000
DTSTAMP:20260423T091145
CREATED:20230713T211948Z
LAST-MODIFIED:20260305T021542Z
UID:10057171-1755201600-1755201600@thepinestimes.com
SUMMARY:Karaoke Thursday
DESCRIPTION:Have some fun at Dugan’s Pub in Pinehurst with a Thursday Karaoke Night!
URL:https://thepinestimes.com/event/karaoke-thursday-2/2025-08-14/
LOCATION:Dugan’s Pub Pinehurst\, 2 Market Square\, Pinehurst\, NC\, 28374\, United States
CATEGORIES:Adult Connections,Adults,Hobby/Enthusiast,Night Life,Pinehurst Events,Pines Connector,Social
ATTACH;FMTTYPE=image/png:https://thepinestimes.com/wp-content/uploads/Karaoke-e1754409547503.png
ORGANIZER;CN="Dugan's Pub Pinehurst":MAILTO:duganspub@aol.com
END:VEVENT
BEGIN:VEVENT
DTSTART;TZID=America/New_York:20250807T200000
DTEND;TZID=America/New_York:20250807T200000
DTSTAMP:20260423T091145
CREATED:20230713T211948Z
LAST-MODIFIED:20260305T021542Z
UID:10057170-1754596800-1754596800@thepinestimes.com
SUMMARY:Karaoke Thursday
DESCRIPTION:Have some fun at Dugan’s Pub in Pinehurst with a Thursday Karaoke Night!
URL:https://thepinestimes.com/event/karaoke-thursday-2/2025-08-07/
LOCATION:Dugan’s Pub Pinehurst\, 2 Market Square\, Pinehurst\, NC\, 28374\, United States
CATEGORIES:Adult Connections,Adults,Hobby/Enthusiast,Night Life,Pinehurst Events,Pines Connector,Social
ATTACH;FMTTYPE=image/png:https://thepinestimes.com/wp-content/uploads/Karaoke-e1754409547503.png
ORGANIZER;CN="Dugan's Pub Pinehurst":MAILTO:duganspub@aol.com
END:VEVENT
BEGIN:VEVENT
DTSTART;TZID=America/New_York:20250731T200000
DTEND;TZID=America/New_York:20250731T200000
DTSTAMP:20260423T091145
CREATED:20230713T211948Z
LAST-MODIFIED:20260305T021542Z
UID:10057169-1753992000-1753992000@thepinestimes.com
SUMMARY:Karaoke Thursday
DESCRIPTION:Have some fun at Dugan’s Pub in Pinehurst with a Thursday Karaoke Night!
URL:https://thepinestimes.com/event/karaoke-thursday-2/2025-07-31/
LOCATION:Dugan’s Pub Pinehurst\, 2 Market Square\, Pinehurst\, NC\, 28374\, United States
CATEGORIES:Adult Connections,Adults,Hobby/Enthusiast,Night Life,Pinehurst Events,Pines Connector,Social
ATTACH;FMTTYPE=image/png:https://thepinestimes.com/wp-content/uploads/Karaoke-e1754409547503.png
ORGANIZER;CN="Dugan's Pub Pinehurst":MAILTO:duganspub@aol.com
END:VEVENT
BEGIN:VEVENT
DTSTART;TZID=America/New_York:20250724T200000
DTEND;TZID=America/New_York:20250724T200000
DTSTAMP:20260423T091145
CREATED:20230713T211948Z
LAST-MODIFIED:20260305T021542Z
UID:10057168-1753387200-1753387200@thepinestimes.com
SUMMARY:Karaoke Thursday
DESCRIPTION:Have some fun at Dugan’s Pub in Pinehurst with a Thursday Karaoke Night!
URL:https://thepinestimes.com/event/karaoke-thursday-2/2025-07-24/
LOCATION:Dugan’s Pub Pinehurst\, 2 Market Square\, Pinehurst\, NC\, 28374\, United States
CATEGORIES:Adult Connections,Adults,Hobby/Enthusiast,Night Life,Pinehurst Events,Pines Connector,Social
ATTACH;FMTTYPE=image/png:https://thepinestimes.com/wp-content/uploads/Karaoke-e1754409547503.png
ORGANIZER;CN="Dugan's Pub Pinehurst":MAILTO:duganspub@aol.com
END:VEVENT
BEGIN:VEVENT
DTSTART;TZID=America/New_York:20250717T200000
DTEND;TZID=America/New_York:20250717T200000
DTSTAMP:20260423T091145
CREATED:20230713T211948Z
LAST-MODIFIED:20260305T021542Z
UID:10057167-1752782400-1752782400@thepinestimes.com
SUMMARY:Karaoke Thursday
DESCRIPTION:Have some fun at Dugan’s Pub in Pinehurst with a Thursday Karaoke Night!
URL:https://thepinestimes.com/event/karaoke-thursday-2/2025-07-17/
LOCATION:Dugan’s Pub Pinehurst\, 2 Market Square\, Pinehurst\, NC\, 28374\, United States
CATEGORIES:Adult Connections,Adults,Hobby/Enthusiast,Night Life,Pinehurst Events,Pines Connector,Social
ATTACH;FMTTYPE=image/png:https://thepinestimes.com/wp-content/uploads/Karaoke-e1754409547503.png
ORGANIZER;CN="Dugan's Pub Pinehurst":MAILTO:duganspub@aol.com
END:VEVENT
BEGIN:VEVENT
DTSTART;TZID=America/New_York:20250710T200000
DTEND;TZID=America/New_York:20250710T200000
DTSTAMP:20260423T091145
CREATED:20230713T211948Z
LAST-MODIFIED:20260305T021542Z
UID:10057166-1752177600-1752177600@thepinestimes.com
SUMMARY:Karaoke Thursday
DESCRIPTION:Have some fun at Dugan’s Pub in Pinehurst with a Thursday Karaoke Night!
URL:https://thepinestimes.com/event/karaoke-thursday-2/2025-07-10/
LOCATION:Dugan’s Pub Pinehurst\, 2 Market Square\, Pinehurst\, NC\, 28374\, United States
CATEGORIES:Adult Connections,Adults,Hobby/Enthusiast,Night Life,Pinehurst Events,Pines Connector,Social
ATTACH;FMTTYPE=image/png:https://thepinestimes.com/wp-content/uploads/Karaoke-e1754409547503.png
ORGANIZER;CN="Dugan's Pub Pinehurst":MAILTO:duganspub@aol.com
END:VEVENT
BEGIN:VEVENT
DTSTART;TZID=America/New_York:20250703T200000
DTEND;TZID=America/New_York:20250703T200000
DTSTAMP:20260423T091145
CREATED:20230713T211948Z
LAST-MODIFIED:20260305T021542Z
UID:10057165-1751572800-1751572800@thepinestimes.com
SUMMARY:Karaoke Thursday
DESCRIPTION:Have some fun at Dugan’s Pub in Pinehurst with a Thursday Karaoke Night!
URL:https://thepinestimes.com/event/karaoke-thursday-2/2025-07-03/
LOCATION:Dugan’s Pub Pinehurst\, 2 Market Square\, Pinehurst\, NC\, 28374\, United States
CATEGORIES:Adult Connections,Adults,Hobby/Enthusiast,Night Life,Pinehurst Events,Pines Connector,Social
ATTACH;FMTTYPE=image/png:https://thepinestimes.com/wp-content/uploads/Karaoke-e1754409547503.png
ORGANIZER;CN="Dugan's Pub Pinehurst":MAILTO:duganspub@aol.com
END:VEVENT
BEGIN:VEVENT
DTSTART;TZID=America/New_York:20250626T200000
DTEND;TZID=America/New_York:20250626T200000
DTSTAMP:20260423T091145
CREATED:20230713T211948Z
LAST-MODIFIED:20260305T021542Z
UID:10057164-1750968000-1750968000@thepinestimes.com
SUMMARY:Karaoke Thursday
DESCRIPTION:Have some fun at Dugan’s Pub in Pinehurst with a Thursday Karaoke Night!
URL:https://thepinestimes.com/event/karaoke-thursday-2/2025-06-26/
LOCATION:Dugan’s Pub Pinehurst\, 2 Market Square\, Pinehurst\, NC\, 28374\, United States
CATEGORIES:Adult Connections,Adults,Hobby/Enthusiast,Night Life,Pinehurst Events,Pines Connector,Social
ATTACH;FMTTYPE=image/png:https://thepinestimes.com/wp-content/uploads/Karaoke-e1754409547503.png
ORGANIZER;CN="Dugan's Pub Pinehurst":MAILTO:duganspub@aol.com
END:VEVENT
BEGIN:VEVENT
DTSTART;TZID=America/New_York:20250619T200000
DTEND;TZID=America/New_York:20250619T200000
DTSTAMP:20260423T091145
CREATED:20230713T211948Z
LAST-MODIFIED:20260305T021542Z
UID:10057163-1750363200-1750363200@thepinestimes.com
SUMMARY:Karaoke Thursday
DESCRIPTION:Have some fun at Dugan’s Pub in Pinehurst with a Thursday Karaoke Night!
URL:https://thepinestimes.com/event/karaoke-thursday-2/2025-06-19/
LOCATION:Dugan’s Pub Pinehurst\, 2 Market Square\, Pinehurst\, NC\, 28374\, United States
CATEGORIES:Adult Connections,Adults,Hobby/Enthusiast,Night Life,Pinehurst Events,Pines Connector,Social
ATTACH;FMTTYPE=image/png:https://thepinestimes.com/wp-content/uploads/Karaoke-e1754409547503.png
ORGANIZER;CN="Dugan's Pub Pinehurst":MAILTO:duganspub@aol.com
END:VEVENT
BEGIN:VEVENT
DTSTART;TZID=America/New_York:20250612T200000
DTEND;TZID=America/New_York:20250612T200000
DTSTAMP:20260423T091145
CREATED:20230713T211948Z
LAST-MODIFIED:20260305T021542Z
UID:10057162-1749758400-1749758400@thepinestimes.com
SUMMARY:Karaoke Thursday
DESCRIPTION:Have some fun at Dugan’s Pub in Pinehurst with a Thursday Karaoke Night!
URL:https://thepinestimes.com/event/karaoke-thursday-2/2025-06-12/
LOCATION:Dugan’s Pub Pinehurst\, 2 Market Square\, Pinehurst\, NC\, 28374\, United States
CATEGORIES:Adult Connections,Adults,Hobby/Enthusiast,Night Life,Pinehurst Events,Pines Connector,Social
ATTACH;FMTTYPE=image/png:https://thepinestimes.com/wp-content/uploads/Karaoke-e1754409547503.png
ORGANIZER;CN="Dugan's Pub Pinehurst":MAILTO:duganspub@aol.com
END:VEVENT
BEGIN:VEVENT
DTSTART;TZID=America/New_York:20250605T200000
DTEND;TZID=America/New_York:20250605T200000
DTSTAMP:20260423T091145
CREATED:20230713T211948Z
LAST-MODIFIED:20260305T021542Z
UID:10057161-1749153600-1749153600@thepinestimes.com
SUMMARY:Karaoke Thursday
DESCRIPTION:Have some fun at Dugan’s Pub in Pinehurst with a Thursday Karaoke Night!
URL:https://thepinestimes.com/event/karaoke-thursday-2/2025-06-05/
LOCATION:Dugan’s Pub Pinehurst\, 2 Market Square\, Pinehurst\, NC\, 28374\, United States
CATEGORIES:Adult Connections,Adults,Hobby/Enthusiast,Night Life,Pinehurst Events,Pines Connector,Social
ATTACH;FMTTYPE=image/png:https://thepinestimes.com/wp-content/uploads/Karaoke-e1754409547503.png
ORGANIZER;CN="Dugan's Pub Pinehurst":MAILTO:duganspub@aol.com
END:VEVENT
END:VCALENDAR