BEGIN:VCALENDAR
VERSION:2.0
PRODID:-//The Pines Times - ECPv6.15.20//NONSGML v1.0//EN
CALSCALE:GREGORIAN
METHOD:PUBLISH
X-ORIGINAL-URL:https://thepinestimes.com
X-WR-CALDESC:Events for The Pines Times
REFRESH-INTERVAL;VALUE=DURATION:PT1H
X-Robots-Tag:noindex
X-PUBLISHED-TTL:PT1H
BEGIN:VTIMEZONE
TZID:America/New_York
BEGIN:DAYLIGHT
TZOFFSETFROM:-0500
TZOFFSETTO:-0400
TZNAME:EDT
DTSTART:20240310T070000
END:DAYLIGHT
BEGIN:STANDARD
TZOFFSETFROM:-0400
TZOFFSETTO:-0500
TZNAME:EST
DTSTART:20241103T060000
END:STANDARD
BEGIN:DAYLIGHT
TZOFFSETFROM:-0500
TZOFFSETTO:-0400
TZNAME:EDT
DTSTART:20250309T070000
END:DAYLIGHT
BEGIN:STANDARD
TZOFFSETFROM:-0400
TZOFFSETTO:-0500
TZNAME:EST
DTSTART:20251102T060000
END:STANDARD
BEGIN:DAYLIGHT
TZOFFSETFROM:-0500
TZOFFSETTO:-0400
TZNAME:EDT
DTSTART:20260308T070000
END:DAYLIGHT
BEGIN:STANDARD
TZOFFSETFROM:-0400
TZOFFSETTO:-0500
TZNAME:EST
DTSTART:20261101T060000
END:STANDARD
BEGIN:DAYLIGHT
TZOFFSETFROM:-0500
TZOFFSETTO:-0400
TZNAME:EDT
DTSTART:20270314T070000
END:DAYLIGHT
BEGIN:STANDARD
TZOFFSETFROM:-0400
TZOFFSETTO:-0500
TZNAME:EST
DTSTART:20271107T060000
END:STANDARD
END:VTIMEZONE
BEGIN:VEVENT
DTSTART;TZID=America/New_York:20260328T100000
DTEND;TZID=America/New_York:20260328T170000
DTSTAMP:20260423T003104
CREATED:20260318T202758Z
LAST-MODIFIED:20260318T203016Z
UID:10083530-1774692000-1774717200@thepinestimes.com
SUMMARY:Spring Open House 2026 and 10 Year Anniversary Celebration
DESCRIPTION:Come out for Eloise Trading Company’s 10th Anniversary Celebration and annual Spring Open House event on Saturday\, March 28th\, from 10AM-5PM! Browse the store while enjoying a selection of bites and beverages\, along with a dedicated wine tasting. There will be storewide specials throughout the day. Explore new spring decor and unique gift items while marking a decade of local business in Aberdeen.
URL:https://thepinestimes.com/event/spring-open-house-2026-and-10-year-anniversary-celebration/
LOCATION:Eloise Trading Company\, 111 West Main Street\, Aberdeen\, NC\, 28315\, United States
CATEGORIES:Aberdeen Events,Adults,Open House,Shopping,Social
ATTACH;FMTTYPE=image/jpeg:https://thepinestimes.com/wp-content/uploads/SpringOpenHouseEloiseFeature.jpg
END:VEVENT
BEGIN:VEVENT
DTSTART;TZID=America/New_York:20260327T160000
DTEND;TZID=America/New_York:20260327T180000
DTSTAMP:20260423T003104
CREATED:20260318T201907Z
LAST-MODIFIED:20260318T203353Z
UID:10083529-1774627200-1774634400@thepinestimes.com
SUMMARY:10 Year Anniversary Celebration: VIP After Hours
DESCRIPTION:Eloise Trading Company marks its 10th anniversary! To honor this milestone\, the shop is hosting a special VIP After Hours event on Friday\, March 27th\, from 4PM-6PM. Guests can look forward to a festive atmosphere featuring a signature cocktail and light snacks while browsing the latest spring favorites. There will be giveaways and exclusive specials throughout the event. The first 25 customers who spend 100 dollars or more will receive a special swag bag while supplies last. Please RSVP through the event website link provided below to ensure there are plenty of refreshments to go around. Bring a friend\, the more the Merrier! \n \n 
URL:https://thepinestimes.com/event/10-year-anniversary-celebration-vip-after-hours/
LOCATION:Eloise Trading Company\, 111 West Main Street\, Aberdeen\, NC\, 28315\, United States
CATEGORIES:Adults,Shopping,Social
ATTACH;FMTTYPE=image/jpeg:https://thepinestimes.com/wp-content/uploads/EloiseTradingCompanyFeature.jpg
END:VEVENT
BEGIN:VEVENT
DTSTART;TZID=America/New_York:20251115T100000
DTEND;TZID=America/New_York:20251115T170000
DTSTAMP:20260423T003104
CREATED:20251110T165650Z
LAST-MODIFIED:20251114T181306Z
UID:10075150-1763200800-1763226000@thepinestimes.com
SUMMARY:Holiday Open House 2025
DESCRIPTION:Celebrate the start of the holiday season at Eloise Trading Company’s annual Holiday Open House in Downtown Aberdeen! This Saturday\, November 15th\, from 10am-5pm\, join for a day filled with fun\, festivities and shopping to get you into the holiday spirit.
URL:https://thepinestimes.com/event/holiday-open-house-celebration/
LOCATION:Eloise Trading Company\, 111 West Main Street\, Aberdeen\, NC\, 28315\, United States
CATEGORIES:Aberdeen Events,Adults,Beer and Wine,Christmas,Hobby/Enthusiast,Holiday Events,Open House,Senior,Shopping,Social,Tasting,Young Adults
ATTACH;FMTTYPE=image/jpeg:https://thepinestimes.com/wp-content/uploads/EloiseTradingCompanyFeature.jpg
END:VEVENT
END:VCALENDAR