BEGIN:VCALENDAR
VERSION:2.0
PRODID:-//The Pines Times - ECPv6.15.20//NONSGML v1.0//EN
CALSCALE:GREGORIAN
METHOD:PUBLISH
X-WR-CALNAME:The Pines Times
X-ORIGINAL-URL:https://thepinestimes.com
X-WR-CALDESC:Events for The Pines Times
REFRESH-INTERVAL;VALUE=DURATION:PT1H
X-Robots-Tag:noindex
X-PUBLISHED-TTL:PT1H
BEGIN:VTIMEZONE
TZID:America/New_York
BEGIN:DAYLIGHT
TZOFFSETFROM:-0500
TZOFFSETTO:-0400
TZNAME:EDT
DTSTART:20240310T070000
END:DAYLIGHT
BEGIN:STANDARD
TZOFFSETFROM:-0400
TZOFFSETTO:-0500
TZNAME:EST
DTSTART:20241103T060000
END:STANDARD
BEGIN:DAYLIGHT
TZOFFSETFROM:-0500
TZOFFSETTO:-0400
TZNAME:EDT
DTSTART:20250309T070000
END:DAYLIGHT
BEGIN:STANDARD
TZOFFSETFROM:-0400
TZOFFSETTO:-0500
TZNAME:EST
DTSTART:20251102T060000
END:STANDARD
BEGIN:DAYLIGHT
TZOFFSETFROM:-0500
TZOFFSETTO:-0400
TZNAME:EDT
DTSTART:20260308T070000
END:DAYLIGHT
BEGIN:STANDARD
TZOFFSETFROM:-0400
TZOFFSETTO:-0500
TZNAME:EST
DTSTART:20261101T060000
END:STANDARD
END:VTIMEZONE
BEGIN:VEVENT
DTSTART;TZID=America/New_York:20251109T121500
DTEND;TZID=America/New_York:20251109T121500
DTSTAMP:20260424T160844
CREATED:20251107T133609Z
LAST-MODIFIED:20251107T133609Z
UID:10074950-1762690500-1762690500@thepinestimes.com
SUMMARY:Youth Group Spaghetti Dinner Fundraiser
DESCRIPTION:Emmanuel Baptist Church in Carthage is hosting a Youth Fundraiser Spaghetti Dinner on Sunday\, November 9th. The dinner will be held immediately following the morning service\, starting at 12:15pm. Enjoy a plate of spaghetti for a donation of any amount. All proceeds from the meal will go directly to supporting the Youth Group’s various projects and events.
URL:https://thepinestimes.com/event/youth-group-spaghetti-dinner-fundraiser/
LOCATION:Emmanuel Baptist Church Carthage\, NC\, 632 McCrimmon Rd.\, Carthage\, 28327\, United States
CATEGORIES:Adults,Donation,Family,Food,Fundraiser,Piney's Kids,Senior,Social,Teen Activities,Young Adults
ATTACH;FMTTYPE=image/jpeg:https://thepinestimes.com/wp-content/uploads/EmmanuelBaptistChurchFeature.jpg
ORGANIZER;CN="Emmanuel Baptist Church Carthage%2C NC":MAILTO:emmanuelofcarthage@yahoo.com
END:VEVENT
END:VCALENDAR