BEGIN:VCALENDAR
VERSION:2.0
PRODID:-//The Pines Times - ECPv6.15.20//NONSGML v1.0//EN
CALSCALE:GREGORIAN
METHOD:PUBLISH
X-WR-CALNAME:The Pines Times
X-ORIGINAL-URL:https://thepinestimes.com
X-WR-CALDESC:Events for The Pines Times
REFRESH-INTERVAL;VALUE=DURATION:PT1H
X-Robots-Tag:noindex
X-PUBLISHED-TTL:PT1H
BEGIN:VTIMEZONE
TZID:America/New_York
BEGIN:DAYLIGHT
TZOFFSETFROM:-0500
TZOFFSETTO:-0400
TZNAME:EDT
DTSTART:20250309T070000
END:DAYLIGHT
BEGIN:STANDARD
TZOFFSETFROM:-0400
TZOFFSETTO:-0500
TZNAME:EST
DTSTART:20251102T060000
END:STANDARD
BEGIN:DAYLIGHT
TZOFFSETFROM:-0500
TZOFFSETTO:-0400
TZNAME:EDT
DTSTART:20260308T070000
END:DAYLIGHT
BEGIN:STANDARD
TZOFFSETFROM:-0400
TZOFFSETTO:-0500
TZNAME:EST
DTSTART:20261101T060000
END:STANDARD
BEGIN:DAYLIGHT
TZOFFSETFROM:-0500
TZOFFSETTO:-0400
TZNAME:EDT
DTSTART:20270314T070000
END:DAYLIGHT
BEGIN:STANDARD
TZOFFSETFROM:-0400
TZOFFSETTO:-0500
TZNAME:EST
DTSTART:20271107T060000
END:STANDARD
END:VTIMEZONE
BEGIN:VEVENT
DTSTART;TZID=America/New_York:20260417T120000
DTEND;TZID=America/New_York:20260417T130000
DTSTAMP:20260422T073456
CREATED:20260204T131648Z
LAST-MODIFIED:20260413T141227Z
UID:10080516-1776427200-1776430800@thepinestimes.com
SUMMARY:Bach’s Lunch Series: 4Hands Piano Duo
DESCRIPTION:The next Bach’s Lunch takes place this Friday\, April 17th at 12:00PM! This performance features 4Hands Piano Duo. \nPianists Kristina Henckel and Amanda Virelles established the 4HANDS Piano Duo in 2019. Their repertoire spans major works from the Classical\, Romantic\, 20th\, and 21st centuries. Each artist began performing professionally in her native country before earning doctoral degrees in piano performance and pedagogy in the United States. As a duo\, they present engaging piano ensemble programs\, performing both four-hand pieces and works written for two pianos. \nAll are welcome to attend this community event\, and further information can be found by calling 910-692-3171 or visiting the parish website. The performance will take place at Emmanuel Episcopal Church\, and you are invited to bring a bag lunch and come enjoy the music. \n \n 
URL:https://thepinestimes.com/event/bachs-lunch-series-4hands-piano-duo/
LOCATION:Emmanuel Episcopal Church-Southern Pines\, 350 E MASSACHUSETTS Ave\, Southern Pines\, NC\, 28387\, United States
CATEGORIES:Adults,Arts,Concert,Family,Golden Age,Hobby/Enthusiast,Live Entertainment,Music,Senior,Social,Southern Pines Events
ATTACH;FMTTYPE=image/jpeg:https://thepinestimes.com/wp-content/uploads/EmmanuelBachsLunchFeature.jpg
END:VEVENT
BEGIN:VEVENT
DTSTART;TZID=America/New_York:20260415T170000
DTEND;TZID=America/New_York:20260415T183000
DTSTAMP:20260422T073456
CREATED:20260413T134518Z
LAST-MODIFIED:20260413T134518Z
UID:10080735-1776272400-1776277800@thepinestimes.com
SUMMARY:Wednesday Community Dinners
DESCRIPTION:Community Dinners are back at Emmanuel Episcopal Church in Southern Pines\, from 5:00pm-6:30pm in the Parish Hall. Admission is $10 for adults and $5 for children ages 4-12\, and free entry for children 3 and under. There will be a family cap of $25 and butter noodles available for children who might not want the themed meal. \nWednesday\, April 15 is the next Community Dinner with BBQ pulled chicken on the menu! \nPlease visit the event link provided below to view the menu and please remember to RSVP at the following link by Tuesday\, April 14th\, at 9:00AM.
URL:https://thepinestimes.com/event/wednesday-community-dinners-2/
LOCATION:Emmanuel Episcopal Church-Southern Pines\, 350 E MASSACHUSETTS Ave\, Southern Pines\, NC\, 28387\, United States
CATEGORIES:Adults,Family,Food,Hobby/Enthusiast,Music,Piney's Kids,Senior,Social,Southern Pines Events,Young Adults
ATTACH;FMTTYPE=image/jpeg:https://thepinestimes.com/wp-content/uploads/EmmanuelChurchFeature.jpg
END:VEVENT
BEGIN:VEVENT
DTSTART;TZID=America/New_York:20260217T170000
DTEND;TZID=America/New_York:20260217T183000
DTSTAMP:20260422T073456
CREATED:20260117T141756Z
LAST-MODIFIED:20260209T150642Z
UID:10080056-1771347600-1771353000@thepinestimes.com
SUMMARY:Wednesday Community Dinners
DESCRIPTION:Community Dinners are back for the New Year at Emmanuel Episcopal Church in Southern Pines\, from 5:00pm-6:30pm in the Parish Hall. Admission is $10 for adults and $5 for children ages 4-12\, and free entry for children 3 and under. There will be a family cap of $25 and butter noodles available for children who might not want the themed meal. Note that for the third week in February\, the dinner will take place on Tuesday\, February 17th. Please visit the event link provided below to view the menu and RSVP by noon each Monday.
URL:https://thepinestimes.com/event/wednesday-community-dinners/2026-02-17/
LOCATION:Emmanuel Episcopal Church-Southern Pines\, 350 E MASSACHUSETTS Ave\, Southern Pines\, NC\, 28387\, United States
CATEGORIES:Adults,Family,Food,Hobby/Enthusiast,Music,Piney's Kids,Senior,Social,Southern Pines Events,Young Adults
ATTACH;FMTTYPE=image/jpeg:https://thepinestimes.com/wp-content/uploads/EmmanuelChurchFeature.jpg
END:VEVENT
BEGIN:VEVENT
DTSTART;TZID=America/New_York:20260211T170000
DTEND;TZID=America/New_York:20260211T183000
DTSTAMP:20260422T073456
CREATED:20260117T141756Z
LAST-MODIFIED:20260209T150642Z
UID:10079708-1770829200-1770834600@thepinestimes.com
SUMMARY:Wednesday Community Dinners
DESCRIPTION:Community Dinners are back for the New Year at Emmanuel Episcopal Church in Southern Pines\, from 5:00pm-6:30pm in the Parish Hall. Admission is $10 for adults and $5 for children ages 4-12\, and free entry for children 3 and under. There will be a family cap of $25 and butter noodles available for children who might not want the themed meal. Note that for the third week in February\, the dinner will take place on Tuesday\, February 17th. Please visit the event link provided below to view the menu and RSVP by noon each Monday.
URL:https://thepinestimes.com/event/wednesday-community-dinners/2026-02-11/
LOCATION:Emmanuel Episcopal Church-Southern Pines\, 350 E MASSACHUSETTS Ave\, Southern Pines\, NC\, 28387\, United States
CATEGORIES:Adults,Family,Food,Hobby/Enthusiast,Music,Piney's Kids,Senior,Social,Southern Pines Events,Young Adults
ATTACH;FMTTYPE=image/jpeg:https://thepinestimes.com/wp-content/uploads/EmmanuelChurchFeature.jpg
END:VEVENT
BEGIN:VEVENT
DTSTART;TZID=America/New_York:20260208T083000
DTEND;TZID=America/New_York:20260208T113000
DTSTAMP:20260422T073456
CREATED:20260126T160023Z
LAST-MODIFIED:20260126T160208Z
UID:10080039-1770539400-1770550200@thepinestimes.com
SUMMARY:"Rise Against Hunger" Meal Packaging Event
DESCRIPTION:Emmanuel Episcopal Church is again partnering with Rise Against Hunger\, aiming to package over 20\,000 meals to support nutrition\, education\, and health for children and families facing hunger right now around the world. We are excited to celebrate together as we cross over 100\,000 meals packaged together! Come together and volunteer on Sunday\, February 8th from 8:30am-11:30am. Register and donate through the event website link provided below. \n \n 
URL:https://thepinestimes.com/event/rise-against-hunger-meal-packaging-event/
LOCATION:Emmanuel Episcopal Church-Southern Pines\, 350 E MASSACHUSETTS Ave\, Southern Pines\, NC\, 28387\, United States
CATEGORIES:Adults,Family,Food,Hobby/Enthusiast,Senior,Social,Southern Pines Events,Teen Activities,Volunteer,Young Adults
ATTACH;FMTTYPE=image/jpeg:https://thepinestimes.com/wp-content/uploads/RiseAgainstHungerFeature.jpg
END:VEVENT
BEGIN:VEVENT
DTSTART;TZID=America/New_York:20260204T170000
DTEND;TZID=America/New_York:20260204T183000
DTSTAMP:20260422T073456
CREATED:20260117T141756Z
LAST-MODIFIED:20260209T150642Z
UID:10079707-1770224400-1770229800@thepinestimes.com
SUMMARY:Wednesday Community Dinners
DESCRIPTION:Community Dinners are back for the New Year at Emmanuel Episcopal Church in Southern Pines\, from 5:00pm-6:30pm in the Parish Hall. Admission is $10 for adults and $5 for children ages 4-12\, and free entry for children 3 and under. There will be a family cap of $25 and butter noodles available for children who might not want the themed meal. Note that for the third week in February\, the dinner will take place on Tuesday\, February 17th. Please visit the event link provided below to view the menu and RSVP by noon each Monday.
URL:https://thepinestimes.com/event/wednesday-community-dinners/2026-02-04/
LOCATION:Emmanuel Episcopal Church-Southern Pines\, 350 E MASSACHUSETTS Ave\, Southern Pines\, NC\, 28387\, United States
CATEGORIES:Adults,Family,Food,Hobby/Enthusiast,Music,Piney's Kids,Senior,Social,Southern Pines Events,Young Adults
ATTACH;FMTTYPE=image/jpeg:https://thepinestimes.com/wp-content/uploads/EmmanuelChurchFeature.jpg
END:VEVENT
BEGIN:VEVENT
DTSTART;TZID=America/New_York:20260128T170000
DTEND;TZID=America/New_York:20260128T183000
DTSTAMP:20260422T073456
CREATED:20260117T141756Z
LAST-MODIFIED:20260209T150642Z
UID:10079706-1769619600-1769625000@thepinestimes.com
SUMMARY:Wednesday Community Dinners
DESCRIPTION:Community Dinners are back for the New Year at Emmanuel Episcopal Church in Southern Pines\, from 5:00pm-6:30pm in the Parish Hall. Admission is $10 for adults and $5 for children ages 4-12\, and free entry for children 3 and under. There will be a family cap of $25 and butter noodles available for children who might not want the themed meal. Note that for the third week in February\, the dinner will take place on Tuesday\, February 17th. Please visit the event link provided below to view the menu and RSVP by noon each Monday.
URL:https://thepinestimes.com/event/wednesday-community-dinners/2026-01-28/
LOCATION:Emmanuel Episcopal Church-Southern Pines\, 350 E MASSACHUSETTS Ave\, Southern Pines\, NC\, 28387\, United States
CATEGORIES:Adults,Family,Food,Hobby/Enthusiast,Music,Piney's Kids,Senior,Social,Southern Pines Events,Young Adults
ATTACH;FMTTYPE=image/jpeg:https://thepinestimes.com/wp-content/uploads/EmmanuelChurchFeature.jpg
END:VEVENT
BEGIN:VEVENT
DTSTART;TZID=America/New_York:20260121T170000
DTEND;TZID=America/New_York:20260121T183000
DTSTAMP:20260422T073456
CREATED:20260117T141756Z
LAST-MODIFIED:20260209T150642Z
UID:10079705-1769014800-1769020200@thepinestimes.com
SUMMARY:Wednesday Community Dinners
DESCRIPTION:Community Dinners are back for the New Year at Emmanuel Episcopal Church in Southern Pines\, from 5:00pm-6:30pm in the Parish Hall. Admission is $10 for adults and $5 for children ages 4-12\, and free entry for children 3 and under. There will be a family cap of $25 and butter noodles available for children who might not want the themed meal. Note that for the third week in February\, the dinner will take place on Tuesday\, February 17th. Please visit the event link provided below to view the menu and RSVP by noon each Monday.
URL:https://thepinestimes.com/event/wednesday-community-dinners/2026-01-21/
LOCATION:Emmanuel Episcopal Church-Southern Pines\, 350 E MASSACHUSETTS Ave\, Southern Pines\, NC\, 28387\, United States
CATEGORIES:Adults,Family,Food,Hobby/Enthusiast,Music,Piney's Kids,Senior,Social,Southern Pines Events,Young Adults
ATTACH;FMTTYPE=image/jpeg:https://thepinestimes.com/wp-content/uploads/EmmanuelChurchFeature.jpg
END:VEVENT
END:VCALENDAR