BEGIN:VCALENDAR
VERSION:2.0
PRODID:-//The Pines Times - ECPv6.15.20//NONSGML v1.0//EN
CALSCALE:GREGORIAN
METHOD:PUBLISH
X-ORIGINAL-URL:https://thepinestimes.com
X-WR-CALDESC:Events for The Pines Times
REFRESH-INTERVAL;VALUE=DURATION:PT1H
X-Robots-Tag:noindex
X-PUBLISHED-TTL:PT1H
BEGIN:VTIMEZONE
TZID:America/New_York
BEGIN:DAYLIGHT
TZOFFSETFROM:-0500
TZOFFSETTO:-0400
TZNAME:EDT
DTSTART:20240310T070000
END:DAYLIGHT
BEGIN:STANDARD
TZOFFSETFROM:-0400
TZOFFSETTO:-0500
TZNAME:EST
DTSTART:20241103T060000
END:STANDARD
BEGIN:DAYLIGHT
TZOFFSETFROM:-0500
TZOFFSETTO:-0400
TZNAME:EDT
DTSTART:20250309T070000
END:DAYLIGHT
BEGIN:STANDARD
TZOFFSETFROM:-0400
TZOFFSETTO:-0500
TZNAME:EST
DTSTART:20251102T060000
END:STANDARD
BEGIN:DAYLIGHT
TZOFFSETFROM:-0500
TZOFFSETTO:-0400
TZNAME:EDT
DTSTART:20260308T070000
END:DAYLIGHT
BEGIN:STANDARD
TZOFFSETFROM:-0400
TZOFFSETTO:-0500
TZNAME:EST
DTSTART:20261101T060000
END:STANDARD
END:VTIMEZONE
BEGIN:VEVENT
DTSTART;TZID=America/New_York:20251231T190000
DTEND;TZID=America/New_York:20251231T210000
DTSTAMP:20260425T221855
CREATED:20251221T131145Z
LAST-MODIFIED:20251221T131258Z
UID:10077625-1767207600-1767214800@thepinestimes.com
SUMMARY:"Psychedelic ’80s New Year’s Eve Party" Dinner Theatre
DESCRIPTION:Ring in the new year with a night of awesome 80’s themed entertainment with the Fayetteville Dinner Theatre! Win wonderful door prizes and compete for more in 80’s themed costume\, dance\, and trivia contests! Enjoy heavy Hors D’oeuvres provided by Two Brothers Catering and rock out to Fayetteville’s Favorite Party Band: Joyner\, Young\, & Marie. Tickets range $90-$165 and seating is limited. For more information contact FDT at 910-391-3859. For full details and online ticket purchases\, follow the event website link provided below.
URL:https://thepinestimes.com/event/psychedelic-80s-new-years-eve-party-dinner-theatre/
LOCATION:Gates Four Golf and Country Club\, 6775 Irongate Dr\, Fayetteville\, NC\, 28306\, United States
CATEGORIES:Adults,Dance,Fayetteville,Food,Games,Holiday Events,Music,New Year's Eve,Out of Town,Senior,Social,Young Adults
ATTACH;FMTTYPE=image/jpeg:https://thepinestimes.com/wp-content/uploads/FAyettevilleDinnerTheaterFeature.jpg
END:VEVENT
END:VCALENDAR