BEGIN:VCALENDAR
VERSION:2.0
PRODID:-//The Pines Times - ECPv6.15.20//NONSGML v1.0//EN
CALSCALE:GREGORIAN
METHOD:PUBLISH
X-ORIGINAL-URL:https://thepinestimes.com
X-WR-CALDESC:Events for The Pines Times
REFRESH-INTERVAL;VALUE=DURATION:PT1H
X-Robots-Tag:noindex
X-PUBLISHED-TTL:PT1H
BEGIN:VTIMEZONE
TZID:America/New_York
BEGIN:DAYLIGHT
TZOFFSETFROM:-0500
TZOFFSETTO:-0400
TZNAME:EDT
DTSTART:20250309T070000
END:DAYLIGHT
BEGIN:STANDARD
TZOFFSETFROM:-0400
TZOFFSETTO:-0500
TZNAME:EST
DTSTART:20251102T060000
END:STANDARD
BEGIN:DAYLIGHT
TZOFFSETFROM:-0500
TZOFFSETTO:-0400
TZNAME:EDT
DTSTART:20260308T070000
END:DAYLIGHT
BEGIN:STANDARD
TZOFFSETFROM:-0400
TZOFFSETTO:-0500
TZNAME:EST
DTSTART:20261101T060000
END:STANDARD
BEGIN:DAYLIGHT
TZOFFSETFROM:-0500
TZOFFSETTO:-0400
TZNAME:EDT
DTSTART:20270314T070000
END:DAYLIGHT
BEGIN:STANDARD
TZOFFSETFROM:-0400
TZOFFSETTO:-0500
TZNAME:EST
DTSTART:20271107T060000
END:STANDARD
END:VTIMEZONE
BEGIN:VEVENT
DTSTART;TZID=America/New_York:20260317T160000
DTEND;TZID=America/New_York:20260317T180000
DTSTAMP:20260424T061555
CREATED:20260301T223637Z
LAST-MODIFIED:20260301T223637Z
UID:10082121-1773763200-1773770400@thepinestimes.com
SUMMARY:Filly Golf Spring League
DESCRIPTION:Filly Golf at Whispering Woods is what you need to get up to par: a 9-hole women’s golf league for beginners of any age! The Filly Golf Spring league is back and kicking off on Tuesday\, March 17th\, for an exciting 12-week season! This program is a fantastic deal for golfers of all levels\, featuring a $10 registration fee and a $20 greens fee per session. Tee off between 4PM-6PM. \nBeginners are warmly welcomed to join the fun\, and there is a special introductory meeting for first-time players on Tuesday\, March 10th at 6PM. To make the evenings even better\, participants can enjoy half-price house wine every Tuesday. It is a perfect way to improve your game and socialize in a relaxed atmosphere this spring. Call 910-688-7125 for details. \n \n 
URL:https://thepinestimes.com/event/filly-golf-spring-league/
LOCATION:Whispering Woods Golf Club\, 26 Sandpiper Drive\, Whispering Pines\, NC\, 28327\, United States
CATEGORIES:Golf,Health & Wellness,Hobby/Enthusiast,Nature/Outdoors,Senior,Social,Sports,Whispering Pines Events,Women,Young Adults
ATTACH;FMTTYPE=image/jpeg:https://thepinestimes.com/wp-content/uploads/FillyGolfFeature.jpg
END:VEVENT
BEGIN:VEVENT
DTSTART;TZID=America/New_York:20260311T180000
DTEND;TZID=America/New_York:20260311T203000
DTSTAMP:20260424T061555
CREATED:20260211T155358Z
LAST-MODIFIED:20260311T165457Z
UID:10083317-1773252000-1773261000@thepinestimes.com
SUMMARY:Music Bingo Night
DESCRIPTION:Come out for Music Bingo Wednesday tonight at Filly & Colt’s\, from 6:00pm-8:30pm! There will be great music and opportunities to win fantastic prizes. Everyone is encouraged to make reservations to join the fun and ensure a spot!
URL:https://thepinestimes.com/event/music-bingo-night/2026-03-11/
LOCATION:Filly & Colt’s\, 26 Sandpiper Dr\, Whispering Pines\, NC\, 28327\, United States
CATEGORIES:Adults,Family,Food,Games,Hobby/Enthusiast,Music,Music Bingo,Night Life,Social,Whispering Pines Events,Young Adults
ATTACH;FMTTYPE=image/png:https://thepinestimes.com/wp-content/uploads/Music-Bingo.png
END:VEVENT
BEGIN:VEVENT
DTSTART;TZID=America/New_York:20260310T180000
DTEND;TZID=America/New_York:20260310T180000
DTSTAMP:20260424T061555
CREATED:20260301T223201Z
LAST-MODIFIED:20260301T223201Z
UID:10082120-1773165600-1773165600@thepinestimes.com
SUMMARY:Filly Golf Spring League Beginner Introduction
DESCRIPTION:Filly Golf at Whispering Woods is what you need to get up to par: a 9-hole women’s golf league for beginners of any age! The Filly Golf Spring league is back and kicking off on Tuesday\, March 17th\, for an exciting 12-week season! This program is a fantastic deal for golfers of all levels\, featuring a $10 registration fee and a $20 greens fee per session. \nBeginners are warmly welcomed to join the fun\, and there is a special introductory meeting for first-time players on Tuesday\, March 10th at 6PM. To make the evenings even better\, participants can enjoy half-price house wine every Tuesday. It is a perfect way to improve your game and socialize in a relaxed atmosphere this spring. Call 910-688-7125 for details. \n \n 
URL:https://thepinestimes.com/event/filly-golf-spring-league-beginner-introduction/
LOCATION:Whispering Woods Golf Club\, 26 Sandpiper Drive\, Whispering Pines\, NC\, 28327\, United States
CATEGORIES:Golf,Health & Wellness,Hobby/Enthusiast,Nature/Outdoors,Senior,Social,Sports,Whispering Pines Events,Women,Young Adults
ATTACH;FMTTYPE=image/jpeg:https://thepinestimes.com/wp-content/uploads/FillyGolfFeature.jpg
END:VEVENT
BEGIN:VEVENT
DTSTART;TZID=America/New_York:20260217T170000
DTEND;TZID=America/New_York:20260217T200000
DTSTAMP:20260424T061555
CREATED:20260217T000206Z
LAST-MODIFIED:20260217T000206Z
UID:10081051-1771347600-1771358400@thepinestimes.com
SUMMARY:Fat Tuesday Dinner Special
DESCRIPTION:Join Filly & Colt’s on Tuesday\, February 17th\, for a Mardi Gras Celebration! Take advantage of the Fat Tuesday special. Enjoy 1/2 price house wine all day long. In addition to the drink specials\, the dinner special for the evening is Jambalaya and Beignets.
URL:https://thepinestimes.com/event/fat-tuesday-dinner-special/
LOCATION:Filly & Colt’s\, 26 Sandpiper Dr\, Whispering Pines\, NC\, 28327\, United States
CATEGORIES:Adult Connections,Adults,Beer and Wine,Food,Holiday Events,Mardi Gras Festivities,Social,Whispering Pines Events
ATTACH;FMTTYPE=image/jpeg:https://thepinestimes.com/wp-content/uploads/FillyColtsFeature.jpg
END:VEVENT
BEGIN:VEVENT
DTSTART;TZID=America/New_York:20260211T180000
DTEND;TZID=America/New_York:20260211T203000
DTSTAMP:20260424T061555
CREATED:20260211T155358Z
LAST-MODIFIED:20260311T165457Z
UID:10080826-1770832800-1770841800@thepinestimes.com
SUMMARY:Music Bingo Night
DESCRIPTION:Come out for Music Bingo Wednesday tonight at Filly & Colt’s\, from 6:00pm-8:30pm! There will be great music and opportunities to win fantastic prizes. Everyone is encouraged to make reservations to join the fun and ensure a spot!
URL:https://thepinestimes.com/event/music-bingo-night/2026-02-11/
LOCATION:Filly & Colt’s\, 26 Sandpiper Dr\, Whispering Pines\, NC\, 28327\, United States
CATEGORIES:Adults,Family,Food,Games,Hobby/Enthusiast,Music,Music Bingo,Night Life,Social,Whispering Pines Events,Young Adults
ATTACH;FMTTYPE=image/png:https://thepinestimes.com/wp-content/uploads/Music-Bingo.png
END:VEVENT
END:VCALENDAR