BEGIN:VCALENDAR
VERSION:2.0
PRODID:-//The Pines Times - ECPv6.15.20//NONSGML v1.0//EN
CALSCALE:GREGORIAN
METHOD:PUBLISH
X-ORIGINAL-URL:https://thepinestimes.com
X-WR-CALDESC:Events for The Pines Times
REFRESH-INTERVAL;VALUE=DURATION:PT1H
X-Robots-Tag:noindex
X-PUBLISHED-TTL:PT1H
BEGIN:VTIMEZONE
TZID:America/New_York
BEGIN:DAYLIGHT
TZOFFSETFROM:-0500
TZOFFSETTO:-0400
TZNAME:EDT
DTSTART:20240310T070000
END:DAYLIGHT
BEGIN:STANDARD
TZOFFSETFROM:-0400
TZOFFSETTO:-0500
TZNAME:EST
DTSTART:20241103T060000
END:STANDARD
BEGIN:DAYLIGHT
TZOFFSETFROM:-0500
TZOFFSETTO:-0400
TZNAME:EDT
DTSTART:20250309T070000
END:DAYLIGHT
BEGIN:STANDARD
TZOFFSETFROM:-0400
TZOFFSETTO:-0500
TZNAME:EST
DTSTART:20251102T060000
END:STANDARD
BEGIN:DAYLIGHT
TZOFFSETFROM:-0500
TZOFFSETTO:-0400
TZNAME:EDT
DTSTART:20260308T070000
END:DAYLIGHT
BEGIN:STANDARD
TZOFFSETFROM:-0400
TZOFFSETTO:-0500
TZNAME:EST
DTSTART:20261101T060000
END:STANDARD
END:VTIMEZONE
BEGIN:VEVENT
DTSTART;TZID=America/New_York:20250408T150000
DTEND;TZID=America/New_York:20250408T150000
DTSTAMP:20260421T213313
CREATED:20240412T132135Z
LAST-MODIFIED:20250908T202722Z
UID:10051660-1744124400-1744124400@thepinestimes.com
SUMMARY:Music Therapy for Cancer Patients
DESCRIPTION:Music Therapy for Cancer Patients with music therapist Rachel Shell. This group meets at 3pm every second Tuesday of the month at the FirstHealth Cancer Center. For additional information\, contact Cancer Education and Support at 910-715-2237.
URL:https://thepinestimes.com/event/music-therapy-for-cancer-patients/2025-04-08/
LOCATION:FirstHealth Cancer Center\, 135 Page Rd.\, Pinehurst\, NC\, 28387\, United States
CATEGORIES:Adults,Educational,Health & Wellness,Meeting,Music,Pinehurst Events,Senior,Social,Support Group
ATTACH;FMTTYPE=image/jpeg:https://thepinestimes.com/wp-content/uploads/FoundationOfFirstHealthFeature.jpg
END:VEVENT
BEGIN:VEVENT
DTSTART;TZID=America/New_York:20250325T150000
DTEND;TZID=America/New_York:20250325T160000
DTSTAMP:20260421T213313
CREATED:20240412T133337Z
LAST-MODIFIED:20250622T134700Z
UID:10048938-1742914800-1742918400@thepinestimes.com
SUMMARY:Cancer Support Group
DESCRIPTION:The Cancer Support Group is for cancer patients\, survivors and caregivers. The group comes together the fourth Tuesday of each month 3pm-4pm at the FirstHealth Cancer Center. No registration required to join.
URL:https://thepinestimes.com/event/cancer-support-group/2025-03-25/
LOCATION:FirstHealth Cancer Center\, 135 Page Rd.\, Pinehurst\, NC\, 28387\, United States
CATEGORIES:Adults,Educational,Family,Health & Wellness,Meeting,Pinehurst Events,Senior,Social,Support Group
ATTACH;FMTTYPE=image/jpeg:https://thepinestimes.com/wp-content/uploads/FoundationOfFirstHealthFeature.jpg
END:VEVENT
BEGIN:VEVENT
DTSTART;TZID=America/New_York:20250311T150000
DTEND;TZID=America/New_York:20250311T150000
DTSTAMP:20260421T213313
CREATED:20240412T132135Z
LAST-MODIFIED:20250908T202722Z
UID:10051659-1741705200-1741705200@thepinestimes.com
SUMMARY:Music Therapy for Cancer Patients
DESCRIPTION:Music Therapy for Cancer Patients with music therapist Rachel Shell. This group meets at 3pm every second Tuesday of the month at the FirstHealth Cancer Center. For additional information\, contact Cancer Education and Support at 910-715-2237.
URL:https://thepinestimes.com/event/music-therapy-for-cancer-patients/2025-03-11/
LOCATION:FirstHealth Cancer Center\, 135 Page Rd.\, Pinehurst\, NC\, 28387\, United States
CATEGORIES:Adults,Educational,Health & Wellness,Meeting,Music,Pinehurst Events,Senior,Social,Support Group
ATTACH;FMTTYPE=image/jpeg:https://thepinestimes.com/wp-content/uploads/FoundationOfFirstHealthFeature.jpg
END:VEVENT
BEGIN:VEVENT
DTSTART;TZID=America/New_York:20250225T150000
DTEND;TZID=America/New_York:20250225T160000
DTSTAMP:20260421T213313
CREATED:20240412T133337Z
LAST-MODIFIED:20250622T134700Z
UID:10048937-1740495600-1740499200@thepinestimes.com
SUMMARY:Cancer Support Group
DESCRIPTION:The Cancer Support Group is for cancer patients\, survivors and caregivers. The group comes together the fourth Tuesday of each month 3pm-4pm at the FirstHealth Cancer Center. No registration required to join.
URL:https://thepinestimes.com/event/cancer-support-group/2025-02-25/
LOCATION:FirstHealth Cancer Center\, 135 Page Rd.\, Pinehurst\, NC\, 28387\, United States
CATEGORIES:Adults,Educational,Family,Health & Wellness,Meeting,Pinehurst Events,Senior,Social,Support Group
ATTACH;FMTTYPE=image/jpeg:https://thepinestimes.com/wp-content/uploads/FoundationOfFirstHealthFeature.jpg
END:VEVENT
BEGIN:VEVENT
DTSTART;TZID=America/New_York:20250211T150000
DTEND;TZID=America/New_York:20250211T150000
DTSTAMP:20260421T213313
CREATED:20240412T132135Z
LAST-MODIFIED:20250908T202722Z
UID:10051658-1739286000-1739286000@thepinestimes.com
SUMMARY:Music Therapy for Cancer Patients
DESCRIPTION:Music Therapy for Cancer Patients with music therapist Rachel Shell. This group meets at 3pm every second Tuesday of the month at the FirstHealth Cancer Center. For additional information\, contact Cancer Education and Support at 910-715-2237.
URL:https://thepinestimes.com/event/music-therapy-for-cancer-patients/2025-02-11/
LOCATION:FirstHealth Cancer Center\, 135 Page Rd.\, Pinehurst\, NC\, 28387\, United States
CATEGORIES:Adults,Educational,Health & Wellness,Meeting,Music,Pinehurst Events,Senior,Social,Support Group
ATTACH;FMTTYPE=image/jpeg:https://thepinestimes.com/wp-content/uploads/FoundationOfFirstHealthFeature.jpg
END:VEVENT
BEGIN:VEVENT
DTSTART;TZID=America/New_York:20250128T150000
DTEND;TZID=America/New_York:20250128T160000
DTSTAMP:20260421T213313
CREATED:20240412T133337Z
LAST-MODIFIED:20250622T134700Z
UID:10048936-1738076400-1738080000@thepinestimes.com
SUMMARY:Cancer Support Group
DESCRIPTION:The Cancer Support Group is for cancer patients\, survivors and caregivers. The group comes together the fourth Tuesday of each month 3pm-4pm at the FirstHealth Cancer Center. No registration required to join.
URL:https://thepinestimes.com/event/cancer-support-group/2025-01-28/
LOCATION:FirstHealth Cancer Center\, 135 Page Rd.\, Pinehurst\, NC\, 28387\, United States
CATEGORIES:Adults,Educational,Family,Health & Wellness,Meeting,Pinehurst Events,Senior,Social,Support Group
ATTACH;FMTTYPE=image/jpeg:https://thepinestimes.com/wp-content/uploads/FoundationOfFirstHealthFeature.jpg
END:VEVENT
BEGIN:VEVENT
DTSTART;TZID=America/New_York:20250114T150000
DTEND;TZID=America/New_York:20250114T150000
DTSTAMP:20260421T213313
CREATED:20240412T132135Z
LAST-MODIFIED:20250908T202722Z
UID:10051657-1736866800-1736866800@thepinestimes.com
SUMMARY:Music Therapy for Cancer Patients
DESCRIPTION:Music Therapy for Cancer Patients with music therapist Rachel Shell. This group meets at 3pm every second Tuesday of the month at the FirstHealth Cancer Center. For additional information\, contact Cancer Education and Support at 910-715-2237.
URL:https://thepinestimes.com/event/music-therapy-for-cancer-patients/2025-01-14/
LOCATION:FirstHealth Cancer Center\, 135 Page Rd.\, Pinehurst\, NC\, 28387\, United States
CATEGORIES:Adults,Educational,Health & Wellness,Meeting,Music,Pinehurst Events,Senior,Social,Support Group
ATTACH;FMTTYPE=image/jpeg:https://thepinestimes.com/wp-content/uploads/FoundationOfFirstHealthFeature.jpg
END:VEVENT
END:VCALENDAR