BEGIN:VCALENDAR
VERSION:2.0
PRODID:-//The Pines Times - ECPv6.15.20//NONSGML v1.0//EN
CALSCALE:GREGORIAN
METHOD:PUBLISH
X-WR-CALNAME:The Pines Times
X-ORIGINAL-URL:https://thepinestimes.com
X-WR-CALDESC:Events for The Pines Times
REFRESH-INTERVAL;VALUE=DURATION:PT1H
X-Robots-Tag:noindex
X-PUBLISHED-TTL:PT1H
BEGIN:VTIMEZONE
TZID:America/New_York
BEGIN:DAYLIGHT
TZOFFSETFROM:-0500
TZOFFSETTO:-0400
TZNAME:EDT
DTSTART:20240310T070000
END:DAYLIGHT
BEGIN:STANDARD
TZOFFSETFROM:-0400
TZOFFSETTO:-0500
TZNAME:EST
DTSTART:20241103T060000
END:STANDARD
BEGIN:DAYLIGHT
TZOFFSETFROM:-0500
TZOFFSETTO:-0400
TZNAME:EDT
DTSTART:20250309T070000
END:DAYLIGHT
BEGIN:STANDARD
TZOFFSETFROM:-0400
TZOFFSETTO:-0500
TZNAME:EST
DTSTART:20251102T060000
END:STANDARD
BEGIN:DAYLIGHT
TZOFFSETFROM:-0500
TZOFFSETTO:-0400
TZNAME:EDT
DTSTART:20260308T070000
END:DAYLIGHT
BEGIN:STANDARD
TZOFFSETFROM:-0400
TZOFFSETTO:-0500
TZNAME:EST
DTSTART:20261101T060000
END:STANDARD
END:VTIMEZONE
BEGIN:VEVENT
DTSTART;TZID=America/New_York:20250826T170000
DTEND;TZID=America/New_York:20250826T200000
DTSTAMP:20260420T195647
CREATED:20250214T184651Z
LAST-MODIFIED:20260107T144627Z
UID:10057283-1756227600-1756238400@thepinestimes.com
SUMMARY:Bingo Night
DESCRIPTION:Bring the whole family out to Freddy’s Frozen Custard & Steakburgers in Southern Pines for Bingo Nights! Enjoy a night of fun and a chance to win a great prize! Bingo Nights take place the fourth Tuesday of each month from 5pm-8pm. Games start every half hour.
URL:https://thepinestimes.com/event/bingo-night/2025-08-26/
LOCATION:Freddy’s Frozen Custard & Steakburgers (Southern Pines\, NC)\, 10777 US 15-501\, Southern Pines\, NC\, 28387\, United States
CATEGORIES:Adult Connections,Adults,Children,Family,Food,Games,Hobby/Enthusiast,Night Life,Senior,Social,Southern Pines Events
ATTACH;FMTTYPE=image/jpeg:https://thepinestimes.com/wp-content/uploads/BingoNightFeature.jpg
END:VEVENT
BEGIN:VEVENT
DTSTART;TZID=America/New_York:20250722T170000
DTEND;TZID=America/New_York:20250722T200000
DTSTAMP:20260420T195647
CREATED:20250214T184651Z
LAST-MODIFIED:20260107T144627Z
UID:10057282-1753203600-1753214400@thepinestimes.com
SUMMARY:Bingo Night
DESCRIPTION:Bring the whole family out to Freddy’s Frozen Custard & Steakburgers in Southern Pines for Bingo Nights! Enjoy a night of fun and a chance to win a great prize! Bingo Nights take place the fourth Tuesday of each month from 5pm-8pm. Games start every half hour.
URL:https://thepinestimes.com/event/bingo-night/2025-07-22/
LOCATION:Freddy’s Frozen Custard & Steakburgers (Southern Pines\, NC)\, 10777 US 15-501\, Southern Pines\, NC\, 28387\, United States
CATEGORIES:Adult Connections,Adults,Children,Family,Food,Games,Hobby/Enthusiast,Night Life,Senior,Social,Southern Pines Events
ATTACH;FMTTYPE=image/jpeg:https://thepinestimes.com/wp-content/uploads/BingoNightFeature.jpg
END:VEVENT
BEGIN:VEVENT
DTSTART;TZID=America/New_York:20250624T170000
DTEND;TZID=America/New_York:20250624T200000
DTSTAMP:20260420T195647
CREATED:20250214T184651Z
LAST-MODIFIED:20260107T144627Z
UID:10057281-1750784400-1750795200@thepinestimes.com
SUMMARY:Bingo Night
DESCRIPTION:Bring the whole family out to Freddy’s Frozen Custard & Steakburgers in Southern Pines for Bingo Nights! Enjoy a night of fun and a chance to win a great prize! Bingo Nights take place the fourth Tuesday of each month from 5pm-8pm. Games start every half hour.
URL:https://thepinestimes.com/event/bingo-night/2025-06-24/
LOCATION:Freddy’s Frozen Custard & Steakburgers (Southern Pines\, NC)\, 10777 US 15-501\, Southern Pines\, NC\, 28387\, United States
CATEGORIES:Adult Connections,Adults,Children,Family,Food,Games,Hobby/Enthusiast,Night Life,Senior,Social,Southern Pines Events
ATTACH;FMTTYPE=image/jpeg:https://thepinestimes.com/wp-content/uploads/BingoNightFeature.jpg
END:VEVENT
BEGIN:VEVENT
DTSTART;TZID=America/New_York:20250527T170000
DTEND;TZID=America/New_York:20250527T200000
DTSTAMP:20260420T195647
CREATED:20250214T184651Z
LAST-MODIFIED:20260107T144627Z
UID:10057280-1748365200-1748376000@thepinestimes.com
SUMMARY:Bingo Night
DESCRIPTION:Bring the whole family out to Freddy’s Frozen Custard & Steakburgers in Southern Pines for Bingo Nights! Enjoy a night of fun and a chance to win a great prize! Bingo Nights take place the fourth Tuesday of each month from 5pm-8pm. Games start every half hour.
URL:https://thepinestimes.com/event/bingo-night/2025-05-27/
LOCATION:Freddy’s Frozen Custard & Steakburgers (Southern Pines\, NC)\, 10777 US 15-501\, Southern Pines\, NC\, 28387\, United States
CATEGORIES:Adult Connections,Adults,Children,Family,Food,Games,Hobby/Enthusiast,Night Life,Senior,Social,Southern Pines Events
ATTACH;FMTTYPE=image/jpeg:https://thepinestimes.com/wp-content/uploads/BingoNightFeature.jpg
END:VEVENT
BEGIN:VEVENT
DTSTART;TZID=America/New_York:20250422T170000
DTEND;TZID=America/New_York:20250422T200000
DTSTAMP:20260420T195647
CREATED:20250214T184651Z
LAST-MODIFIED:20260107T144627Z
UID:10055475-1745341200-1745352000@thepinestimes.com
SUMMARY:Bingo Night
DESCRIPTION:Bring the whole family out to Freddy’s Frozen Custard & Steakburgers in Southern Pines for Bingo Nights! Enjoy a night of fun and a chance to win a great prize! Bingo Nights take place the fourth Tuesday of each month from 5pm-8pm. Games start every half hour.
URL:https://thepinestimes.com/event/bingo-night/2025-04-22/
LOCATION:Freddy’s Frozen Custard & Steakburgers (Southern Pines\, NC)\, 10777 US 15-501\, Southern Pines\, NC\, 28387\, United States
CATEGORIES:Adult Connections,Adults,Children,Family,Food,Games,Hobby/Enthusiast,Night Life,Senior,Social,Southern Pines Events
ATTACH;FMTTYPE=image/jpeg:https://thepinestimes.com/wp-content/uploads/BingoNightFeature.jpg
END:VEVENT
BEGIN:VEVENT
DTSTART;TZID=America/New_York:20250325T170000
DTEND;TZID=America/New_York:20250325T200000
DTSTAMP:20260420T195647
CREATED:20250214T184651Z
LAST-MODIFIED:20260107T144627Z
UID:10055474-1742922000-1742932800@thepinestimes.com
SUMMARY:Bingo Night
DESCRIPTION:Bring the whole family out to Freddy’s Frozen Custard & Steakburgers in Southern Pines for Bingo Nights! Enjoy a night of fun and a chance to win a great prize! Bingo Nights take place the fourth Tuesday of each month from 5pm-8pm. Games start every half hour.
URL:https://thepinestimes.com/event/bingo-night/2025-03-25/
LOCATION:Freddy’s Frozen Custard & Steakburgers (Southern Pines\, NC)\, 10777 US 15-501\, Southern Pines\, NC\, 28387\, United States
CATEGORIES:Adult Connections,Adults,Children,Family,Food,Games,Hobby/Enthusiast,Night Life,Senior,Social,Southern Pines Events
ATTACH;FMTTYPE=image/jpeg:https://thepinestimes.com/wp-content/uploads/BingoNightFeature.jpg
END:VEVENT
BEGIN:VEVENT
DTSTART;TZID=America/New_York:20250225T170000
DTEND;TZID=America/New_York:20250225T200000
DTSTAMP:20260420T195647
CREATED:20250214T184651Z
LAST-MODIFIED:20260107T144627Z
UID:10055473-1740502800-1740513600@thepinestimes.com
SUMMARY:Bingo Night
DESCRIPTION:Bring the whole family out to Freddy’s Frozen Custard & Steakburgers in Southern Pines for Bingo Nights! Enjoy a night of fun and a chance to win a great prize! Bingo Nights take place the fourth Tuesday of each month from 5pm-8pm. Games start every half hour.
URL:https://thepinestimes.com/event/bingo-night/2025-02-25/
LOCATION:Freddy’s Frozen Custard & Steakburgers (Southern Pines\, NC)\, 10777 US 15-501\, Southern Pines\, NC\, 28387\, United States
CATEGORIES:Adult Connections,Adults,Children,Family,Food,Games,Hobby/Enthusiast,Night Life,Senior,Social,Southern Pines Events
ATTACH;FMTTYPE=image/jpeg:https://thepinestimes.com/wp-content/uploads/BingoNightFeature.jpg
END:VEVENT
END:VCALENDAR