BEGIN:VCALENDAR
VERSION:2.0
PRODID:-//The Pines Times - ECPv6.15.20//NONSGML v1.0//EN
CALSCALE:GREGORIAN
METHOD:PUBLISH
X-ORIGINAL-URL:https://thepinestimes.com
X-WR-CALDESC:Events for The Pines Times
REFRESH-INTERVAL;VALUE=DURATION:PT1H
X-Robots-Tag:noindex
X-PUBLISHED-TTL:PT1H
BEGIN:VTIMEZONE
TZID:America/New_York
BEGIN:DAYLIGHT
TZOFFSETFROM:-0500
TZOFFSETTO:-0400
TZNAME:EDT
DTSTART:20240310T070000
END:DAYLIGHT
BEGIN:STANDARD
TZOFFSETFROM:-0400
TZOFFSETTO:-0500
TZNAME:EST
DTSTART:20241103T060000
END:STANDARD
BEGIN:DAYLIGHT
TZOFFSETFROM:-0500
TZOFFSETTO:-0400
TZNAME:EDT
DTSTART:20250309T070000
END:DAYLIGHT
BEGIN:STANDARD
TZOFFSETFROM:-0400
TZOFFSETTO:-0500
TZNAME:EST
DTSTART:20251102T060000
END:STANDARD
BEGIN:DAYLIGHT
TZOFFSETFROM:-0500
TZOFFSETTO:-0400
TZNAME:EDT
DTSTART:20260308T070000
END:DAYLIGHT
BEGIN:STANDARD
TZOFFSETFROM:-0400
TZOFFSETTO:-0500
TZNAME:EST
DTSTART:20261101T060000
END:STANDARD
END:VTIMEZONE
BEGIN:VEVENT
DTSTART;TZID=America/New_York:20250405T080000
DTEND;TZID=America/New_York:20250405T130000
DTSTAMP:20260423T063254
CREATED:20250311T133737Z
LAST-MODIFIED:20250311T133737Z
UID:10054965-1743840000-1743858000@thepinestimes.com
SUMMARY:Classic Car & Motorcycle Show Benefit
DESCRIPTION:Come out for the Classic Car & Motorcycle Show at Freedom Baptist Church in Lumberton on Saturday\, April 5th | 8am-1pm. Registration begins at 8am and judging begins at 10am. Entry fee is $25. Rain date April 19th. All proceeds benefit the Freedom Baptist Church youth ministry. Spectators are invited and donations are greatly appreciated. For more information contact Emily Deese at 910.734.3280 or Patricia Brooks at 910-316-9282.
URL:https://thepinestimes.com/event/classic-car-motorcycle-show-benefit/
LOCATION:Freedom Baptist Church\, 4020 W McDuffie Crossing Rd.\, Lumberton\, 28360\, United States
CATEGORIES:Adults,Car Show/Motorcycle Show/Cruise In,Donation,Family,Fundraiser,Hobby/Enthusiast,Lumberton,Nature/Outdoors,Out of Town,Social
ATTACH;FMTTYPE=image/jpeg:https://thepinestimes.com/wp-content/uploads/CarShowFeature-1.jpg
ORGANIZER;CN="Freedom Baptist Church":MAILTO:freedombaptist1995@gmail.com
END:VEVENT
END:VCALENDAR