BEGIN:VCALENDAR
VERSION:2.0
PRODID:-//The Pines Times - ECPv6.15.20//NONSGML v1.0//EN
CALSCALE:GREGORIAN
METHOD:PUBLISH
X-WR-CALNAME:The Pines Times
X-ORIGINAL-URL:https://thepinestimes.com
X-WR-CALDESC:Events for The Pines Times
REFRESH-INTERVAL;VALUE=DURATION:PT1H
X-Robots-Tag:noindex
X-PUBLISHED-TTL:PT1H
BEGIN:VTIMEZONE
TZID:America/New_York
BEGIN:DAYLIGHT
TZOFFSETFROM:-0500
TZOFFSETTO:-0400
TZNAME:EDT
DTSTART:20240310T070000
END:DAYLIGHT
BEGIN:STANDARD
TZOFFSETFROM:-0400
TZOFFSETTO:-0500
TZNAME:EST
DTSTART:20241103T060000
END:STANDARD
BEGIN:DAYLIGHT
TZOFFSETFROM:-0500
TZOFFSETTO:-0400
TZNAME:EDT
DTSTART:20250309T070000
END:DAYLIGHT
BEGIN:STANDARD
TZOFFSETFROM:-0400
TZOFFSETTO:-0500
TZNAME:EST
DTSTART:20251102T060000
END:STANDARD
BEGIN:DAYLIGHT
TZOFFSETFROM:-0500
TZOFFSETTO:-0400
TZNAME:EDT
DTSTART:20260308T070000
END:DAYLIGHT
BEGIN:STANDARD
TZOFFSETFROM:-0400
TZOFFSETTO:-0500
TZNAME:EST
DTSTART:20261101T060000
END:STANDARD
BEGIN:DAYLIGHT
TZOFFSETFROM:-0500
TZOFFSETTO:-0400
TZNAME:EDT
DTSTART:20270314T070000
END:DAYLIGHT
BEGIN:STANDARD
TZOFFSETFROM:-0400
TZOFFSETTO:-0500
TZNAME:EST
DTSTART:20271107T060000
END:STANDARD
END:VTIMEZONE
BEGIN:VEVENT
DTSTART;TZID=America/New_York:20260415T100000
DTEND;TZID=America/New_York:20260415T103000
DTSTAMP:20260420T224110
CREATED:20260204T130058Z
LAST-MODIFIED:20260212T181828Z
UID:10080874-1776247200-1776249000@thepinestimes.com
SUMMARY:Aberdeen Library: Pre-School Storytime
DESCRIPTION:The new Aberdeen Library is hosting Pre-School Storytime every Wednesday morning at 10:00am. Come explore the new library and make some friends. Join the fun! For additional information\, call 910-944-1200.
URL:https://thepinestimes.com/event/aberdeen-library-pre-school-storytime/2026-04-15/
LOCATION:Aberdeen Library\, 123 Exchange St.\, Aberdeen\, NC\, 28315\, United States
CATEGORIES:Aberdeen Events,Children,Educational,Family,Hobby/Enthusiast,Piney's Kids,Piney's Tiny's
ATTACH;FMTTYPE=image/jpeg:https://thepinestimes.com/wp-content/uploads/FriendsOfTheAberdeenLibraryFeature.jpg
END:VEVENT
BEGIN:VEVENT
DTSTART;TZID=America/New_York:20260408T100000
DTEND;TZID=America/New_York:20260408T103000
DTSTAMP:20260420T224110
CREATED:20260204T130058Z
LAST-MODIFIED:20260212T181828Z
UID:10080873-1775642400-1775644200@thepinestimes.com
SUMMARY:Aberdeen Library: Pre-School Storytime
DESCRIPTION:The new Aberdeen Library is hosting Pre-School Storytime every Wednesday morning at 10:00am. Come explore the new library and make some friends. Join the fun! For additional information\, call 910-944-1200.
URL:https://thepinestimes.com/event/aberdeen-library-pre-school-storytime/2026-04-08/
LOCATION:Aberdeen Library\, 123 Exchange St.\, Aberdeen\, NC\, 28315\, United States
CATEGORIES:Aberdeen Events,Children,Educational,Family,Hobby/Enthusiast,Piney's Kids,Piney's Tiny's
ATTACH;FMTTYPE=image/jpeg:https://thepinestimes.com/wp-content/uploads/FriendsOfTheAberdeenLibraryFeature.jpg
END:VEVENT
BEGIN:VEVENT
DTSTART;TZID=America/New_York:20260401T100000
DTEND;TZID=America/New_York:20260401T103000
DTSTAMP:20260420T224110
CREATED:20260204T130058Z
LAST-MODIFIED:20260212T181828Z
UID:10080872-1775037600-1775039400@thepinestimes.com
SUMMARY:Aberdeen Library: Pre-School Storytime
DESCRIPTION:The new Aberdeen Library is hosting Pre-School Storytime every Wednesday morning at 10:00am. Come explore the new library and make some friends. Join the fun! For additional information\, call 910-944-1200.
URL:https://thepinestimes.com/event/aberdeen-library-pre-school-storytime/2026-04-01/
LOCATION:Aberdeen Library\, 123 Exchange St.\, Aberdeen\, NC\, 28315\, United States
CATEGORIES:Aberdeen Events,Children,Educational,Family,Hobby/Enthusiast,Piney's Kids,Piney's Tiny's
ATTACH;FMTTYPE=image/jpeg:https://thepinestimes.com/wp-content/uploads/FriendsOfTheAberdeenLibraryFeature.jpg
END:VEVENT
BEGIN:VEVENT
DTSTART;TZID=America/New_York:20260325T100000
DTEND;TZID=America/New_York:20260325T103000
DTSTAMP:20260420T224110
CREATED:20260204T130058Z
LAST-MODIFIED:20260212T181828Z
UID:10080871-1774432800-1774434600@thepinestimes.com
SUMMARY:Aberdeen Library: Pre-School Storytime
DESCRIPTION:The new Aberdeen Library is hosting Pre-School Storytime every Wednesday morning at 10:00am. Come explore the new library and make some friends. Join the fun! For additional information\, call 910-944-1200.
URL:https://thepinestimes.com/event/aberdeen-library-pre-school-storytime/2026-03-25/
LOCATION:Aberdeen Library\, 123 Exchange St.\, Aberdeen\, NC\, 28315\, United States
CATEGORIES:Aberdeen Events,Children,Educational,Family,Hobby/Enthusiast,Piney's Kids,Piney's Tiny's
ATTACH;FMTTYPE=image/jpeg:https://thepinestimes.com/wp-content/uploads/FriendsOfTheAberdeenLibraryFeature.jpg
END:VEVENT
BEGIN:VEVENT
DTSTART;TZID=America/New_York:20260318T100000
DTEND;TZID=America/New_York:20260318T103000
DTSTAMP:20260420T224110
CREATED:20260204T130058Z
LAST-MODIFIED:20260212T181828Z
UID:10080870-1773828000-1773829800@thepinestimes.com
SUMMARY:Aberdeen Library: Pre-School Storytime
DESCRIPTION:The new Aberdeen Library is hosting Pre-School Storytime every Wednesday morning at 10:00am. Come explore the new library and make some friends. Join the fun! For additional information\, call 910-944-1200.
URL:https://thepinestimes.com/event/aberdeen-library-pre-school-storytime/2026-03-18/
LOCATION:Aberdeen Library\, 123 Exchange St.\, Aberdeen\, NC\, 28315\, United States
CATEGORIES:Aberdeen Events,Children,Educational,Family,Hobby/Enthusiast,Piney's Kids,Piney's Tiny's
ATTACH;FMTTYPE=image/jpeg:https://thepinestimes.com/wp-content/uploads/FriendsOfTheAberdeenLibraryFeature.jpg
END:VEVENT
BEGIN:VEVENT
DTSTART;TZID=America/New_York:20260311T100000
DTEND;TZID=America/New_York:20260311T103000
DTSTAMP:20260420T224110
CREATED:20260204T130058Z
LAST-MODIFIED:20260212T181828Z
UID:10080869-1773223200-1773225000@thepinestimes.com
SUMMARY:Aberdeen Library: Pre-School Storytime
DESCRIPTION:The new Aberdeen Library is hosting Pre-School Storytime every Wednesday morning at 10:00am. Come explore the new library and make some friends. Join the fun! For additional information\, call 910-944-1200.
URL:https://thepinestimes.com/event/aberdeen-library-pre-school-storytime/2026-03-11/
LOCATION:Aberdeen Library\, 123 Exchange St.\, Aberdeen\, NC\, 28315\, United States
CATEGORIES:Aberdeen Events,Children,Educational,Family,Hobby/Enthusiast,Piney's Kids,Piney's Tiny's
ATTACH;FMTTYPE=image/jpeg:https://thepinestimes.com/wp-content/uploads/FriendsOfTheAberdeenLibraryFeature.jpg
END:VEVENT
BEGIN:VEVENT
DTSTART;TZID=America/New_York:20260304T100000
DTEND;TZID=America/New_York:20260304T103000
DTSTAMP:20260420T224110
CREATED:20260204T130058Z
LAST-MODIFIED:20260212T181828Z
UID:10080868-1772618400-1772620200@thepinestimes.com
SUMMARY:Aberdeen Library: Pre-School Storytime
DESCRIPTION:The new Aberdeen Library is hosting Pre-School Storytime every Wednesday morning at 10:00am. Come explore the new library and make some friends. Join the fun! For additional information\, call 910-944-1200.
URL:https://thepinestimes.com/event/aberdeen-library-pre-school-storytime/2026-03-04/
LOCATION:Aberdeen Library\, 123 Exchange St.\, Aberdeen\, NC\, 28315\, United States
CATEGORIES:Aberdeen Events,Children,Educational,Family,Hobby/Enthusiast,Piney's Kids,Piney's Tiny's
ATTACH;FMTTYPE=image/jpeg:https://thepinestimes.com/wp-content/uploads/FriendsOfTheAberdeenLibraryFeature.jpg
END:VEVENT
BEGIN:VEVENT
DTSTART;TZID=America/New_York:20260225T100000
DTEND;TZID=America/New_York:20260225T103000
DTSTAMP:20260420T224110
CREATED:20260204T130058Z
LAST-MODIFIED:20260212T181828Z
UID:10080867-1772013600-1772015400@thepinestimes.com
SUMMARY:Aberdeen Library: Pre-School Storytime
DESCRIPTION:The new Aberdeen Library is hosting Pre-School Storytime every Wednesday morning at 10:00am. Come explore the new library and make some friends. Join the fun! For additional information\, call 910-944-1200.
URL:https://thepinestimes.com/event/aberdeen-library-pre-school-storytime/2026-02-25/
LOCATION:Aberdeen Library\, 123 Exchange St.\, Aberdeen\, NC\, 28315\, United States
CATEGORIES:Aberdeen Events,Children,Educational,Family,Hobby/Enthusiast,Piney's Kids,Piney's Tiny's
ATTACH;FMTTYPE=image/jpeg:https://thepinestimes.com/wp-content/uploads/FriendsOfTheAberdeenLibraryFeature.jpg
END:VEVENT
BEGIN:VEVENT
DTSTART;TZID=America/New_York:20260218T100000
DTEND;TZID=America/New_York:20260218T103000
DTSTAMP:20260420T224110
CREATED:20260204T130058Z
LAST-MODIFIED:20260212T181828Z
UID:10080515-1771408800-1771410600@thepinestimes.com
SUMMARY:Aberdeen Library: Pre-School Storytime
DESCRIPTION:The new Aberdeen Library is hosting Pre-School Storytime every Wednesday morning at 10:00am. Come explore the new library and make some friends. Join the fun! For additional information\, call 910-944-1200.
URL:https://thepinestimes.com/event/aberdeen-library-pre-school-storytime/2026-02-18/
LOCATION:Aberdeen Library\, 123 Exchange St.\, Aberdeen\, NC\, 28315\, United States
CATEGORIES:Aberdeen Events,Children,Educational,Family,Hobby/Enthusiast,Piney's Kids,Piney's Tiny's
ATTACH;FMTTYPE=image/jpeg:https://thepinestimes.com/wp-content/uploads/FriendsOfTheAberdeenLibraryFeature.jpg
END:VEVENT
BEGIN:VEVENT
DTSTART;TZID=America/New_York:20250828T180000
DTEND;TZID=America/New_York:20250828T190000
DTSTAMP:20260420T224110
CREATED:20250402T143928Z
LAST-MODIFIED:20260212T181255Z
UID:10064810-1756404000-1756407600@thepinestimes.com
SUMMARY:Friends of the Aberdeen Library: Monthly Meeting
DESCRIPTION:The Friends of the Aberdeen Library will hold their monthly meeting. Work together to continue the mission of bringing a one-of-a-kind library to Aberdeen. If you are interested in volunteering\, please join at the Aberdeen Fire Station. Meetings take place the fourth Thursday of each month. Even if you’re not a Friend\, you’re welcome to attend meetings.
URL:https://thepinestimes.com/event/friends-of-the-aberdeen-library-monthly-meeting/
LOCATION:Aberdeen Fire Department Station 41\, 800 Holly Street\, Aberdeen\, NC\, 28315\, United States
CATEGORIES:Aberdeen Events,Adults,Educational,Hobby/Enthusiast,Meeting,Senior,Social,Volunteer
END:VEVENT
END:VCALENDAR