BEGIN:VCALENDAR
VERSION:2.0
PRODID:-//The Pines Times - ECPv6.15.20//NONSGML v1.0//EN
CALSCALE:GREGORIAN
METHOD:PUBLISH
X-WR-CALNAME:The Pines Times
X-ORIGINAL-URL:https://thepinestimes.com
X-WR-CALDESC:Events for The Pines Times
REFRESH-INTERVAL;VALUE=DURATION:PT1H
X-Robots-Tag:noindex
X-PUBLISHED-TTL:PT1H
BEGIN:VTIMEZONE
TZID:America/New_York
BEGIN:DAYLIGHT
TZOFFSETFROM:-0500
TZOFFSETTO:-0400
TZNAME:EDT
DTSTART:20250309T070000
END:DAYLIGHT
BEGIN:STANDARD
TZOFFSETFROM:-0400
TZOFFSETTO:-0500
TZNAME:EST
DTSTART:20251102T060000
END:STANDARD
BEGIN:DAYLIGHT
TZOFFSETFROM:-0500
TZOFFSETTO:-0400
TZNAME:EDT
DTSTART:20260308T070000
END:DAYLIGHT
BEGIN:STANDARD
TZOFFSETFROM:-0400
TZOFFSETTO:-0500
TZNAME:EST
DTSTART:20261101T060000
END:STANDARD
BEGIN:DAYLIGHT
TZOFFSETFROM:-0500
TZOFFSETTO:-0400
TZNAME:EDT
DTSTART:20270314T070000
END:DAYLIGHT
BEGIN:STANDARD
TZOFFSETFROM:-0400
TZOFFSETTO:-0500
TZNAME:EST
DTSTART:20271107T060000
END:STANDARD
END:VTIMEZONE
BEGIN:VEVENT
DTSTART;TZID=America/New_York:20260426T140000
DTEND;TZID=America/New_York:20260426T150000
DTSTAMP:20260422T221451
CREATED:20260420T172804Z
LAST-MODIFIED:20260420T172804Z
UID:10087003-1777212000-1777215600@thepinestimes.com
SUMMARY:Colonial Games-Celebrate America's 250th at Weymouth Woods
DESCRIPTION:America will celebrate its 250th anniversary! Join at Weymouth Woods Sandhills Nature Preserve for Colonial Games on Sunday\, April 26th\, at 2PM! Come explore what everyday life looked like for children over 200 years ago. This will be an interactive program to include games\, hands on activities\, and teamwork while learning about history along the way.
URL:https://thepinestimes.com/event/colonial-games-celebrate-americas-250th-at-weymouth-woods/
LOCATION:Weymouth Woods-Sandhills Nature Preserve\, 1024 Fort Bragg Rd\, Southern Pines\, NC\, 28387\, United States
CATEGORIES:Adults,America 250,Crafts,Educational,Family,Games,Historical,Hobby/Enthusiast,Nature/Outdoors,Piney's Kids,Social,Southern Pines Events,Teen Activities,Young Adults
ATTACH;FMTTYPE=image/jpeg:https://thepinestimes.com/wp-content/uploads/WeymouthWoodsSandhillsNaturePreserveFeature.jpg
END:VEVENT
END:VCALENDAR