BEGIN:VCALENDAR
VERSION:2.0
PRODID:-//The Pines Times - ECPv6.15.20//NONSGML v1.0//EN
CALSCALE:GREGORIAN
METHOD:PUBLISH
X-WR-CALNAME:The Pines Times
X-ORIGINAL-URL:https://thepinestimes.com
X-WR-CALDESC:Events for The Pines Times
REFRESH-INTERVAL;VALUE=DURATION:PT1H
X-Robots-Tag:noindex
X-PUBLISHED-TTL:PT1H
BEGIN:VTIMEZONE
TZID:America/New_York
BEGIN:DAYLIGHT
TZOFFSETFROM:-0500
TZOFFSETTO:-0400
TZNAME:EDT
DTSTART:20240310T070000
END:DAYLIGHT
BEGIN:STANDARD
TZOFFSETFROM:-0400
TZOFFSETTO:-0500
TZNAME:EST
DTSTART:20241103T060000
END:STANDARD
BEGIN:DAYLIGHT
TZOFFSETFROM:-0500
TZOFFSETTO:-0400
TZNAME:EDT
DTSTART:20250309T070000
END:DAYLIGHT
BEGIN:STANDARD
TZOFFSETFROM:-0400
TZOFFSETTO:-0500
TZNAME:EST
DTSTART:20251102T060000
END:STANDARD
BEGIN:DAYLIGHT
TZOFFSETFROM:-0500
TZOFFSETTO:-0400
TZNAME:EDT
DTSTART:20260308T070000
END:DAYLIGHT
BEGIN:STANDARD
TZOFFSETFROM:-0400
TZOFFSETTO:-0500
TZNAME:EST
DTSTART:20261101T060000
END:STANDARD
BEGIN:DAYLIGHT
TZOFFSETFROM:-0500
TZOFFSETTO:-0400
TZNAME:EDT
DTSTART:20270314T070000
END:DAYLIGHT
BEGIN:STANDARD
TZOFFSETFROM:-0400
TZOFFSETTO:-0500
TZNAME:EST
DTSTART:20271107T060000
END:STANDARD
END:VTIMEZONE
BEGIN:VEVENT
DTSTART;TZID=America/New_York:20260321T100000
DTEND;TZID=America/New_York:20260321T150000
DTSTAMP:20260423T111956
CREATED:20260207T142100Z
LAST-MODIFIED:20260303T140829Z
UID:10082162-1774087200-1774105200@thepinestimes.com
SUMMARY:GreyFox Outdoor: 7th Anniversary Sale
DESCRIPTION:GreyFox Outdoor is celebrating its 7th Anniversary Sale on March 20th & 21st at their location at 225 W Morganton Rd in Southern Pines! This special event offers the best pricing of the year on American-made craftsmanship\, featuring Amish-made patio furniture\, shade structures\, playgrounds\, and various outdoor amenities. Visitors can enjoy free food\, enter to win exciting giveaways\, and take advantage of exceptional deals to help unite their families outdoors. Whether you are looking for custom furniture or a complete backyard transformation\, this anniversary celebration is the perfect time to explore high-quality\, durable solutions for your outdoor living space. \n \n 
URL:https://thepinestimes.com/event/greyfox-outdoor-7th-anniversary-sale/2026-03-21/
LOCATION:GreyFox Outdoor\, 225 W Morganton Rd\, Southern Pines\, NC\, 28387\, United States
CATEGORIES:Anniversary Celebration,Family,Food,Hobby/Enthusiast,HOMEPAGE Featured,Nature/Outdoors,Shopping,Social,Southern Pines Events
ATTACH;FMTTYPE=image/jpeg:https://thepinestimes.com/wp-content/uploads/GreyFoxFeature.jpg
ORGANIZER;CN="GreyFox Outdoor":MAILTO:sam@greyfox-outdoor.com
END:VEVENT
BEGIN:VEVENT
DTSTART;TZID=America/New_York:20260320T100000
DTEND;TZID=America/New_York:20260320T150000
DTSTAMP:20260423T111956
CREATED:20260207T142100Z
LAST-MODIFIED:20260303T140829Z
UID:10082161-1774000800-1774018800@thepinestimes.com
SUMMARY:GreyFox Outdoor: 7th Anniversary Sale
DESCRIPTION:GreyFox Outdoor is celebrating its 7th Anniversary Sale on March 20th & 21st at their location at 225 W Morganton Rd in Southern Pines! This special event offers the best pricing of the year on American-made craftsmanship\, featuring Amish-made patio furniture\, shade structures\, playgrounds\, and various outdoor amenities. Visitors can enjoy free food\, enter to win exciting giveaways\, and take advantage of exceptional deals to help unite their families outdoors. Whether you are looking for custom furniture or a complete backyard transformation\, this anniversary celebration is the perfect time to explore high-quality\, durable solutions for your outdoor living space. \n \n 
URL:https://thepinestimes.com/event/greyfox-outdoor-7th-anniversary-sale/2026-03-20/
LOCATION:GreyFox Outdoor\, 225 W Morganton Rd\, Southern Pines\, NC\, 28387\, United States
CATEGORIES:Anniversary Celebration,Family,Food,Hobby/Enthusiast,HOMEPAGE Featured,Nature/Outdoors,Shopping,Social,Southern Pines Events
ATTACH;FMTTYPE=image/jpeg:https://thepinestimes.com/wp-content/uploads/GreyFoxFeature.jpg
ORGANIZER;CN="GreyFox Outdoor":MAILTO:sam@greyfox-outdoor.com
END:VEVENT
BEGIN:VEVENT
DTSTART;TZID=America/New_York:20250920T100000
DTEND;TZID=America/New_York:20250920T150000
DTSTAMP:20260423T111956
CREATED:20240808T233440Z
LAST-MODIFIED:20250916T160552Z
UID:10042161-1758362400-1758380400@thepinestimes.com
SUMMARY:GreyFox Outdoor: 7th Annual Fire & Ice Festival
DESCRIPTION:Kick off fall with the GreyFox Outdoor at the 7th Annual Fire & Ice Festival this Saturday\, September 20th | 10am-3pm! This is your chance to snag epic deals on all in-stock inventory. Come hungry because there will be mouth-watering food and delicious apple cider ice cream floats. Plus\, you’ll have the chance to win a fantastic giveaway\, with the option to choose between different prizes. This is a free community event! \n \n 
URL:https://thepinestimes.com/event/greyfox-outdoor-6th-annual-fire-ice-festival/
LOCATION:GreyFox Outdoor\, 225 W Morganton Rd\, Southern Pines\, NC\, 28387\, United States
CATEGORIES:Adults,Exhibits,Fall,Fall in the Sandhills,Family,Hobby/Enthusiast,HOMEPAGE Featured,Moore County Events,Nature/Outdoors,Shopping,Social,Southern Pines Events
ORGANIZER;CN="GreyFox Outdoor":MAILTO:sam@greyfox-outdoor.com
END:VEVENT
END:VCALENDAR