BEGIN:VCALENDAR
VERSION:2.0
PRODID:-//The Pines Times - ECPv6.15.20//NONSGML v1.0//EN
CALSCALE:GREGORIAN
METHOD:PUBLISH
X-ORIGINAL-URL:https://thepinestimes.com
X-WR-CALDESC:Events for The Pines Times
REFRESH-INTERVAL;VALUE=DURATION:PT1H
X-Robots-Tag:noindex
X-PUBLISHED-TTL:PT1H
BEGIN:VTIMEZONE
TZID:America/New_York
BEGIN:DAYLIGHT
TZOFFSETFROM:-0500
TZOFFSETTO:-0400
TZNAME:EDT
DTSTART:20240310T070000
END:DAYLIGHT
BEGIN:STANDARD
TZOFFSETFROM:-0400
TZOFFSETTO:-0500
TZNAME:EST
DTSTART:20241103T060000
END:STANDARD
BEGIN:DAYLIGHT
TZOFFSETFROM:-0500
TZOFFSETTO:-0400
TZNAME:EDT
DTSTART:20250309T070000
END:DAYLIGHT
BEGIN:STANDARD
TZOFFSETFROM:-0400
TZOFFSETTO:-0500
TZNAME:EST
DTSTART:20251102T060000
END:STANDARD
BEGIN:DAYLIGHT
TZOFFSETFROM:-0500
TZOFFSETTO:-0400
TZNAME:EDT
DTSTART:20260308T070000
END:DAYLIGHT
BEGIN:STANDARD
TZOFFSETFROM:-0400
TZOFFSETTO:-0500
TZNAME:EST
DTSTART:20261101T060000
END:STANDARD
BEGIN:DAYLIGHT
TZOFFSETFROM:-0500
TZOFFSETTO:-0400
TZNAME:EDT
DTSTART:20270314T070000
END:DAYLIGHT
BEGIN:STANDARD
TZOFFSETFROM:-0400
TZOFFSETTO:-0500
TZNAME:EST
DTSTART:20271107T060000
END:STANDARD
END:VTIMEZONE
BEGIN:VEVENT
DTSTART;TZID=America/New_York:20260207T090000
DTEND;TZID=America/New_York:20260207T123000
DTSTAMP:20260421T090021
CREATED:20250710T210931Z
LAST-MODIFIED:20260101T193444Z
UID:10063196-1770454800-1770467400@thepinestimes.com
SUMMARY:Hoke County Farmer's Market
DESCRIPTION:Shop local at the Hoke County Farmers Market\, held on the 1st and 3rd Saturdays of each month from March-November\, 9:00am-12:30pm\, at McLaughlin Park in downtown Raeford. Enjoy fresh produce\, meats\, baked goods\, handmade items and more from local vendors. \nThe next market will be on Saturday\, February 7th! \n \n 
URL:https://thepinestimes.com/event/hoke-county-farmers-market/
LOCATION:Mclaughlin Park\, 202 E Donaldson Ave\, Raeford\, NC\, 28376\, United States
CATEGORIES:Adults,Farmers Markets,Markets
ATTACH;FMTTYPE=image/jpeg:https://thepinestimes.com/wp-content/uploads/Hoke-County-Farmers-Market-Feature.jpg
ORGANIZER;CN="Hoke County Farmer's Market":MAILTO:dordavi59@yahoo.com
END:VEVENT
BEGIN:VEVENT
DTSTART;TZID=America/New_York:20251115T090000
DTEND;TZID=America/New_York:20251115T123000
DTSTAMP:20260421T090021
CREATED:20250903T155332Z
LAST-MODIFIED:20250903T155332Z
UID:10067534-1763197200-1763209800@thepinestimes.com
SUMMARY:Hoke County Farmer's Market: Youth Craft Fair
DESCRIPTION:Get ready to unleash your creativity! The Hoke County Farmer’s Market is hosting a Youth Craft Fair on November 15th. If you’re 16 years old or younger\, you can participate! To get an application\, you can either pick one up at the market or email dordavi59@yahoo.com. The community can’t wait to see what you create! Be sure to visit this special market and support our youth crafters and creators!
URL:https://thepinestimes.com/event/hoke-county-farmers-market-youth-craft-fair/
LOCATION:Mclaughlin Park\, 202 E Donaldson Ave\, Raeford\, NC\, 28376\, United States
CATEGORIES:Children,Crafts,Fair/Festival,Family,Hobby/Enthusiast,Markets,Out of Town,Piney's Kids,Piney's Tiny's,Raeford Events,Shopping,Social,Teen Activities,Vendors,Young Adults
ORGANIZER;CN="Hoke County Farmer's Market":MAILTO:dordavi59@yahoo.com
END:VEVENT
END:VCALENDAR