BEGIN:VCALENDAR
VERSION:2.0
PRODID:-//The Pines Times - ECPv6.15.20//NONSGML v1.0//EN
CALSCALE:GREGORIAN
METHOD:PUBLISH
X-WR-CALNAME:The Pines Times
X-ORIGINAL-URL:https://thepinestimes.com
X-WR-CALDESC:Events for The Pines Times
REFRESH-INTERVAL;VALUE=DURATION:PT1H
X-Robots-Tag:noindex
X-PUBLISHED-TTL:PT1H
BEGIN:VTIMEZONE
TZID:America/New_York
BEGIN:DAYLIGHT
TZOFFSETFROM:-0500
TZOFFSETTO:-0400
TZNAME:EDT
DTSTART:20250309T070000
END:DAYLIGHT
BEGIN:STANDARD
TZOFFSETFROM:-0400
TZOFFSETTO:-0500
TZNAME:EST
DTSTART:20251102T060000
END:STANDARD
BEGIN:DAYLIGHT
TZOFFSETFROM:-0500
TZOFFSETTO:-0400
TZNAME:EDT
DTSTART:20260308T070000
END:DAYLIGHT
BEGIN:STANDARD
TZOFFSETFROM:-0400
TZOFFSETTO:-0500
TZNAME:EST
DTSTART:20261101T060000
END:STANDARD
BEGIN:DAYLIGHT
TZOFFSETFROM:-0500
TZOFFSETTO:-0400
TZNAME:EDT
DTSTART:20270314T070000
END:DAYLIGHT
BEGIN:STANDARD
TZOFFSETFROM:-0400
TZOFFSETTO:-0500
TZNAME:EST
DTSTART:20271107T060000
END:STANDARD
END:VTIMEZONE
BEGIN:VEVENT
DTSTART;TZID=America/New_York:20260708T183000
DTEND;TZID=America/New_York:20260708T200000
DTSTAMP:20260422T215413
CREATED:20250717T142349Z
LAST-MODIFIED:20260108T154307Z
UID:10079157-1783535400-1783540800@thepinestimes.com
SUMMARY:Brewery Book Club
DESCRIPTION:Join Hugger Mugger Brewing for a monthly book club! An informal group of bookworms chooses the books and discusses them at this once monthly happening. Oftentimes beer\, wine and cider consumed. Book club is held the second Wednesday of each month\, 6:30pm-8:00pm.
URL:https://thepinestimes.com/event/brewery-book-club/2026-07-08/
LOCATION:Hugger Mugger Brewing\, 229 Wicker Street\, Sanford\, NC\, United States
CATEGORIES:Adults,Beer and Wine,Book Club,Educational,Hobby/Enthusiast,Out of Town,Sanford Events,Social
END:VEVENT
BEGIN:VEVENT
DTSTART;TZID=America/New_York:20260722T190000
DTEND;TZID=America/New_York:20260722T203000
DTSTAMP:20260422T215413
CREATED:20260221T152911Z
LAST-MODIFIED:20260221T152911Z
UID:10081473-1784746800-1784752200@thepinestimes.com
SUMMARY:Music Bingo
DESCRIPTION:Join Hugger Mugger Brewing in Sanford for free Music Bingo on the 4th Wednesday of every month\, 7:00pm-8:30pm! Music bingo is an interactive\, social game that replaces traditional numbered bingo cards with song titles\, artists\, or genres. There are prizes but the greatest prize is the admiration of your peers! \n \n 
URL:https://thepinestimes.com/event/music-bingo/2026-07-22/
LOCATION:Hugger Mugger Brewing\, 229 Wicker Street\, Sanford\, NC\, United States
CATEGORIES:Adult Connections,Adults,Games,Sanford Events,Social,Young Adults
ATTACH;FMTTYPE=image/png:https://thepinestimes.com/wp-content/uploads/Music-Bingo.png
END:VEVENT
BEGIN:VEVENT
DTSTART;TZID=America/New_York:20260807T200000
DTEND;TZID=America/New_York:20260807T235900
DTSTAMP:20260422T215413
CREATED:20251219T183252Z
LAST-MODIFIED:20260122T182700Z
UID:10079945-1786132800-1786147140@thepinestimes.com
SUMMARY:First Friday Karaoke Championship
DESCRIPTION:Do you have what it takes to be a champion? Join at Hugger Mugger Brewing in Sanford every First Friday starting at 8:00pm to compete for the championship belt at December’s First Friday championship showdown.\n. Every month\, the audience will vote on a new monthly winner who will receive a coveted GOAT medal and advance to the finals. All monthly winners advance to compete on December 4th for a handsome karaoke prize belt that will make the winner the envy of their peers. This is a free event\, and only those over 21 years old are allowed to compete. \n \n 
URL:https://thepinestimes.com/event/first-friday-karaoke/2026-08-07/
LOCATION:Hugger Mugger Brewing\, 229 Wicker Street\, Sanford\, NC\, United States
CATEGORIES:Adult Connections,Adults,Contest,Holiday Events,Music,Sanford Events,Social,Young Adults
ATTACH;FMTTYPE=image/png:https://thepinestimes.com/wp-content/uploads/Karaoke-e1754409547503.png
END:VEVENT
BEGIN:VEVENT
DTSTART;TZID=America/New_York:20260812T183000
DTEND;TZID=America/New_York:20260812T200000
DTSTAMP:20260422T215413
CREATED:20250717T142349Z
LAST-MODIFIED:20260108T154307Z
UID:10079158-1786559400-1786564800@thepinestimes.com
SUMMARY:Brewery Book Club
DESCRIPTION:Join Hugger Mugger Brewing for a monthly book club! An informal group of bookworms chooses the books and discusses them at this once monthly happening. Oftentimes beer\, wine and cider consumed. Book club is held the second Wednesday of each month\, 6:30pm-8:00pm.
URL:https://thepinestimes.com/event/brewery-book-club/2026-08-12/
LOCATION:Hugger Mugger Brewing\, 229 Wicker Street\, Sanford\, NC\, United States
CATEGORIES:Adults,Beer and Wine,Book Club,Educational,Hobby/Enthusiast,Out of Town,Sanford Events,Social
END:VEVENT
BEGIN:VEVENT
DTSTART;TZID=America/New_York:20260904T200000
DTEND;TZID=America/New_York:20260904T235900
DTSTAMP:20260422T215413
CREATED:20251219T183252Z
LAST-MODIFIED:20260122T182700Z
UID:10079946-1788552000-1788566340@thepinestimes.com
SUMMARY:First Friday Karaoke Championship
DESCRIPTION:Do you have what it takes to be a champion? Join at Hugger Mugger Brewing in Sanford every First Friday starting at 8:00pm to compete for the championship belt at December’s First Friday championship showdown.\n. Every month\, the audience will vote on a new monthly winner who will receive a coveted GOAT medal and advance to the finals. All monthly winners advance to compete on December 4th for a handsome karaoke prize belt that will make the winner the envy of their peers. This is a free event\, and only those over 21 years old are allowed to compete. \n \n 
URL:https://thepinestimes.com/event/first-friday-karaoke/2026-09-04/
LOCATION:Hugger Mugger Brewing\, 229 Wicker Street\, Sanford\, NC\, United States
CATEGORIES:Adult Connections,Adults,Contest,Holiday Events,Music,Sanford Events,Social,Young Adults
ATTACH;FMTTYPE=image/png:https://thepinestimes.com/wp-content/uploads/Karaoke-e1754409547503.png
END:VEVENT
BEGIN:VEVENT
DTSTART;TZID=America/New_York:20260909T183000
DTEND;TZID=America/New_York:20260909T200000
DTSTAMP:20260422T215413
CREATED:20250717T142349Z
LAST-MODIFIED:20260108T154307Z
UID:10079159-1788978600-1788984000@thepinestimes.com
SUMMARY:Brewery Book Club
DESCRIPTION:Join Hugger Mugger Brewing for a monthly book club! An informal group of bookworms chooses the books and discusses them at this once monthly happening. Oftentimes beer\, wine and cider consumed. Book club is held the second Wednesday of each month\, 6:30pm-8:00pm.
URL:https://thepinestimes.com/event/brewery-book-club/2026-09-09/
LOCATION:Hugger Mugger Brewing\, 229 Wicker Street\, Sanford\, NC\, United States
CATEGORIES:Adults,Beer and Wine,Book Club,Educational,Hobby/Enthusiast,Out of Town,Sanford Events,Social
END:VEVENT
BEGIN:VEVENT
DTSTART;TZID=America/New_York:20261002T200000
DTEND;TZID=America/New_York:20261002T235900
DTSTAMP:20260422T215413
CREATED:20251219T183252Z
LAST-MODIFIED:20260122T182700Z
UID:10079947-1790971200-1790985540@thepinestimes.com
SUMMARY:First Friday Karaoke Championship
DESCRIPTION:Do you have what it takes to be a champion? Join at Hugger Mugger Brewing in Sanford every First Friday starting at 8:00pm to compete for the championship belt at December’s First Friday championship showdown.\n. Every month\, the audience will vote on a new monthly winner who will receive a coveted GOAT medal and advance to the finals. All monthly winners advance to compete on December 4th for a handsome karaoke prize belt that will make the winner the envy of their peers. This is a free event\, and only those over 21 years old are allowed to compete. \n \n 
URL:https://thepinestimes.com/event/first-friday-karaoke/2026-10-02/
LOCATION:Hugger Mugger Brewing\, 229 Wicker Street\, Sanford\, NC\, United States
CATEGORIES:Adult Connections,Adults,Contest,Holiday Events,Music,Sanford Events,Social,Young Adults
ATTACH;FMTTYPE=image/png:https://thepinestimes.com/wp-content/uploads/Karaoke-e1754409547503.png
END:VEVENT
BEGIN:VEVENT
DTSTART;TZID=America/New_York:20261014T183000
DTEND;TZID=America/New_York:20261014T200000
DTSTAMP:20260422T215413
CREATED:20250717T142349Z
LAST-MODIFIED:20260108T154307Z
UID:10079160-1792002600-1792008000@thepinestimes.com
SUMMARY:Brewery Book Club
DESCRIPTION:Join Hugger Mugger Brewing for a monthly book club! An informal group of bookworms chooses the books and discusses them at this once monthly happening. Oftentimes beer\, wine and cider consumed. Book club is held the second Wednesday of each month\, 6:30pm-8:00pm.
URL:https://thepinestimes.com/event/brewery-book-club/2026-10-14/
LOCATION:Hugger Mugger Brewing\, 229 Wicker Street\, Sanford\, NC\, United States
CATEGORIES:Adults,Beer and Wine,Book Club,Educational,Hobby/Enthusiast,Out of Town,Sanford Events,Social
END:VEVENT
BEGIN:VEVENT
DTSTART;TZID=America/New_York:20261106T200000
DTEND;TZID=America/New_York:20261106T235900
DTSTAMP:20260422T215413
CREATED:20251219T183252Z
LAST-MODIFIED:20260122T182700Z
UID:10079948-1793995200-1794009540@thepinestimes.com
SUMMARY:First Friday Karaoke Championship
DESCRIPTION:Do you have what it takes to be a champion? Join at Hugger Mugger Brewing in Sanford every First Friday starting at 8:00pm to compete for the championship belt at December’s First Friday championship showdown.\n. Every month\, the audience will vote on a new monthly winner who will receive a coveted GOAT medal and advance to the finals. All monthly winners advance to compete on December 4th for a handsome karaoke prize belt that will make the winner the envy of their peers. This is a free event\, and only those over 21 years old are allowed to compete. \n \n 
URL:https://thepinestimes.com/event/first-friday-karaoke/2026-11-06/
LOCATION:Hugger Mugger Brewing\, 229 Wicker Street\, Sanford\, NC\, United States
CATEGORIES:Adult Connections,Adults,Contest,Holiday Events,Music,Sanford Events,Social,Young Adults
ATTACH;FMTTYPE=image/png:https://thepinestimes.com/wp-content/uploads/Karaoke-e1754409547503.png
END:VEVENT
BEGIN:VEVENT
DTSTART;TZID=America/New_York:20261111T183000
DTEND;TZID=America/New_York:20261111T200000
DTSTAMP:20260422T215413
CREATED:20250717T142349Z
LAST-MODIFIED:20260108T154307Z
UID:10079161-1794421800-1794427200@thepinestimes.com
SUMMARY:Brewery Book Club
DESCRIPTION:Join Hugger Mugger Brewing for a monthly book club! An informal group of bookworms chooses the books and discusses them at this once monthly happening. Oftentimes beer\, wine and cider consumed. Book club is held the second Wednesday of each month\, 6:30pm-8:00pm.
URL:https://thepinestimes.com/event/brewery-book-club/2026-11-11/
LOCATION:Hugger Mugger Brewing\, 229 Wicker Street\, Sanford\, NC\, United States
CATEGORIES:Adults,Beer and Wine,Book Club,Educational,Hobby/Enthusiast,Out of Town,Sanford Events,Social
END:VEVENT
BEGIN:VEVENT
DTSTART;TZID=America/New_York:20261204T200000
DTEND;TZID=America/New_York:20261204T235900
DTSTAMP:20260422T215413
CREATED:20251219T183252Z
LAST-MODIFIED:20260122T182700Z
UID:10079949-1796414400-1796428740@thepinestimes.com
SUMMARY:First Friday Karaoke Championship
DESCRIPTION:Do you have what it takes to be a champion? Join at Hugger Mugger Brewing in Sanford every First Friday starting at 8:00pm to compete for the championship belt at December’s First Friday championship showdown.\n. Every month\, the audience will vote on a new monthly winner who will receive a coveted GOAT medal and advance to the finals. All monthly winners advance to compete on December 4th for a handsome karaoke prize belt that will make the winner the envy of their peers. This is a free event\, and only those over 21 years old are allowed to compete. \n \n 
URL:https://thepinestimes.com/event/first-friday-karaoke/2026-12-04/
LOCATION:Hugger Mugger Brewing\, 229 Wicker Street\, Sanford\, NC\, United States
CATEGORIES:Adult Connections,Adults,Contest,Holiday Events,Music,Sanford Events,Social,Young Adults
ATTACH;FMTTYPE=image/png:https://thepinestimes.com/wp-content/uploads/Karaoke-e1754409547503.png
END:VEVENT
BEGIN:VEVENT
DTSTART;TZID=America/New_York:20261209T183000
DTEND;TZID=America/New_York:20261209T200000
DTSTAMP:20260422T215413
CREATED:20250717T142349Z
LAST-MODIFIED:20260108T154307Z
UID:10079162-1796841000-1796846400@thepinestimes.com
SUMMARY:Brewery Book Club
DESCRIPTION:Join Hugger Mugger Brewing for a monthly book club! An informal group of bookworms chooses the books and discusses them at this once monthly happening. Oftentimes beer\, wine and cider consumed. Book club is held the second Wednesday of each month\, 6:30pm-8:00pm.
URL:https://thepinestimes.com/event/brewery-book-club/2026-12-09/
LOCATION:Hugger Mugger Brewing\, 229 Wicker Street\, Sanford\, NC\, United States
CATEGORIES:Adults,Beer and Wine,Book Club,Educational,Hobby/Enthusiast,Out of Town,Sanford Events,Social
END:VEVENT
END:VCALENDAR