BEGIN:VCALENDAR
VERSION:2.0
PRODID:-//The Pines Times - ECPv6.15.20//NONSGML v1.0//EN
CALSCALE:GREGORIAN
METHOD:PUBLISH
X-ORIGINAL-URL:https://thepinestimes.com
X-WR-CALDESC:Events for The Pines Times
REFRESH-INTERVAL;VALUE=DURATION:PT1H
X-Robots-Tag:noindex
X-PUBLISHED-TTL:PT1H
BEGIN:VTIMEZONE
TZID:America/New_York
BEGIN:DAYLIGHT
TZOFFSETFROM:-0500
TZOFFSETTO:-0400
TZNAME:EDT
DTSTART:20250309T070000
END:DAYLIGHT
BEGIN:STANDARD
TZOFFSETFROM:-0400
TZOFFSETTO:-0500
TZNAME:EST
DTSTART:20251102T060000
END:STANDARD
BEGIN:DAYLIGHT
TZOFFSETFROM:-0500
TZOFFSETTO:-0400
TZNAME:EDT
DTSTART:20260308T070000
END:DAYLIGHT
BEGIN:STANDARD
TZOFFSETFROM:-0400
TZOFFSETTO:-0500
TZNAME:EST
DTSTART:20261101T060000
END:STANDARD
BEGIN:DAYLIGHT
TZOFFSETFROM:-0500
TZOFFSETTO:-0400
TZNAME:EDT
DTSTART:20270314T070000
END:DAYLIGHT
BEGIN:STANDARD
TZOFFSETFROM:-0400
TZOFFSETTO:-0500
TZNAME:EST
DTSTART:20271107T060000
END:STANDARD
END:VTIMEZONE
BEGIN:VEVENT
DTSTART;TZID=America/New_York:20260222T140000
DTEND;TZID=America/New_York:20260222T150000
DTSTAMP:20260423T120714
CREATED:20260126T211243Z
LAST-MODIFIED:20260126T211243Z
UID:10080028-1771768800-1771772400@thepinestimes.com
SUMMARY:Anastasia\, The Musical\, Youth Edition presented by IYT Jr
DESCRIPTION:Her past is a mystery. Her future is an adventure. \nAnastasia: The Musical\, Youth Edition is the spectacular new musical about discovering who you are and defining who you’re meant to be. \nRoyal Alert:  Meet Princess Anastasia before Sunday’s show only! Photos begin at 1:30pmWear your favorite royal costume! \n 
URL:https://thepinestimes.com/event/anastasia-the-musical-youth-edition-presented-by-iyt-jr/2026-02-22/
LOCATION:Southern Pines Land & Housing Trust Auditorium\, 1250 West New York Avenue\, Southern Pines\, 28387\, United States
CATEGORIES:Live Theater
ATTACH;FMTTYPE=image/png:https://thepinestimes.com/wp-content/uploads/IYT-JR-Anastasia-YE-Pines-Times-1920-x-1080.png
END:VEVENT
BEGIN:VEVENT
DTSTART;TZID=America/New_York:20260221T190000
DTEND;TZID=America/New_York:20260221T200000
DTSTAMP:20260423T120714
CREATED:20260126T211243Z
LAST-MODIFIED:20260126T211243Z
UID:10080027-1771700400-1771704000@thepinestimes.com
SUMMARY:Anastasia\, The Musical\, Youth Edition presented by IYT Jr
DESCRIPTION:Her past is a mystery. Her future is an adventure. \nAnastasia: The Musical\, Youth Edition is the spectacular new musical about discovering who you are and defining who you’re meant to be. \nRoyal Alert:  Meet Princess Anastasia before Sunday’s show only! Photos begin at 1:30pmWear your favorite royal costume! \n 
URL:https://thepinestimes.com/event/anastasia-the-musical-youth-edition-presented-by-iyt-jr/2026-02-21/
LOCATION:Southern Pines Land & Housing Trust Auditorium\, 1250 West New York Avenue\, Southern Pines\, 28387\, United States
CATEGORIES:Live Theater
ATTACH;FMTTYPE=image/png:https://thepinestimes.com/wp-content/uploads/IYT-JR-Anastasia-YE-Pines-Times-1920-x-1080.png
END:VEVENT
END:VCALENDAR