BEGIN:VCALENDAR
VERSION:2.0
PRODID:-//The Pines Times - ECPv6.15.20//NONSGML v1.0//EN
CALSCALE:GREGORIAN
METHOD:PUBLISH
X-WR-CALNAME:The Pines Times
X-ORIGINAL-URL:https://thepinestimes.com
X-WR-CALDESC:Events for The Pines Times
REFRESH-INTERVAL;VALUE=DURATION:PT1H
X-Robots-Tag:noindex
X-PUBLISHED-TTL:PT1H
BEGIN:VTIMEZONE
TZID:America/New_York
BEGIN:DAYLIGHT
TZOFFSETFROM:-0500
TZOFFSETTO:-0400
TZNAME:EDT
DTSTART:20240310T070000
END:DAYLIGHT
BEGIN:STANDARD
TZOFFSETFROM:-0400
TZOFFSETTO:-0500
TZNAME:EST
DTSTART:20241103T060000
END:STANDARD
BEGIN:DAYLIGHT
TZOFFSETFROM:-0500
TZOFFSETTO:-0400
TZNAME:EDT
DTSTART:20250309T070000
END:DAYLIGHT
BEGIN:STANDARD
TZOFFSETFROM:-0400
TZOFFSETTO:-0500
TZNAME:EST
DTSTART:20251102T060000
END:STANDARD
BEGIN:DAYLIGHT
TZOFFSETFROM:-0500
TZOFFSETTO:-0400
TZNAME:EDT
DTSTART:20260308T070000
END:DAYLIGHT
BEGIN:STANDARD
TZOFFSETFROM:-0400
TZOFFSETTO:-0500
TZNAME:EST
DTSTART:20261101T060000
END:STANDARD
BEGIN:DAYLIGHT
TZOFFSETFROM:-0500
TZOFFSETTO:-0400
TZNAME:EDT
DTSTART:20270314T070000
END:DAYLIGHT
BEGIN:STANDARD
TZOFFSETFROM:-0400
TZOFFSETTO:-0500
TZNAME:EST
DTSTART:20271107T060000
END:STANDARD
END:VTIMEZONE
BEGIN:VEVENT
DTSTART;TZID=America/New_York:20260225T140000
DTEND;TZID=America/New_York:20260225T200000
DTSTAMP:20260421T134324
CREATED:20260128T152542Z
LAST-MODIFIED:20260128T152542Z
UID:10080349-1772028000-1772049600@thepinestimes.com
SUMMARY:February Board Game Nights
DESCRIPTION:Jitterbugz Cafe is inviting everyone to join for Board Game Nights every Wednesday in February! The cafe will be open until 8pm to play their games or bring your own games while sipping on the dirty sodas available. Whether you are looking for a mid-week break or a way to connect with friends over a classic tabletop challenge\, come sit with us for a night of gaming and refreshments throughout the month.
URL:https://thepinestimes.com/event/february-board-game-nights/2026-02-25/
LOCATION:Jitterbugz Cafe and Beanery\, 37 Amarillo Lane\, Sanford\, 27330\, United States
CATEGORIES:Adults,Family,Games,Hobby/Enthusiast,Sanford Events,Social,Young Adults
ATTACH;FMTTYPE=image/jpeg:https://thepinestimes.com/wp-content/uploads/JitterbugzCafeBoardNightFlyer.jpg.jpg
ORGANIZER;CN="Jitterbugz Cafe and Beanery":MAILTO:jitterbugzcafe@gmail.com
END:VEVENT
BEGIN:VEVENT
DTSTART;TZID=America/New_York:20260218T140000
DTEND;TZID=America/New_York:20260218T200000
DTSTAMP:20260421T134324
CREATED:20260128T152542Z
LAST-MODIFIED:20260128T152542Z
UID:10080348-1771423200-1771444800@thepinestimes.com
SUMMARY:February Board Game Nights
DESCRIPTION:Jitterbugz Cafe is inviting everyone to join for Board Game Nights every Wednesday in February! The cafe will be open until 8pm to play their games or bring your own games while sipping on the dirty sodas available. Whether you are looking for a mid-week break or a way to connect with friends over a classic tabletop challenge\, come sit with us for a night of gaming and refreshments throughout the month.
URL:https://thepinestimes.com/event/february-board-game-nights/2026-02-18/
LOCATION:Jitterbugz Cafe and Beanery\, 37 Amarillo Lane\, Sanford\, 27330\, United States
CATEGORIES:Adults,Family,Games,Hobby/Enthusiast,Sanford Events,Social,Young Adults
ATTACH;FMTTYPE=image/jpeg:https://thepinestimes.com/wp-content/uploads/JitterbugzCafeBoardNightFlyer.jpg.jpg
ORGANIZER;CN="Jitterbugz Cafe and Beanery":MAILTO:jitterbugzcafe@gmail.com
END:VEVENT
BEGIN:VEVENT
DTSTART;TZID=America/New_York:20260211T140000
DTEND;TZID=America/New_York:20260211T200000
DTSTAMP:20260421T134324
CREATED:20260128T152542Z
LAST-MODIFIED:20260128T152542Z
UID:10080347-1770818400-1770840000@thepinestimes.com
SUMMARY:February Board Game Nights
DESCRIPTION:Jitterbugz Cafe is inviting everyone to join for Board Game Nights every Wednesday in February! The cafe will be open until 8pm to play their games or bring your own games while sipping on the dirty sodas available. Whether you are looking for a mid-week break or a way to connect with friends over a classic tabletop challenge\, come sit with us for a night of gaming and refreshments throughout the month.
URL:https://thepinestimes.com/event/february-board-game-nights/2026-02-11/
LOCATION:Jitterbugz Cafe and Beanery\, 37 Amarillo Lane\, Sanford\, 27330\, United States
CATEGORIES:Adults,Family,Games,Hobby/Enthusiast,Sanford Events,Social,Young Adults
ATTACH;FMTTYPE=image/jpeg:https://thepinestimes.com/wp-content/uploads/JitterbugzCafeBoardNightFlyer.jpg.jpg
ORGANIZER;CN="Jitterbugz Cafe and Beanery":MAILTO:jitterbugzcafe@gmail.com
END:VEVENT
BEGIN:VEVENT
DTSTART;TZID=America/New_York:20260204T140000
DTEND;TZID=America/New_York:20260204T200000
DTSTAMP:20260421T134324
CREATED:20260128T152542Z
LAST-MODIFIED:20260128T152542Z
UID:10080346-1770213600-1770235200@thepinestimes.com
SUMMARY:February Board Game Nights
DESCRIPTION:Jitterbugz Cafe is inviting everyone to join for Board Game Nights every Wednesday in February! The cafe will be open until 8pm to play their games or bring your own games while sipping on the dirty sodas available. Whether you are looking for a mid-week break or a way to connect with friends over a classic tabletop challenge\, come sit with us for a night of gaming and refreshments throughout the month.
URL:https://thepinestimes.com/event/february-board-game-nights/2026-02-04/
LOCATION:Jitterbugz Cafe and Beanery\, 37 Amarillo Lane\, Sanford\, 27330\, United States
CATEGORIES:Adults,Family,Games,Hobby/Enthusiast,Sanford Events,Social,Young Adults
ATTACH;FMTTYPE=image/jpeg:https://thepinestimes.com/wp-content/uploads/JitterbugzCafeBoardNightFlyer.jpg.jpg
ORGANIZER;CN="Jitterbugz Cafe and Beanery":MAILTO:jitterbugzcafe@gmail.com
END:VEVENT
BEGIN:VEVENT
DTSTART;TZID=America/New_York:20251109T130000
DTEND;TZID=America/New_York:20251109T150000
DTSTAMP:20260421T134324
CREATED:20251024T154145Z
LAST-MODIFIED:20251024T154145Z
UID:10073277-1762693200-1762700400@thepinestimes.com
SUMMARY:Candle Making Class 
DESCRIPTION:Join The Wandering Texan for a hands-on Candle Making Workshop at Jitterbugz Cafe and Beanery on Sunday\, November 9th | 1pm-3pm. For a cost of $50\, you’ll learn the basics of candle making\, choose your own scents\, and pour your own custom 8oz\, 100% Soy Candle to take home. The fee also includes a Jitterbugz drink flight for a relaxing experience. Whether you’re crafting a personalized gift or just want to enjoy a fun afternoon\, this workshop is for you. Spots are limited. Follow the event website link provided below. \n 
URL:https://thepinestimes.com/event/candle-making-class/
LOCATION:Jitterbugz Cafe and Beanery\, 37 Amarillo Lane\, Sanford\, 27330\, United States
CATEGORIES:Adults,Art/Craft Workshops,Crafts,Hobby/Enthusiast,Sanford Events,Social,Young Adults
ATTACH;FMTTYPE=image/jpeg:https://thepinestimes.com/wp-content/uploads/Jitterbugz-Cafe-and-Beanery-Feature.jpg
ORGANIZER;CN="Jitterbugz Cafe and Beanery":MAILTO:jitterbugzcafe@gmail.com
END:VEVENT
END:VCALENDAR