BEGIN:VCALENDAR
VERSION:2.0
PRODID:-//The Pines Times - ECPv6.15.20//NONSGML v1.0//EN
CALSCALE:GREGORIAN
METHOD:PUBLISH
X-WR-CALNAME:The Pines Times
X-ORIGINAL-URL:https://thepinestimes.com
X-WR-CALDESC:Events for The Pines Times
REFRESH-INTERVAL;VALUE=DURATION:PT1H
X-Robots-Tag:noindex
X-PUBLISHED-TTL:PT1H
BEGIN:VTIMEZONE
TZID:America/New_York
BEGIN:DAYLIGHT
TZOFFSETFROM:-0500
TZOFFSETTO:-0400
TZNAME:EDT
DTSTART:20250309T070000
END:DAYLIGHT
BEGIN:STANDARD
TZOFFSETFROM:-0400
TZOFFSETTO:-0500
TZNAME:EST
DTSTART:20251102T060000
END:STANDARD
BEGIN:DAYLIGHT
TZOFFSETFROM:-0500
TZOFFSETTO:-0400
TZNAME:EDT
DTSTART:20260308T070000
END:DAYLIGHT
BEGIN:STANDARD
TZOFFSETFROM:-0400
TZOFFSETTO:-0500
TZNAME:EST
DTSTART:20261101T060000
END:STANDARD
BEGIN:DAYLIGHT
TZOFFSETFROM:-0500
TZOFFSETTO:-0400
TZNAME:EDT
DTSTART:20270314T070000
END:DAYLIGHT
BEGIN:STANDARD
TZOFFSETFROM:-0400
TZOFFSETTO:-0500
TZNAME:EST
DTSTART:20271107T060000
END:STANDARD
END:VTIMEZONE
BEGIN:VEVENT
DTSTART;TZID=America/New_York:20260321T170000
DTEND;TZID=America/New_York:20260321T170000
DTSTAMP:20260419T082956
CREATED:20260308T135348Z
LAST-MODIFIED:20260308T135348Z
UID:10082937-1774112400-1774112400@thepinestimes.com
SUMMARY:Cat Lounge Trivia Night
DESCRIPTION:Kitten Around Cat Lounge is hosting an exciting Trivia Night on Saturday\, March 21\, 2026\, starting at 5:00 PM. This event invites you to grab your friends and compete as a team or test your knowledge as a solo player in a unique environment filled with feline friends. Participation in trivia is free with the standard $15 per person entrance fee to the cat room.
URL:https://thepinestimes.com/event/cat-lounge-trivia-night/
LOCATION:Kitten Around Cat Lounge\, Carthage\, 28327\, United States
CATEGORIES:Adults,Carthage Events,Family,Games,Pets/Animals,Social
ATTACH;FMTTYPE=image/jpeg:https://thepinestimes.com/wp-content/uploads/KittenAroundTriviaNightFeature.jpg
END:VEVENT
END:VCALENDAR