BEGIN:VCALENDAR
VERSION:2.0
PRODID:-//The Pines Times - ECPv6.15.20//NONSGML v1.0//EN
CALSCALE:GREGORIAN
METHOD:PUBLISH
X-WR-CALNAME:The Pines Times
X-ORIGINAL-URL:https://thepinestimes.com
X-WR-CALDESC:Events for The Pines Times
REFRESH-INTERVAL;VALUE=DURATION:PT1H
X-Robots-Tag:noindex
X-PUBLISHED-TTL:PT1H
BEGIN:VTIMEZONE
TZID:America/New_York
BEGIN:DAYLIGHT
TZOFFSETFROM:-0500
TZOFFSETTO:-0400
TZNAME:EDT
DTSTART:20250309T070000
END:DAYLIGHT
BEGIN:STANDARD
TZOFFSETFROM:-0400
TZOFFSETTO:-0500
TZNAME:EST
DTSTART:20251102T060000
END:STANDARD
BEGIN:DAYLIGHT
TZOFFSETFROM:-0500
TZOFFSETTO:-0400
TZNAME:EDT
DTSTART:20260308T070000
END:DAYLIGHT
BEGIN:STANDARD
TZOFFSETFROM:-0400
TZOFFSETTO:-0500
TZNAME:EST
DTSTART:20261101T060000
END:STANDARD
BEGIN:DAYLIGHT
TZOFFSETFROM:-0500
TZOFFSETTO:-0400
TZNAME:EDT
DTSTART:20270314T070000
END:DAYLIGHT
BEGIN:STANDARD
TZOFFSETFROM:-0400
TZOFFSETTO:-0500
TZNAME:EST
DTSTART:20271107T060000
END:STANDARD
END:VTIMEZONE
BEGIN:VEVENT
DTSTART;TZID=America/New_York:20260308T150000
DTEND;TZID=America/New_York:20260308T160000
DTSTAMP:20260423T111951
CREATED:20240305T143755Z
LAST-MODIFIED:20260307T130921Z
UID:10082551-1772982000-1772985600@thepinestimes.com
SUMMARY:Lee County Community Orchestra: "Empire and Revolution"
DESCRIPTION:Sanford’s Hometown Orchestra! Experience the power of classical music as the Lee County Community Orchestra presents its latest program\, “Empire and Revolution.” These performances feature the dramatic intensity of Schumann paired with the revolutionary spirit of Beethoven’s Third Symphony\, “Eroica.” The community is invited to attend either the Saturday evening performance on March 7th at 7:30PM or the Sunday matinee on March 8th at 3:00PM. Both concerts will be held at the Harper Center within the First Presbyterian Church and are completely free and open to the public.
URL:https://thepinestimes.com/event/lee-county-community-orchestra-empire-and-revolution/2026-03-08/
LOCATION:Harper Center at First Presbyterian Church\, 203 Hawkins Ave\, Sanford\, 27330\, United States
CATEGORIES:Adults,Concert,Family,Hobby/Enthusiast,Live Entertainment,Music,Out of Town,Sanford Events,Senior,Social,Young Adults
ATTACH;FMTTYPE=image/jpeg:https://thepinestimes.com/wp-content/uploads/LeeCommunityOrhestraMarchConcertFeature.jpg
ORGANIZER;CN="Lee County Community Orchestra":MAILTO:lccorch@gmail.com
END:VEVENT
BEGIN:VEVENT
DTSTART;TZID=America/New_York:20260307T193000
DTEND;TZID=America/New_York:20260307T203000
DTSTAMP:20260423T111951
CREATED:20240305T143755Z
LAST-MODIFIED:20260307T130921Z
UID:10082550-1772911800-1772915400@thepinestimes.com
SUMMARY:Lee County Community Orchestra: "Empire and Revolution"
DESCRIPTION:Sanford’s Hometown Orchestra! Experience the power of classical music as the Lee County Community Orchestra presents its latest program\, “Empire and Revolution.” These performances feature the dramatic intensity of Schumann paired with the revolutionary spirit of Beethoven’s Third Symphony\, “Eroica.” The community is invited to attend either the Saturday evening performance on March 7th at 7:30PM or the Sunday matinee on March 8th at 3:00PM. Both concerts will be held at the Harper Center within the First Presbyterian Church and are completely free and open to the public.
URL:https://thepinestimes.com/event/lee-county-community-orchestra-empire-and-revolution/2026-03-07/
LOCATION:Harper Center at First Presbyterian Church\, 203 Hawkins Ave\, Sanford\, 27330\, United States
CATEGORIES:Adults,Concert,Family,Hobby/Enthusiast,Live Entertainment,Music,Out of Town,Sanford Events,Senior,Social,Young Adults
ATTACH;FMTTYPE=image/jpeg:https://thepinestimes.com/wp-content/uploads/LeeCommunityOrhestraMarchConcertFeature.jpg
ORGANIZER;CN="Lee County Community Orchestra":MAILTO:lccorch@gmail.com
END:VEVENT
BEGIN:VEVENT
DTSTART;TZID=America/New_York:20260209T183000
DTEND;TZID=America/New_York:20260209T210000
DTSTAMP:20260423T111951
CREATED:20260201T141429Z
LAST-MODIFIED:20260201T141429Z
UID:10080361-1770661800-1770670800@thepinestimes.com
SUMMARY:Lee County Community Orchestra: Winter Interlude Fundraiser
DESCRIPTION:“POSTPONED AGAIN! Due to forecasted weather\, we are rescheduling our annual fundraiser for Monday\, Feb. 9 at 6:30 pm in the Wesley Center at Jonesboro United Methodist Church in Sanford.” The Lee County Community Orchestra will host its annual Winter Interlude fundraiser at 6:30pm in the Wesley Center at Jonesboro United Methodist Church in Sanford. A musical buffet of signature works of composers will be provided by LCCO musicians! \nEnjoy an evening of dining and music to benefit The Lee County Community Orchestra featuring dinner selections of chicken or hand-carved roast beef with all the trimmings and dessert prepared by Blackmon’s Catering of Dunn\, NC. There is no need to designate a meal choice ahead of the event. A vegetarian option will also be available. \nTickets are $45 per person\, space is limited\, and tickets are available through the event website link provided below or through an LCCO Board member by cash or check. It is most appreciated if you would click the box during checkout to cover the $1.32 payment processing fee per ticket. Questions? Please email lccorch@gmail.com. \n \n 
URL:https://thepinestimes.com/event/lee-county-community-orchestra-winter-interlude-fundraiser-2/
LOCATION:Wesley Center at Jonesboro United Methodist Church\, 407 W Main Street\, Sanford\, 27332\, United States
CATEGORIES:Adults,Concert,Donation,Family,Food,Fundraiser,Hobby/Enthusiast,Live Entertainment,Music,Out of Town,Sanford Events,Sanford Events,Senior,Social,Young Adults
ATTACH;FMTTYPE=image/jpeg:https://thepinestimes.com/wp-content/uploads/LeeCountyCommunityOrchestraFeature-1.jpg
ORGANIZER;CN="Lee County Community Orchestra":MAILTO:lccorch@gmail.com
END:VEVENT
END:VCALENDAR