BEGIN:VCALENDAR
VERSION:2.0
PRODID:-//The Pines Times - ECPv6.15.20//NONSGML v1.0//EN
CALSCALE:GREGORIAN
METHOD:PUBLISH
X-WR-CALNAME:The Pines Times
X-ORIGINAL-URL:https://thepinestimes.com
X-WR-CALDESC:Events for The Pines Times
REFRESH-INTERVAL;VALUE=DURATION:PT1H
X-Robots-Tag:noindex
X-PUBLISHED-TTL:PT1H
BEGIN:VTIMEZONE
TZID:America/New_York
BEGIN:DAYLIGHT
TZOFFSETFROM:-0500
TZOFFSETTO:-0400
TZNAME:EDT
DTSTART:20240310T070000
END:DAYLIGHT
BEGIN:STANDARD
TZOFFSETFROM:-0400
TZOFFSETTO:-0500
TZNAME:EST
DTSTART:20241103T060000
END:STANDARD
BEGIN:DAYLIGHT
TZOFFSETFROM:-0500
TZOFFSETTO:-0400
TZNAME:EDT
DTSTART:20250309T070000
END:DAYLIGHT
BEGIN:STANDARD
TZOFFSETFROM:-0400
TZOFFSETTO:-0500
TZNAME:EST
DTSTART:20251102T060000
END:STANDARD
BEGIN:DAYLIGHT
TZOFFSETFROM:-0500
TZOFFSETTO:-0400
TZNAME:EDT
DTSTART:20260308T070000
END:DAYLIGHT
BEGIN:STANDARD
TZOFFSETFROM:-0400
TZOFFSETTO:-0500
TZNAME:EST
DTSTART:20261101T060000
END:STANDARD
BEGIN:DAYLIGHT
TZOFFSETFROM:-0500
TZOFFSETTO:-0400
TZNAME:EDT
DTSTART:20270314T070000
END:DAYLIGHT
BEGIN:STANDARD
TZOFFSETFROM:-0400
TZOFFSETTO:-0500
TZNAME:EST
DTSTART:20271107T060000
END:STANDARD
END:VTIMEZONE
BEGIN:VEVENT
DTSTART;TZID=America/New_York:20260403T000000
DTEND;TZID=America/New_York:20260403T000000
DTSTAMP:20260421T145753
CREATED:20260403T130130Z
LAST-MODIFIED:20260403T130300Z
UID:10086057-1775174400-1775174400@thepinestimes.com
SUMMARY:Sanford Local History Club: "All Aboard: History of Sanford’s Passenger Depot"
DESCRIPTION:Join the Local History Club this month at Depot Park in downtown Sanford for All Aboard: History of Sanford’s Passenger Depot. From Sanford’s earliest years to a recent renovation by the City of Sanford\, dive into the history of Sanford’s Passenger Depot. This program will take place Tuesday\, April 7th\, at 6:00PM at the Depot Building\, in Depot Park\, located at 106 Charlotte Avenue in Sanford. Feel free to contact the library with any questions.
URL:https://thepinestimes.com/event/sanford-local-history-club-all-aboard-history-of-sanfords-passenger-depot/
LOCATION:Depot Park\, 106 Charlotte Ave\, Sanford\, NC\, 27330\, United States
CATEGORIES:Educational,Historical,Hobby/Enthusiast,Library,Sanford Events,Tours
ATTACH;FMTTYPE=image/jpeg:https://thepinestimes.com/wp-content/uploads/LeeCountylibrariesFeature.jpg
END:VEVENT
BEGIN:VEVENT
DTSTART;TZID=America/New_York:20260326T140000
DTEND;TZID=America/New_York:20260326T150000
DTSTAMP:20260421T145753
CREATED:20260119T235525Z
LAST-MODIFIED:20260119T235525Z
UID:10079827-1774533600-1774537200@thepinestimes.com
SUMMARY:Read\, Create\, Play! Craft and Storytime in the Park
DESCRIPTION:Bring the little ones out for Read\, Create\, Play! Craft and Storytime in the Park\, a fun monthly event hosted by Sanford Parks and Lee County Libraries. These gatherings take place on the fourth Thursday of every month at 2:00 p.m.\, providing a wonderful opportunity for children to engage with stories and hands-on crafts. The activities are held outdoors at Third Street Park\, located at 228 North Ave\, making it a perfect afternoon for community connection and creative play.
URL:https://thepinestimes.com/event/read-create-play-craft-and-storytime-in-the-park/2026-03-26/
LOCATION:Third Street Park\, 228 North Ave\, Sanford\, 27330\, United States
CATEGORIES:Children,Crafts,Educational,Family,Piney's Kids,Piney's Tiny's,Sanford Events,Sanford Events,Social
ATTACH;FMTTYPE=image/jpeg:https://thepinestimes.com/wp-content/uploads/SanfordLibraryStorytimeFeature.jpg
END:VEVENT
BEGIN:VEVENT
DTSTART;TZID=America/New_York:20260226T140000
DTEND;TZID=America/New_York:20260226T150000
DTSTAMP:20260421T145753
CREATED:20260119T235525Z
LAST-MODIFIED:20260119T235525Z
UID:10079826-1772114400-1772118000@thepinestimes.com
SUMMARY:Read\, Create\, Play! Craft and Storytime in the Park
DESCRIPTION:Bring the little ones out for Read\, Create\, Play! Craft and Storytime in the Park\, a fun monthly event hosted by Sanford Parks and Lee County Libraries. These gatherings take place on the fourth Thursday of every month at 2:00 p.m.\, providing a wonderful opportunity for children to engage with stories and hands-on crafts. The activities are held outdoors at Third Street Park\, located at 228 North Ave\, making it a perfect afternoon for community connection and creative play.
URL:https://thepinestimes.com/event/read-create-play-craft-and-storytime-in-the-park/2026-02-26/
LOCATION:Third Street Park\, 228 North Ave\, Sanford\, 27330\, United States
CATEGORIES:Children,Crafts,Educational,Family,Piney's Kids,Piney's Tiny's,Sanford Events,Sanford Events,Social
ATTACH;FMTTYPE=image/jpeg:https://thepinestimes.com/wp-content/uploads/SanfordLibraryStorytimeFeature.jpg
END:VEVENT
BEGIN:VEVENT
DTSTART;TZID=America/New_York:20260122T140000
DTEND;TZID=America/New_York:20260122T150000
DTSTAMP:20260421T145753
CREATED:20260119T235525Z
LAST-MODIFIED:20260119T235525Z
UID:10079825-1769090400-1769094000@thepinestimes.com
SUMMARY:Read\, Create\, Play! Craft and Storytime in the Park
DESCRIPTION:Bring the little ones out for Read\, Create\, Play! Craft and Storytime in the Park\, a fun monthly event hosted by Sanford Parks and Lee County Libraries. These gatherings take place on the fourth Thursday of every month at 2:00 p.m.\, providing a wonderful opportunity for children to engage with stories and hands-on crafts. The activities are held outdoors at Third Street Park\, located at 228 North Ave\, making it a perfect afternoon for community connection and creative play.
URL:https://thepinestimes.com/event/read-create-play-craft-and-storytime-in-the-park/2026-01-22/
LOCATION:Third Street Park\, 228 North Ave\, Sanford\, 27330\, United States
CATEGORIES:Children,Crafts,Educational,Family,Piney's Kids,Piney's Tiny's,Sanford Events,Sanford Events,Social
ATTACH;FMTTYPE=image/jpeg:https://thepinestimes.com/wp-content/uploads/SanfordLibraryStorytimeFeature.jpg
END:VEVENT
BEGIN:VEVENT
DTSTART;TZID=America/New_York:20260117T090000
DTEND;TZID=America/New_York:20260117T200000
DTSTAMP:20260421T145753
CREATED:20260104T183015Z
LAST-MODIFIED:20260104T183312Z
UID:10078423-1768640400-1768680000@thepinestimes.com
SUMMARY:Lee County Libraries: Parade of Holiday Trees
DESCRIPTION:The Lee County Libraries Parade of Holiday Trees is on display at the Main Library through Saturday\, January 17th. Open to all during regular library hours\, this seasonal exhibit features beautifully decorated trees representing more than twelve winter holidays. Each tree highlights traditions\, includes information about the holiday’s origins and celebrations\, and showcases related book titles from the library’s collection. Visitors are invited to explore the holidays they celebrate\, learn about others in the community\, and enjoy this festive and inclusive display at the Main Library\, located at 107 Hawkins Avenue in Sanford.
URL:https://thepinestimes.com/event/lee-county-libraries-parade-of-holiday-trees/2026-01-17/
LOCATION:Lee County Library\, 107 Hawkins Ave\, Sanford\, NC\, 27330\, United States
CATEGORIES:Adults,Christmas,Exhibits,Family,Holiday Events,Sanford Events,Sanford Events,Senior,Young Adults
END:VEVENT
BEGIN:VEVENT
DTSTART;TZID=America/New_York:20260114T090000
DTEND;TZID=America/New_York:20260114T200000
DTSTAMP:20260421T145753
CREATED:20260104T183015Z
LAST-MODIFIED:20260104T183312Z
UID:10078422-1768381200-1768420800@thepinestimes.com
SUMMARY:Lee County Libraries: Parade of Holiday Trees
DESCRIPTION:The Lee County Libraries Parade of Holiday Trees is on display at the Main Library through Saturday\, January 17th. Open to all during regular library hours\, this seasonal exhibit features beautifully decorated trees representing more than twelve winter holidays. Each tree highlights traditions\, includes information about the holiday’s origins and celebrations\, and showcases related book titles from the library’s collection. Visitors are invited to explore the holidays they celebrate\, learn about others in the community\, and enjoy this festive and inclusive display at the Main Library\, located at 107 Hawkins Avenue in Sanford.
URL:https://thepinestimes.com/event/lee-county-libraries-parade-of-holiday-trees/2026-01-14/
LOCATION:Lee County Library\, 107 Hawkins Ave\, Sanford\, NC\, 27330\, United States
CATEGORIES:Adults,Christmas,Exhibits,Family,Holiday Events,Sanford Events,Sanford Events,Senior,Young Adults
END:VEVENT
BEGIN:VEVENT
DTSTART;TZID=America/New_York:20260112T090000
DTEND;TZID=America/New_York:20260112T200000
DTSTAMP:20260421T145753
CREATED:20260104T183015Z
LAST-MODIFIED:20260104T183312Z
UID:10078421-1768208400-1768248000@thepinestimes.com
SUMMARY:Lee County Libraries: Parade of Holiday Trees
DESCRIPTION:The Lee County Libraries Parade of Holiday Trees is on display at the Main Library through Saturday\, January 17th. Open to all during regular library hours\, this seasonal exhibit features beautifully decorated trees representing more than twelve winter holidays. Each tree highlights traditions\, includes information about the holiday’s origins and celebrations\, and showcases related book titles from the library’s collection. Visitors are invited to explore the holidays they celebrate\, learn about others in the community\, and enjoy this festive and inclusive display at the Main Library\, located at 107 Hawkins Avenue in Sanford.
URL:https://thepinestimes.com/event/lee-county-libraries-parade-of-holiday-trees/2026-01-12/
LOCATION:Lee County Library\, 107 Hawkins Ave\, Sanford\, NC\, 27330\, United States
CATEGORIES:Adults,Christmas,Exhibits,Family,Holiday Events,Sanford Events,Sanford Events,Senior,Young Adults
END:VEVENT
BEGIN:VEVENT
DTSTART;TZID=America/New_York:20260110T090000
DTEND;TZID=America/New_York:20260110T200000
DTSTAMP:20260421T145753
CREATED:20260104T183015Z
LAST-MODIFIED:20260104T183312Z
UID:10078420-1768035600-1768075200@thepinestimes.com
SUMMARY:Lee County Libraries: Parade of Holiday Trees
DESCRIPTION:The Lee County Libraries Parade of Holiday Trees is on display at the Main Library through Saturday\, January 17th. Open to all during regular library hours\, this seasonal exhibit features beautifully decorated trees representing more than twelve winter holidays. Each tree highlights traditions\, includes information about the holiday’s origins and celebrations\, and showcases related book titles from the library’s collection. Visitors are invited to explore the holidays they celebrate\, learn about others in the community\, and enjoy this festive and inclusive display at the Main Library\, located at 107 Hawkins Avenue in Sanford.
URL:https://thepinestimes.com/event/lee-county-libraries-parade-of-holiday-trees/2026-01-10/
LOCATION:Lee County Library\, 107 Hawkins Ave\, Sanford\, NC\, 27330\, United States
CATEGORIES:Adults,Christmas,Exhibits,Family,Holiday Events,Sanford Events,Sanford Events,Senior,Young Adults
END:VEVENT
BEGIN:VEVENT
DTSTART;TZID=America/New_York:20260107T090000
DTEND;TZID=America/New_York:20260107T200000
DTSTAMP:20260421T145753
CREATED:20260104T183015Z
LAST-MODIFIED:20260104T183312Z
UID:10078419-1767776400-1767816000@thepinestimes.com
SUMMARY:Lee County Libraries: Parade of Holiday Trees
DESCRIPTION:The Lee County Libraries Parade of Holiday Trees is on display at the Main Library through Saturday\, January 17th. Open to all during regular library hours\, this seasonal exhibit features beautifully decorated trees representing more than twelve winter holidays. Each tree highlights traditions\, includes information about the holiday’s origins and celebrations\, and showcases related book titles from the library’s collection. Visitors are invited to explore the holidays they celebrate\, learn about others in the community\, and enjoy this festive and inclusive display at the Main Library\, located at 107 Hawkins Avenue in Sanford.
URL:https://thepinestimes.com/event/lee-county-libraries-parade-of-holiday-trees/2026-01-07/
LOCATION:Lee County Library\, 107 Hawkins Ave\, Sanford\, NC\, 27330\, United States
CATEGORIES:Adults,Christmas,Exhibits,Family,Holiday Events,Sanford Events,Sanford Events,Senior,Young Adults
END:VEVENT
BEGIN:VEVENT
DTSTART;TZID=America/New_York:20260105T090000
DTEND;TZID=America/New_York:20260105T200000
DTSTAMP:20260421T145753
CREATED:20260104T183015Z
LAST-MODIFIED:20260104T183312Z
UID:10078418-1767603600-1767643200@thepinestimes.com
SUMMARY:Lee County Libraries: Parade of Holiday Trees
DESCRIPTION:The Lee County Libraries Parade of Holiday Trees is on display at the Main Library through Saturday\, January 17th. Open to all during regular library hours\, this seasonal exhibit features beautifully decorated trees representing more than twelve winter holidays. Each tree highlights traditions\, includes information about the holiday’s origins and celebrations\, and showcases related book titles from the library’s collection. Visitors are invited to explore the holidays they celebrate\, learn about others in the community\, and enjoy this festive and inclusive display at the Main Library\, located at 107 Hawkins Avenue in Sanford.
URL:https://thepinestimes.com/event/lee-county-libraries-parade-of-holiday-trees/2026-01-05/
LOCATION:Lee County Library\, 107 Hawkins Ave\, Sanford\, NC\, 27330\, United States
CATEGORIES:Adults,Christmas,Exhibits,Family,Holiday Events,Sanford Events,Sanford Events,Senior,Young Adults
END:VEVENT
BEGIN:VEVENT
DTSTART;TZID=America/New_York:20250816T100000
DTEND;TZID=America/New_York:20250816T160000
DTSTAMP:20260421T145753
CREATED:20240809T194204Z
LAST-MODIFIED:20250811T122542Z
UID:10042174-1755338400-1755360000@thepinestimes.com
SUMMARY:Lee County Libraries POP!-Con
DESCRIPTION:The 2025 Lee County Libraries\, NC annual POP!-Con takes place on Saturday\, August 16 | 10am-4pm at the Lee County Main Library! Enjoy a celebration of pop-culture and STEAM (Science\, Technology\, Engineering\, Arts\, Math)…with a Renaissance twist. \n“The library ties together a diverse variety of creative interests\, hobbies\, and geek culture to create a visitor experience centered on exploration and discovery. The library provides the opportunity for local artists\, authors\, performers\, and their fandoms to engage in a unique experience of comic convention meets renaissance faire meets community festival. Our goal is to inspire visitors to engage\, explore and connect with a variety of artists\, creators\, and designers to encourage current/future artists to pursue a hobby\, interest\, or career.” \nTo view the full schedule of events\, follow the website event link provided below. \n 
URL:https://thepinestimes.com/event/lee-county-libraries-pop-con/
LOCATION:Lee County Main Library\, 107 Hawkins Ave\, Sanford\, 27330\, United States
CATEGORIES:Children,Educational,Exhibits,Fair/Festival,Family,Games,Hobby/Enthusiast,Live Entertainment,Sanford Events,Social,Vendors
ATTACH;FMTTYPE=image/jpeg:https://thepinestimes.com/wp-content/uploads/LeeCountylibrariesFeature.jpg
END:VEVENT
END:VCALENDAR