BEGIN:VCALENDAR
VERSION:2.0
PRODID:-//The Pines Times - ECPv6.15.20//NONSGML v1.0//EN
CALSCALE:GREGORIAN
METHOD:PUBLISH
X-WR-CALNAME:The Pines Times
X-ORIGINAL-URL:https://thepinestimes.com
X-WR-CALDESC:Events for The Pines Times
REFRESH-INTERVAL;VALUE=DURATION:PT1H
X-Robots-Tag:noindex
X-PUBLISHED-TTL:PT1H
BEGIN:VTIMEZONE
TZID:America/New_York
BEGIN:DAYLIGHT
TZOFFSETFROM:-0500
TZOFFSETTO:-0400
TZNAME:EDT
DTSTART:20240310T070000
END:DAYLIGHT
BEGIN:STANDARD
TZOFFSETFROM:-0400
TZOFFSETTO:-0500
TZNAME:EST
DTSTART:20241103T060000
END:STANDARD
BEGIN:DAYLIGHT
TZOFFSETFROM:-0500
TZOFFSETTO:-0400
TZNAME:EDT
DTSTART:20250309T070000
END:DAYLIGHT
BEGIN:STANDARD
TZOFFSETFROM:-0400
TZOFFSETTO:-0500
TZNAME:EST
DTSTART:20251102T060000
END:STANDARD
BEGIN:DAYLIGHT
TZOFFSETFROM:-0500
TZOFFSETTO:-0400
TZNAME:EDT
DTSTART:20260308T070000
END:DAYLIGHT
BEGIN:STANDARD
TZOFFSETFROM:-0400
TZOFFSETTO:-0500
TZNAME:EST
DTSTART:20261101T060000
END:STANDARD
BEGIN:DAYLIGHT
TZOFFSETFROM:-0500
TZOFFSETTO:-0400
TZNAME:EDT
DTSTART:20270314T070000
END:DAYLIGHT
BEGIN:STANDARD
TZOFFSETFROM:-0400
TZOFFSETTO:-0500
TZNAME:EST
DTSTART:20271107T060000
END:STANDARD
END:VTIMEZONE
BEGIN:VEVENT
DTSTART;TZID=America/New_York:20260209T200000
DTEND;TZID=America/New_York:20260209T230000
DTSTAMP:20260425T084010
CREATED:20220511T145040Z
LAST-MODIFIED:20260327T211219Z
UID:10077887-1770667200-1770678000@thepinestimes.com
SUMMARY:Monday Karaoke
DESCRIPTION:Come out for Karaoke fun every Monday night at Legends Bar and Grill. Hosted by BowTie Entertainment. \n“If your friends are under 21 now they can watch you sing live from legends on the Talent Zone USA channel available on Roku and FireTV. Come be on TV with us or watch us.”
URL:https://thepinestimes.com/event/karaoke-monday/2026-02-09/
LOCATION:Legends of Southern Pines\, 1113 Old US Hwy 1\, Southern Pines\, NC\, United States
CATEGORIES:Adults,Hobby/Enthusiast,Social,Southern Pines Events
ATTACH;FMTTYPE=image/png:https://thepinestimes.com/wp-content/uploads/Karaoke-e1754409547503.png
END:VEVENT
BEGIN:VEVENT
DTSTART;TZID=America/New_York:20260202T200000
DTEND;TZID=America/New_York:20260202T230000
DTSTAMP:20260425T084010
CREATED:20220511T145040Z
LAST-MODIFIED:20260327T211219Z
UID:10077886-1770062400-1770073200@thepinestimes.com
SUMMARY:Monday Karaoke
DESCRIPTION:Come out for Karaoke fun every Monday night at Legends Bar and Grill. Hosted by BowTie Entertainment. \n“If your friends are under 21 now they can watch you sing live from legends on the Talent Zone USA channel available on Roku and FireTV. Come be on TV with us or watch us.”
URL:https://thepinestimes.com/event/karaoke-monday/2026-02-02/
LOCATION:Legends of Southern Pines\, 1113 Old US Hwy 1\, Southern Pines\, NC\, United States
CATEGORIES:Adults,Hobby/Enthusiast,Social,Southern Pines Events
ATTACH;FMTTYPE=image/png:https://thepinestimes.com/wp-content/uploads/Karaoke-e1754409547503.png
END:VEVENT
BEGIN:VEVENT
DTSTART;TZID=America/New_York:20260126T200000
DTEND;TZID=America/New_York:20260126T230000
DTSTAMP:20260425T084010
CREATED:20220511T145040Z
LAST-MODIFIED:20260327T211219Z
UID:10077885-1769457600-1769468400@thepinestimes.com
SUMMARY:Monday Karaoke
DESCRIPTION:Come out for Karaoke fun every Monday night at Legends Bar and Grill. Hosted by BowTie Entertainment. \n“If your friends are under 21 now they can watch you sing live from legends on the Talent Zone USA channel available on Roku and FireTV. Come be on TV with us or watch us.”
URL:https://thepinestimes.com/event/karaoke-monday/2026-01-26/
LOCATION:Legends of Southern Pines\, 1113 Old US Hwy 1\, Southern Pines\, NC\, United States
CATEGORIES:Adults,Hobby/Enthusiast,Social,Southern Pines Events
ATTACH;FMTTYPE=image/png:https://thepinestimes.com/wp-content/uploads/Karaoke-e1754409547503.png
END:VEVENT
BEGIN:VEVENT
DTSTART;TZID=America/New_York:20260119T200000
DTEND;TZID=America/New_York:20260119T230000
DTSTAMP:20260425T084010
CREATED:20220511T145040Z
LAST-MODIFIED:20260327T211219Z
UID:10077884-1768852800-1768863600@thepinestimes.com
SUMMARY:Monday Karaoke
DESCRIPTION:Come out for Karaoke fun every Monday night at Legends Bar and Grill. Hosted by BowTie Entertainment. \n“If your friends are under 21 now they can watch you sing live from legends on the Talent Zone USA channel available on Roku and FireTV. Come be on TV with us or watch us.”
URL:https://thepinestimes.com/event/karaoke-monday/2026-01-19/
LOCATION:Legends of Southern Pines\, 1113 Old US Hwy 1\, Southern Pines\, NC\, United States
CATEGORIES:Adults,Hobby/Enthusiast,Social,Southern Pines Events
ATTACH;FMTTYPE=image/png:https://thepinestimes.com/wp-content/uploads/Karaoke-e1754409547503.png
END:VEVENT
BEGIN:VEVENT
DTSTART;TZID=America/New_York:20260112T200000
DTEND;TZID=America/New_York:20260112T230000
DTSTAMP:20260425T084010
CREATED:20220511T145040Z
LAST-MODIFIED:20260327T211219Z
UID:10077883-1768248000-1768258800@thepinestimes.com
SUMMARY:Monday Karaoke
DESCRIPTION:Come out for Karaoke fun every Monday night at Legends Bar and Grill. Hosted by BowTie Entertainment. \n“If your friends are under 21 now they can watch you sing live from legends on the Talent Zone USA channel available on Roku and FireTV. Come be on TV with us or watch us.”
URL:https://thepinestimes.com/event/karaoke-monday/2026-01-12/
LOCATION:Legends of Southern Pines\, 1113 Old US Hwy 1\, Southern Pines\, NC\, United States
CATEGORIES:Adults,Hobby/Enthusiast,Social,Southern Pines Events
ATTACH;FMTTYPE=image/png:https://thepinestimes.com/wp-content/uploads/Karaoke-e1754409547503.png
END:VEVENT
BEGIN:VEVENT
DTSTART;TZID=America/New_York:20260105T200000
DTEND;TZID=America/New_York:20260105T230000
DTSTAMP:20260425T084010
CREATED:20220511T145040Z
LAST-MODIFIED:20260327T211219Z
UID:10077882-1767643200-1767654000@thepinestimes.com
SUMMARY:Monday Karaoke
DESCRIPTION:Come out for Karaoke fun every Monday night at Legends Bar and Grill. Hosted by BowTie Entertainment. \n“If your friends are under 21 now they can watch you sing live from legends on the Talent Zone USA channel available on Roku and FireTV. Come be on TV with us or watch us.”
URL:https://thepinestimes.com/event/karaoke-monday/2026-01-05/
LOCATION:Legends of Southern Pines\, 1113 Old US Hwy 1\, Southern Pines\, NC\, United States
CATEGORIES:Adults,Hobby/Enthusiast,Social,Southern Pines Events
ATTACH;FMTTYPE=image/png:https://thepinestimes.com/wp-content/uploads/Karaoke-e1754409547503.png
END:VEVENT
BEGIN:VEVENT
DTSTART;TZID=America/New_York:20251229T200000
DTEND;TZID=America/New_York:20251229T230000
DTSTAMP:20260425T084010
CREATED:20220511T145040Z
LAST-MODIFIED:20260327T211219Z
UID:10061925-1767038400-1767049200@thepinestimes.com
SUMMARY:Monday Karaoke
DESCRIPTION:Come out for Karaoke fun every Monday night at Legends Bar and Grill. Hosted by BowTie Entertainment. \n“If your friends are under 21 now they can watch you sing live from legends on the Talent Zone USA channel available on Roku and FireTV. Come be on TV with us or watch us.”
URL:https://thepinestimes.com/event/karaoke-monday/2025-12-29/
LOCATION:Legends of Southern Pines\, 1113 Old US Hwy 1\, Southern Pines\, NC\, United States
CATEGORIES:Adults,Hobby/Enthusiast,Social,Southern Pines Events
ATTACH;FMTTYPE=image/png:https://thepinestimes.com/wp-content/uploads/Karaoke-e1754409547503.png
END:VEVENT
BEGIN:VEVENT
DTSTART;TZID=America/New_York:20251222T200000
DTEND;TZID=America/New_York:20251222T230000
DTSTAMP:20260425T084010
CREATED:20220511T145040Z
LAST-MODIFIED:20260327T211219Z
UID:10061924-1766433600-1766444400@thepinestimes.com
SUMMARY:Monday Karaoke
DESCRIPTION:Come out for Karaoke fun every Monday night at Legends Bar and Grill. Hosted by BowTie Entertainment. \n“If your friends are under 21 now they can watch you sing live from legends on the Talent Zone USA channel available on Roku and FireTV. Come be on TV with us or watch us.”
URL:https://thepinestimes.com/event/karaoke-monday/2025-12-22/
LOCATION:Legends of Southern Pines\, 1113 Old US Hwy 1\, Southern Pines\, NC\, United States
CATEGORIES:Adults,Hobby/Enthusiast,Social,Southern Pines Events
ATTACH;FMTTYPE=image/png:https://thepinestimes.com/wp-content/uploads/Karaoke-e1754409547503.png
END:VEVENT
BEGIN:VEVENT
DTSTART;TZID=America/New_York:20251215T200000
DTEND;TZID=America/New_York:20251215T230000
DTSTAMP:20260425T084010
CREATED:20220511T145040Z
LAST-MODIFIED:20260327T211219Z
UID:10061923-1765828800-1765839600@thepinestimes.com
SUMMARY:Monday Karaoke
DESCRIPTION:Come out for Karaoke fun every Monday night at Legends Bar and Grill. Hosted by BowTie Entertainment. \n“If your friends are under 21 now they can watch you sing live from legends on the Talent Zone USA channel available on Roku and FireTV. Come be on TV with us or watch us.”
URL:https://thepinestimes.com/event/karaoke-monday/2025-12-15/
LOCATION:Legends of Southern Pines\, 1113 Old US Hwy 1\, Southern Pines\, NC\, United States
CATEGORIES:Adults,Hobby/Enthusiast,Social,Southern Pines Events
ATTACH;FMTTYPE=image/png:https://thepinestimes.com/wp-content/uploads/Karaoke-e1754409547503.png
END:VEVENT
BEGIN:VEVENT
DTSTART;TZID=America/New_York:20251208T200000
DTEND;TZID=America/New_York:20251208T230000
DTSTAMP:20260425T084010
CREATED:20220511T145040Z
LAST-MODIFIED:20260327T211219Z
UID:10061922-1765224000-1765234800@thepinestimes.com
SUMMARY:Monday Karaoke
DESCRIPTION:Come out for Karaoke fun every Monday night at Legends Bar and Grill. Hosted by BowTie Entertainment. \n“If your friends are under 21 now they can watch you sing live from legends on the Talent Zone USA channel available on Roku and FireTV. Come be on TV with us or watch us.”
URL:https://thepinestimes.com/event/karaoke-monday/2025-12-08/
LOCATION:Legends of Southern Pines\, 1113 Old US Hwy 1\, Southern Pines\, NC\, United States
CATEGORIES:Adults,Hobby/Enthusiast,Social,Southern Pines Events
ATTACH;FMTTYPE=image/png:https://thepinestimes.com/wp-content/uploads/Karaoke-e1754409547503.png
END:VEVENT
BEGIN:VEVENT
DTSTART;TZID=America/New_York:20251201T200000
DTEND;TZID=America/New_York:20251201T230000
DTSTAMP:20260425T084010
CREATED:20220511T145040Z
LAST-MODIFIED:20260327T211219Z
UID:10061921-1764619200-1764630000@thepinestimes.com
SUMMARY:Monday Karaoke
DESCRIPTION:Come out for Karaoke fun every Monday night at Legends Bar and Grill. Hosted by BowTie Entertainment. \n“If your friends are under 21 now they can watch you sing live from legends on the Talent Zone USA channel available on Roku and FireTV. Come be on TV with us or watch us.”
URL:https://thepinestimes.com/event/karaoke-monday/2025-12-01/
LOCATION:Legends of Southern Pines\, 1113 Old US Hwy 1\, Southern Pines\, NC\, United States
CATEGORIES:Adults,Hobby/Enthusiast,Social,Southern Pines Events
ATTACH;FMTTYPE=image/png:https://thepinestimes.com/wp-content/uploads/Karaoke-e1754409547503.png
END:VEVENT
BEGIN:VEVENT
DTSTART;TZID=America/New_York:20251124T200000
DTEND;TZID=America/New_York:20251124T230000
DTSTAMP:20260425T084010
CREATED:20220511T145040Z
LAST-MODIFIED:20260327T211219Z
UID:10061920-1764014400-1764025200@thepinestimes.com
SUMMARY:Monday Karaoke
DESCRIPTION:Come out for Karaoke fun every Monday night at Legends Bar and Grill. Hosted by BowTie Entertainment. \n“If your friends are under 21 now they can watch you sing live from legends on the Talent Zone USA channel available on Roku and FireTV. Come be on TV with us or watch us.”
URL:https://thepinestimes.com/event/karaoke-monday/2025-11-24/
LOCATION:Legends of Southern Pines\, 1113 Old US Hwy 1\, Southern Pines\, NC\, United States
CATEGORIES:Adults,Hobby/Enthusiast,Social,Southern Pines Events
ATTACH;FMTTYPE=image/png:https://thepinestimes.com/wp-content/uploads/Karaoke-e1754409547503.png
END:VEVENT
BEGIN:VEVENT
DTSTART;TZID=America/New_York:20251117T200000
DTEND;TZID=America/New_York:20251117T230000
DTSTAMP:20260425T084010
CREATED:20220511T145040Z
LAST-MODIFIED:20260327T211219Z
UID:10061919-1763409600-1763420400@thepinestimes.com
SUMMARY:Monday Karaoke
DESCRIPTION:Come out for Karaoke fun every Monday night at Legends Bar and Grill. Hosted by BowTie Entertainment. \n“If your friends are under 21 now they can watch you sing live from legends on the Talent Zone USA channel available on Roku and FireTV. Come be on TV with us or watch us.”
URL:https://thepinestimes.com/event/karaoke-monday/2025-11-17/
LOCATION:Legends of Southern Pines\, 1113 Old US Hwy 1\, Southern Pines\, NC\, United States
CATEGORIES:Adults,Hobby/Enthusiast,Social,Southern Pines Events
ATTACH;FMTTYPE=image/png:https://thepinestimes.com/wp-content/uploads/Karaoke-e1754409547503.png
END:VEVENT
BEGIN:VEVENT
DTSTART;TZID=America/New_York:20251110T200000
DTEND;TZID=America/New_York:20251110T230000
DTSTAMP:20260425T084010
CREATED:20220511T145040Z
LAST-MODIFIED:20260327T211219Z
UID:10061918-1762804800-1762815600@thepinestimes.com
SUMMARY:Monday Karaoke
DESCRIPTION:Come out for Karaoke fun every Monday night at Legends Bar and Grill. Hosted by BowTie Entertainment. \n“If your friends are under 21 now they can watch you sing live from legends on the Talent Zone USA channel available on Roku and FireTV. Come be on TV with us or watch us.”
URL:https://thepinestimes.com/event/karaoke-monday/2025-11-10/
LOCATION:Legends of Southern Pines\, 1113 Old US Hwy 1\, Southern Pines\, NC\, United States
CATEGORIES:Adults,Hobby/Enthusiast,Social,Southern Pines Events
ATTACH;FMTTYPE=image/png:https://thepinestimes.com/wp-content/uploads/Karaoke-e1754409547503.png
END:VEVENT
BEGIN:VEVENT
DTSTART;TZID=America/New_York:20251103T200000
DTEND;TZID=America/New_York:20251103T230000
DTSTAMP:20260425T084010
CREATED:20220511T145040Z
LAST-MODIFIED:20260327T211219Z
UID:10061917-1762200000-1762210800@thepinestimes.com
SUMMARY:Monday Karaoke
DESCRIPTION:Come out for Karaoke fun every Monday night at Legends Bar and Grill. Hosted by BowTie Entertainment. \n“If your friends are under 21 now they can watch you sing live from legends on the Talent Zone USA channel available on Roku and FireTV. Come be on TV with us or watch us.”
URL:https://thepinestimes.com/event/karaoke-monday/2025-11-03/
LOCATION:Legends of Southern Pines\, 1113 Old US Hwy 1\, Southern Pines\, NC\, United States
CATEGORIES:Adults,Hobby/Enthusiast,Social,Southern Pines Events
ATTACH;FMTTYPE=image/png:https://thepinestimes.com/wp-content/uploads/Karaoke-e1754409547503.png
END:VEVENT
BEGIN:VEVENT
DTSTART;TZID=America/New_York:20251027T200000
DTEND;TZID=America/New_York:20251027T230000
DTSTAMP:20260425T084010
CREATED:20220511T145040Z
LAST-MODIFIED:20260327T211219Z
UID:10061916-1761595200-1761606000@thepinestimes.com
SUMMARY:Monday Karaoke
DESCRIPTION:Come out for Karaoke fun every Monday night at Legends Bar and Grill. Hosted by BowTie Entertainment. \n“If your friends are under 21 now they can watch you sing live from legends on the Talent Zone USA channel available on Roku and FireTV. Come be on TV with us or watch us.”
URL:https://thepinestimes.com/event/karaoke-monday/2025-10-27/
LOCATION:Legends of Southern Pines\, 1113 Old US Hwy 1\, Southern Pines\, NC\, United States
CATEGORIES:Adults,Hobby/Enthusiast,Social,Southern Pines Events
ATTACH;FMTTYPE=image/png:https://thepinestimes.com/wp-content/uploads/Karaoke-e1754409547503.png
END:VEVENT
BEGIN:VEVENT
DTSTART;TZID=America/New_York:20251020T200000
DTEND;TZID=America/New_York:20251020T230000
DTSTAMP:20260425T084010
CREATED:20220511T145040Z
LAST-MODIFIED:20260327T211219Z
UID:10061915-1760990400-1761001200@thepinestimes.com
SUMMARY:Monday Karaoke
DESCRIPTION:Come out for Karaoke fun every Monday night at Legends Bar and Grill. Hosted by BowTie Entertainment. \n“If your friends are under 21 now they can watch you sing live from legends on the Talent Zone USA channel available on Roku and FireTV. Come be on TV with us or watch us.”
URL:https://thepinestimes.com/event/karaoke-monday/2025-10-20/
LOCATION:Legends of Southern Pines\, 1113 Old US Hwy 1\, Southern Pines\, NC\, United States
CATEGORIES:Adults,Hobby/Enthusiast,Social,Southern Pines Events
ATTACH;FMTTYPE=image/png:https://thepinestimes.com/wp-content/uploads/Karaoke-e1754409547503.png
END:VEVENT
BEGIN:VEVENT
DTSTART;TZID=America/New_York:20251013T200000
DTEND;TZID=America/New_York:20251013T230000
DTSTAMP:20260425T084010
CREATED:20220511T145040Z
LAST-MODIFIED:20260327T211219Z
UID:10061914-1760385600-1760396400@thepinestimes.com
SUMMARY:Monday Karaoke
DESCRIPTION:Come out for Karaoke fun every Monday night at Legends Bar and Grill. Hosted by BowTie Entertainment. \n“If your friends are under 21 now they can watch you sing live from legends on the Talent Zone USA channel available on Roku and FireTV. Come be on TV with us or watch us.”
URL:https://thepinestimes.com/event/karaoke-monday/2025-10-13/
LOCATION:Legends of Southern Pines\, 1113 Old US Hwy 1\, Southern Pines\, NC\, United States
CATEGORIES:Adults,Hobby/Enthusiast,Social,Southern Pines Events
ATTACH;FMTTYPE=image/png:https://thepinestimes.com/wp-content/uploads/Karaoke-e1754409547503.png
END:VEVENT
BEGIN:VEVENT
DTSTART;TZID=America/New_York:20251006T200000
DTEND;TZID=America/New_York:20251006T230000
DTSTAMP:20260425T084010
CREATED:20220511T145040Z
LAST-MODIFIED:20260327T211219Z
UID:10061913-1759780800-1759791600@thepinestimes.com
SUMMARY:Monday Karaoke
DESCRIPTION:Come out for Karaoke fun every Monday night at Legends Bar and Grill. Hosted by BowTie Entertainment. \n“If your friends are under 21 now they can watch you sing live from legends on the Talent Zone USA channel available on Roku and FireTV. Come be on TV with us or watch us.”
URL:https://thepinestimes.com/event/karaoke-monday/2025-10-06/
LOCATION:Legends of Southern Pines\, 1113 Old US Hwy 1\, Southern Pines\, NC\, United States
CATEGORIES:Adults,Hobby/Enthusiast,Social,Southern Pines Events
ATTACH;FMTTYPE=image/png:https://thepinestimes.com/wp-content/uploads/Karaoke-e1754409547503.png
END:VEVENT
BEGIN:VEVENT
DTSTART;TZID=America/New_York:20250929T200000
DTEND;TZID=America/New_York:20250929T230000
DTSTAMP:20260425T084010
CREATED:20220511T145040Z
LAST-MODIFIED:20260327T211219Z
UID:10061912-1759176000-1759186800@thepinestimes.com
SUMMARY:Monday Karaoke
DESCRIPTION:Come out for Karaoke fun every Monday night at Legends Bar and Grill. Hosted by BowTie Entertainment. \n“If your friends are under 21 now they can watch you sing live from legends on the Talent Zone USA channel available on Roku and FireTV. Come be on TV with us or watch us.”
URL:https://thepinestimes.com/event/karaoke-monday/2025-09-29/
LOCATION:Legends of Southern Pines\, 1113 Old US Hwy 1\, Southern Pines\, NC\, United States
CATEGORIES:Adults,Hobby/Enthusiast,Social,Southern Pines Events
ATTACH;FMTTYPE=image/png:https://thepinestimes.com/wp-content/uploads/Karaoke-e1754409547503.png
END:VEVENT
BEGIN:VEVENT
DTSTART;TZID=America/New_York:20250922T200000
DTEND;TZID=America/New_York:20250922T230000
DTSTAMP:20260425T084010
CREATED:20220511T145040Z
LAST-MODIFIED:20260327T211219Z
UID:10061911-1758571200-1758582000@thepinestimes.com
SUMMARY:Monday Karaoke
DESCRIPTION:Come out for Karaoke fun every Monday night at Legends Bar and Grill. Hosted by BowTie Entertainment. \n“If your friends are under 21 now they can watch you sing live from legends on the Talent Zone USA channel available on Roku and FireTV. Come be on TV with us or watch us.”
URL:https://thepinestimes.com/event/karaoke-monday/2025-09-22/
LOCATION:Legends of Southern Pines\, 1113 Old US Hwy 1\, Southern Pines\, NC\, United States
CATEGORIES:Adults,Hobby/Enthusiast,Social,Southern Pines Events
ATTACH;FMTTYPE=image/png:https://thepinestimes.com/wp-content/uploads/Karaoke-e1754409547503.png
END:VEVENT
BEGIN:VEVENT
DTSTART;TZID=America/New_York:20250915T200000
DTEND;TZID=America/New_York:20250915T230000
DTSTAMP:20260425T084010
CREATED:20220511T145040Z
LAST-MODIFIED:20260327T211219Z
UID:10061910-1757966400-1757977200@thepinestimes.com
SUMMARY:Monday Karaoke
DESCRIPTION:Come out for Karaoke fun every Monday night at Legends Bar and Grill. Hosted by BowTie Entertainment. \n“If your friends are under 21 now they can watch you sing live from legends on the Talent Zone USA channel available on Roku and FireTV. Come be on TV with us or watch us.”
URL:https://thepinestimes.com/event/karaoke-monday/2025-09-15/
LOCATION:Legends of Southern Pines\, 1113 Old US Hwy 1\, Southern Pines\, NC\, United States
CATEGORIES:Adults,Hobby/Enthusiast,Social,Southern Pines Events
ATTACH;FMTTYPE=image/png:https://thepinestimes.com/wp-content/uploads/Karaoke-e1754409547503.png
END:VEVENT
BEGIN:VEVENT
DTSTART;TZID=America/New_York:20250908T200000
DTEND;TZID=America/New_York:20250908T230000
DTSTAMP:20260425T084010
CREATED:20220511T145040Z
LAST-MODIFIED:20260327T211219Z
UID:10061909-1757361600-1757372400@thepinestimes.com
SUMMARY:Monday Karaoke
DESCRIPTION:Come out for Karaoke fun every Monday night at Legends Bar and Grill. Hosted by BowTie Entertainment. \n“If your friends are under 21 now they can watch you sing live from legends on the Talent Zone USA channel available on Roku and FireTV. Come be on TV with us or watch us.”
URL:https://thepinestimes.com/event/karaoke-monday/2025-09-08/
LOCATION:Legends of Southern Pines\, 1113 Old US Hwy 1\, Southern Pines\, NC\, United States
CATEGORIES:Adults,Hobby/Enthusiast,Social,Southern Pines Events
ATTACH;FMTTYPE=image/png:https://thepinestimes.com/wp-content/uploads/Karaoke-e1754409547503.png
END:VEVENT
BEGIN:VEVENT
DTSTART;TZID=America/New_York:20250901T200000
DTEND;TZID=America/New_York:20250901T230000
DTSTAMP:20260425T084010
CREATED:20220511T145040Z
LAST-MODIFIED:20260327T211219Z
UID:10061908-1756756800-1756767600@thepinestimes.com
SUMMARY:Monday Karaoke
DESCRIPTION:Come out for Karaoke fun every Monday night at Legends Bar and Grill. Hosted by BowTie Entertainment. \n“If your friends are under 21 now they can watch you sing live from legends on the Talent Zone USA channel available on Roku and FireTV. Come be on TV with us or watch us.”
URL:https://thepinestimes.com/event/karaoke-monday/2025-09-01/
LOCATION:Legends of Southern Pines\, 1113 Old US Hwy 1\, Southern Pines\, NC\, United States
CATEGORIES:Adults,Hobby/Enthusiast,Social,Southern Pines Events
ATTACH;FMTTYPE=image/png:https://thepinestimes.com/wp-content/uploads/Karaoke-e1754409547503.png
END:VEVENT
BEGIN:VEVENT
DTSTART;TZID=America/New_York:20250828T200000
DTEND;TZID=America/New_York:20250828T200000
DTSTAMP:20260425T084010
CREATED:20250713T144241Z
LAST-MODIFIED:20250805T140310Z
UID:10063318-1756411200-1756411200@thepinestimes.com
SUMMARY:Speed Pool Thursdays
DESCRIPTION:Speed Pool is back at Legends of Southern Pines! It is a $10 buy in taking place every Thursday at 8:00pm. \n 
URL:https://thepinestimes.com/event/speed-pool-thursdays/2025-08-28/
LOCATION:Legends of Southern Pines\, 1113 Old US Hwy 1\, Southern Pines\, NC\, United States
CATEGORIES:Adults,Games,Hobby/Enthusiast,Pool,Social,Southern Pines Events,Sports
ATTACH;FMTTYPE=image/jpeg:https://thepinestimes.com/wp-content/uploads/LegendsOfSouthernPinesFeature.jpg
END:VEVENT
BEGIN:VEVENT
DTSTART;TZID=America/New_York:20250825T200000
DTEND;TZID=America/New_York:20250825T230000
DTSTAMP:20260425T084010
CREATED:20220511T145040Z
LAST-MODIFIED:20260327T211219Z
UID:10061907-1756152000-1756162800@thepinestimes.com
SUMMARY:Monday Karaoke
DESCRIPTION:Come out for Karaoke fun every Monday night at Legends Bar and Grill. Hosted by BowTie Entertainment. \n“If your friends are under 21 now they can watch you sing live from legends on the Talent Zone USA channel available on Roku and FireTV. Come be on TV with us or watch us.”
URL:https://thepinestimes.com/event/karaoke-monday/2025-08-25/
LOCATION:Legends of Southern Pines\, 1113 Old US Hwy 1\, Southern Pines\, NC\, United States
CATEGORIES:Adults,Hobby/Enthusiast,Social,Southern Pines Events
ATTACH;FMTTYPE=image/png:https://thepinestimes.com/wp-content/uploads/Karaoke-e1754409547503.png
END:VEVENT
BEGIN:VEVENT
DTSTART;TZID=America/New_York:20250821T200000
DTEND;TZID=America/New_York:20250821T200000
DTSTAMP:20260425T084010
CREATED:20250713T144241Z
LAST-MODIFIED:20250805T140310Z
UID:10063317-1755806400-1755806400@thepinestimes.com
SUMMARY:Speed Pool Thursdays
DESCRIPTION:Speed Pool is back at Legends of Southern Pines! It is a $10 buy in taking place every Thursday at 8:00pm. \n 
URL:https://thepinestimes.com/event/speed-pool-thursdays/2025-08-21/
LOCATION:Legends of Southern Pines\, 1113 Old US Hwy 1\, Southern Pines\, NC\, United States
CATEGORIES:Adults,Games,Hobby/Enthusiast,Pool,Social,Southern Pines Events,Sports
ATTACH;FMTTYPE=image/jpeg:https://thepinestimes.com/wp-content/uploads/LegendsOfSouthernPinesFeature.jpg
END:VEVENT
BEGIN:VEVENT
DTSTART;TZID=America/New_York:20250818T200000
DTEND;TZID=America/New_York:20250818T230000
DTSTAMP:20260425T084010
CREATED:20220511T145040Z
LAST-MODIFIED:20260327T211219Z
UID:10061906-1755547200-1755558000@thepinestimes.com
SUMMARY:Monday Karaoke
DESCRIPTION:Come out for Karaoke fun every Monday night at Legends Bar and Grill. Hosted by BowTie Entertainment. \n“If your friends are under 21 now they can watch you sing live from legends on the Talent Zone USA channel available on Roku and FireTV. Come be on TV with us or watch us.”
URL:https://thepinestimes.com/event/karaoke-monday/2025-08-18/
LOCATION:Legends of Southern Pines\, 1113 Old US Hwy 1\, Southern Pines\, NC\, United States
CATEGORIES:Adults,Hobby/Enthusiast,Social,Southern Pines Events
ATTACH;FMTTYPE=image/png:https://thepinestimes.com/wp-content/uploads/Karaoke-e1754409547503.png
END:VEVENT
BEGIN:VEVENT
DTSTART;TZID=America/New_York:20250814T200000
DTEND;TZID=America/New_York:20250814T200000
DTSTAMP:20260425T084010
CREATED:20250713T144241Z
LAST-MODIFIED:20250805T140310Z
UID:10063316-1755201600-1755201600@thepinestimes.com
SUMMARY:Speed Pool Thursdays
DESCRIPTION:Speed Pool is back at Legends of Southern Pines! It is a $10 buy in taking place every Thursday at 8:00pm. \n 
URL:https://thepinestimes.com/event/speed-pool-thursdays/2025-08-14/
LOCATION:Legends of Southern Pines\, 1113 Old US Hwy 1\, Southern Pines\, NC\, United States
CATEGORIES:Adults,Games,Hobby/Enthusiast,Pool,Social,Southern Pines Events,Sports
ATTACH;FMTTYPE=image/jpeg:https://thepinestimes.com/wp-content/uploads/LegendsOfSouthernPinesFeature.jpg
END:VEVENT
BEGIN:VEVENT
DTSTART;TZID=America/New_York:20250811T200000
DTEND;TZID=America/New_York:20250811T230000
DTSTAMP:20260425T084010
CREATED:20220511T145040Z
LAST-MODIFIED:20260327T211219Z
UID:10061905-1754942400-1754953200@thepinestimes.com
SUMMARY:Monday Karaoke
DESCRIPTION:Come out for Karaoke fun every Monday night at Legends Bar and Grill. Hosted by BowTie Entertainment. \n“If your friends are under 21 now they can watch you sing live from legends on the Talent Zone USA channel available on Roku and FireTV. Come be on TV with us or watch us.”
URL:https://thepinestimes.com/event/karaoke-monday/2025-08-11/
LOCATION:Legends of Southern Pines\, 1113 Old US Hwy 1\, Southern Pines\, NC\, United States
CATEGORIES:Adults,Hobby/Enthusiast,Social,Southern Pines Events
ATTACH;FMTTYPE=image/png:https://thepinestimes.com/wp-content/uploads/Karaoke-e1754409547503.png
END:VEVENT
END:VCALENDAR