BEGIN:VCALENDAR
VERSION:2.0
PRODID:-//The Pines Times - ECPv6.15.20//NONSGML v1.0//EN
CALSCALE:GREGORIAN
METHOD:PUBLISH
X-WR-CALNAME:The Pines Times
X-ORIGINAL-URL:https://thepinestimes.com
X-WR-CALDESC:Events for The Pines Times
REFRESH-INTERVAL;VALUE=DURATION:PT1H
X-Robots-Tag:noindex
X-PUBLISHED-TTL:PT1H
BEGIN:VTIMEZONE
TZID:America/New_York
BEGIN:DAYLIGHT
TZOFFSETFROM:-0500
TZOFFSETTO:-0400
TZNAME:EDT
DTSTART:20250309T070000
END:DAYLIGHT
BEGIN:STANDARD
TZOFFSETFROM:-0400
TZOFFSETTO:-0500
TZNAME:EST
DTSTART:20251102T060000
END:STANDARD
BEGIN:DAYLIGHT
TZOFFSETFROM:-0500
TZOFFSETTO:-0400
TZNAME:EDT
DTSTART:20260308T070000
END:DAYLIGHT
BEGIN:STANDARD
TZOFFSETFROM:-0400
TZOFFSETTO:-0500
TZNAME:EST
DTSTART:20261101T060000
END:STANDARD
BEGIN:DAYLIGHT
TZOFFSETFROM:-0500
TZOFFSETTO:-0400
TZNAME:EDT
DTSTART:20270314T070000
END:DAYLIGHT
BEGIN:STANDARD
TZOFFSETFROM:-0400
TZOFFSETTO:-0500
TZNAME:EST
DTSTART:20271107T060000
END:STANDARD
END:VTIMEZONE
BEGIN:VEVENT
DTSTART;TZID=America/New_York:20260417T173000
DTEND;TZID=America/New_York:20260417T203000
DTSTAMP:20260424T095916
CREATED:20260325T162213Z
LAST-MODIFIED:20260325T162213Z
UID:10084235-1776447000-1776457800@thepinestimes.com
SUMMARY:Life Care Pregnancy Center: "Life in Motion" Fundraiser
DESCRIPTION:The Life Care Pregnancy Center is celebrating its 34th anniversary and the launch of its new mobile unit\, Mobi\, with a “Life in Motion” reverse raffle fundraiser on Friday\, April 17th! The event will be held from 5:30PM-8:30PM at Twin Fields Farm\, located at 1855 N. May St. in Southern Pines.\n\nTickets are $100 and include a light dinner and a chance to win multiple cash prizes up to $500\, with a grand prize of $5\,000. Participants do not need to be present to win. Live music from the McKenzie Brothers will be featured throughout the evening!\n\nTo sponsor the event\, register\, or to find out further information\, follow the event website link provided below.\nIf you have any questions\, call 910-947-6199.
URL:https://thepinestimes.com/event/life-care-pregnancy-center-life-in-motion-fundraiser/
LOCATION:Twin Fields Farm\, 1857 N. May Street\, Southern Pines\, NC\, 28387\, United States
CATEGORIES:Anniversary Celebration,Donation,Food,Fundraiser,Music,Raffle,Social,Southern Pines Events
ATTACH;FMTTYPE=image/jpeg:https://thepinestimes.com/wp-content/uploads/LifeInMotionLifeCareFeature.jpg
END:VEVENT
END:VCALENDAR