BEGIN:VCALENDAR
VERSION:2.0
PRODID:-//The Pines Times - ECPv6.15.20//NONSGML v1.0//EN
CALSCALE:GREGORIAN
METHOD:PUBLISH
X-WR-CALNAME:The Pines Times
X-ORIGINAL-URL:https://thepinestimes.com
X-WR-CALDESC:Events for The Pines Times
REFRESH-INTERVAL;VALUE=DURATION:PT1H
X-Robots-Tag:noindex
X-PUBLISHED-TTL:PT1H
BEGIN:VTIMEZONE
TZID:America/New_York
BEGIN:DAYLIGHT
TZOFFSETFROM:-0500
TZOFFSETTO:-0400
TZNAME:EDT
DTSTART:20250309T070000
END:DAYLIGHT
BEGIN:STANDARD
TZOFFSETFROM:-0400
TZOFFSETTO:-0500
TZNAME:EST
DTSTART:20251102T060000
END:STANDARD
BEGIN:DAYLIGHT
TZOFFSETFROM:-0500
TZOFFSETTO:-0400
TZNAME:EDT
DTSTART:20260308T070000
END:DAYLIGHT
BEGIN:STANDARD
TZOFFSETFROM:-0400
TZOFFSETTO:-0500
TZNAME:EST
DTSTART:20261101T060000
END:STANDARD
BEGIN:DAYLIGHT
TZOFFSETFROM:-0500
TZOFFSETTO:-0400
TZNAME:EDT
DTSTART:20270314T070000
END:DAYLIGHT
BEGIN:STANDARD
TZOFFSETFROM:-0400
TZOFFSETTO:-0500
TZNAME:EST
DTSTART:20271107T060000
END:STANDARD
END:VTIMEZONE
BEGIN:VEVENT
DTSTART;TZID=America/New_York:20260212T160000
DTEND;TZID=America/New_York:20260212T190000
DTSTAMP:20260421T203247
CREATED:20260206T184430Z
LAST-MODIFIED:20260206T184430Z
UID:10080630-1770912000-1770922800@thepinestimes.com
SUMMARY:Galentine’s Party
DESCRIPTION:Sanford Maurices is hosting a Galentine’s Party on Thursday\, February 12th\, from 4pm-7pm! Grab your girls and enjoy a night of love\, refreshments\, and exclusive shopping deals. Carolina Girl Embroidery & Design Co. LLC will be in-store to personalize items such as bags\, blankets\, sweatshirts\, and tops\, so you can bring something special or grab something new to customize. RSVP through Facebook or by calling 919-774-1161. \n \n  \n 
URL:https://thepinestimes.com/event/galentines-party/
LOCATION:Maurices (Sanford\, NC)\, 1033 Spring Lane\, Space 8\, Sanford\, 27330\, United States
CATEGORIES:Hobby/Enthusiast,Holiday Events,Sanford Events,Shopping,Social,Teen Activities,Valentine's Day,Women,Young Adults
ATTACH;FMTTYPE=image/jpeg:https://thepinestimes.com/wp-content/uploads/GalentinesMauricesFeature.jpg
END:VEVENT
END:VCALENDAR