BEGIN:VCALENDAR
VERSION:2.0
PRODID:-//The Pines Times - ECPv6.15.20//NONSGML v1.0//EN
CALSCALE:GREGORIAN
METHOD:PUBLISH
X-ORIGINAL-URL:https://thepinestimes.com
X-WR-CALDESC:Events for The Pines Times
REFRESH-INTERVAL;VALUE=DURATION:PT1H
X-Robots-Tag:noindex
X-PUBLISHED-TTL:PT1H
BEGIN:VTIMEZONE
TZID:America/New_York
BEGIN:DAYLIGHT
TZOFFSETFROM:-0500
TZOFFSETTO:-0400
TZNAME:EDT
DTSTART:20250309T070000
END:DAYLIGHT
BEGIN:STANDARD
TZOFFSETFROM:-0400
TZOFFSETTO:-0500
TZNAME:EST
DTSTART:20251102T060000
END:STANDARD
BEGIN:DAYLIGHT
TZOFFSETFROM:-0500
TZOFFSETTO:-0400
TZNAME:EDT
DTSTART:20260308T070000
END:DAYLIGHT
BEGIN:STANDARD
TZOFFSETFROM:-0400
TZOFFSETTO:-0500
TZNAME:EST
DTSTART:20261101T060000
END:STANDARD
BEGIN:DAYLIGHT
TZOFFSETFROM:-0500
TZOFFSETTO:-0400
TZNAME:EDT
DTSTART:20270314T070000
END:DAYLIGHT
BEGIN:STANDARD
TZOFFSETFROM:-0400
TZOFFSETTO:-0500
TZNAME:EST
DTSTART:20271107T060000
END:STANDARD
END:VTIMEZONE
BEGIN:VEVENT
DTSTART;TZID=America/New_York:20260502T110000
DTEND;TZID=America/New_York:20260502T220000
DTSTAMP:20260422T073421
CREATED:20260421T134519Z
LAST-MODIFIED:20260421T134538Z
UID:10086917-1777719600-1777759200@thepinestimes.com
SUMMARY:Kentucky Derby Watch Party 2026
DESCRIPTION:Join for the Annual Derby Day Preview Party at Maxie’s Grill & Taproom — a spirited kickoff to race season with Southern charm\, mint juleps\, and festive fun. Sip specialty cocktails\, savor a Kentucky-inspired menu\, enjoy live music\, and soak up the stylish atmosphere. Dress to impress: don bold hats\, bright seersucker\, floral dresses\, and dapper suits — cash prize for Best Dressed and prizes for Best Hat! Bring friends\, bring flair\, and let’s make this Derby preview a stylish celebration at Maxie’s!
URL:https://thepinestimes.com/event/kentucky-derby-watch-party-2026/
LOCATION:Maxie’s Grill and Taproom\, 35 McIntyre Road\, Pinehurst\, NC\, 28374\, United States
END:VEVENT
END:VCALENDAR