BEGIN:VCALENDAR
VERSION:2.0
PRODID:-//The Pines Times - ECPv6.15.20//NONSGML v1.0//EN
CALSCALE:GREGORIAN
METHOD:PUBLISH
X-WR-CALNAME:The Pines Times
X-ORIGINAL-URL:https://thepinestimes.com
X-WR-CALDESC:Events for The Pines Times
REFRESH-INTERVAL;VALUE=DURATION:PT1H
X-Robots-Tag:noindex
X-PUBLISHED-TTL:PT1H
BEGIN:VTIMEZONE
TZID:America/New_York
BEGIN:DAYLIGHT
TZOFFSETFROM:-0500
TZOFFSETTO:-0400
TZNAME:EDT
DTSTART:20240310T070000
END:DAYLIGHT
BEGIN:STANDARD
TZOFFSETFROM:-0400
TZOFFSETTO:-0500
TZNAME:EST
DTSTART:20241103T060000
END:STANDARD
BEGIN:DAYLIGHT
TZOFFSETFROM:-0500
TZOFFSETTO:-0400
TZNAME:EDT
DTSTART:20250309T070000
END:DAYLIGHT
BEGIN:STANDARD
TZOFFSETFROM:-0400
TZOFFSETTO:-0500
TZNAME:EST
DTSTART:20251102T060000
END:STANDARD
BEGIN:DAYLIGHT
TZOFFSETFROM:-0500
TZOFFSETTO:-0400
TZNAME:EDT
DTSTART:20260308T070000
END:DAYLIGHT
BEGIN:STANDARD
TZOFFSETFROM:-0400
TZOFFSETTO:-0500
TZNAME:EST
DTSTART:20261101T060000
END:STANDARD
BEGIN:DAYLIGHT
TZOFFSETFROM:-0500
TZOFFSETTO:-0400
TZNAME:EDT
DTSTART:20270314T070000
END:DAYLIGHT
BEGIN:STANDARD
TZOFFSETFROM:-0400
TZOFFSETTO:-0500
TZNAME:EST
DTSTART:20271107T060000
END:STANDARD
END:VTIMEZONE
BEGIN:VEVENT
DTSTART;TZID=America/New_York:20260307T180000
DTEND;TZID=America/New_York:20260307T180000
DTSTAMP:20260425T215958
CREATED:20240212T172208Z
LAST-MODIFIED:20260219T195027Z
UID:10030489-1772906400-1772906400@thepinestimes.com
SUMMARY:Mira Foundation USA: 2026 "Mira-cles Happen Gala"
DESCRIPTION:Join MIRA Foundation USA for the 2026 “Mira-cles Happen Gala” on Saturday\, March 7th at 6:00 pm at the Country Club of North Carolina. Enjoy live music\, dinner\, and meet guide dog recipients and cadidates. Bid on exclusive items in the live auction to help raise funds for guide dogs for visually impaired children. MIRA is the only organization providing guide dogs free of charge to blind American kids. Tickets are $125. Cocktail attire. For full details and ticket purchases\, follow the website event link provided below.
URL:https://thepinestimes.com/event/mira-foundation-usa-2026-mira-cles-happen-gala/
LOCATION:Country Club of North Carolina\, 1600 Morganton Road\, Pinehurst\, NC North Carolina\, 28374
CATEGORIES:Adults,Auction,Donation,Food,Fundraiser,Hobby/Enthusiast,Live Entertainment,Music,Pets/Animals,Pinehurst Events,Senior,Social,Vendors,Young Adults
ATTACH;FMTTYPE=image/jpeg:https://thepinestimes.com/wp-content/uploads/MIRAgalaFlyer.jpg
END:VEVENT
BEGIN:VEVENT
DTSTART;TZID=America/New_York:20250920T113000
DTEND;TZID=America/New_York:20250920T210000
DTSTAMP:20260425T215958
CREATED:20240515T182753Z
LAST-MODIFIED:20250915T195139Z
UID:10036925-1758367800-1758402000@thepinestimes.com
SUMMARY:Mira Music Fest: "Tunes\, Tacos & Tequila"
DESCRIPTION:Join for the Mira Music Festival 2025\, “Tunes\, Tacos & Tequila!” Happening at The Fair Barn in Pinehurst on Saturday\, September 20th | 11:30am-9:00pm. Enjoy live music\, tacos trucks\, tequila tastings\, children’s area\, vendors and more! Live music will be provided by many talented musicians on the inside and outside stages. Please bring a chair or blanket for your own comfort. Early Bird tickets are $15 and available until August 31st. General admission is $20. Children 12 years old or younger enter free with adult ticket. For full details and online ticket purchases\, follow the website event link provided below.
URL:https://thepinestimes.com/event/2025-mira-music-fest-tunes-tacos-tequila/
LOCATION:The Fair Barn\, 200 Beulah Hill Rd.\, Pinehurst\, NC North Carolina\, 28374
CATEGORIES:Adults,Concert,Fall,Fall in the Sandhills,Family,Fundraiser,Hobby/Enthusiast,Live Entertainment,Live Music,Nature/Outdoors,Senior,Social,West End Events
ATTACH;FMTTYPE=image/jpeg:https://thepinestimes.com/wp-content/uploads/MiraFoundationFeature.jpg
END:VEVENT
END:VCALENDAR