BEGIN:VCALENDAR
VERSION:2.0
PRODID:-//The Pines Times - ECPv6.15.20//NONSGML v1.0//EN
CALSCALE:GREGORIAN
METHOD:PUBLISH
X-WR-CALNAME:The Pines Times
X-ORIGINAL-URL:https://thepinestimes.com
X-WR-CALDESC:Events for The Pines Times
REFRESH-INTERVAL;VALUE=DURATION:PT1H
X-Robots-Tag:noindex
X-PUBLISHED-TTL:PT1H
BEGIN:VTIMEZONE
TZID:America/New_York
BEGIN:DAYLIGHT
TZOFFSETFROM:-0500
TZOFFSETTO:-0400
TZNAME:EDT
DTSTART:20240310T070000
END:DAYLIGHT
BEGIN:STANDARD
TZOFFSETFROM:-0400
TZOFFSETTO:-0500
TZNAME:EST
DTSTART:20241103T060000
END:STANDARD
BEGIN:DAYLIGHT
TZOFFSETFROM:-0500
TZOFFSETTO:-0400
TZNAME:EDT
DTSTART:20250309T070000
END:DAYLIGHT
BEGIN:STANDARD
TZOFFSETFROM:-0400
TZOFFSETTO:-0500
TZNAME:EST
DTSTART:20251102T060000
END:STANDARD
BEGIN:DAYLIGHT
TZOFFSETFROM:-0500
TZOFFSETTO:-0400
TZNAME:EDT
DTSTART:20260308T070000
END:DAYLIGHT
BEGIN:STANDARD
TZOFFSETFROM:-0400
TZOFFSETTO:-0500
TZNAME:EST
DTSTART:20261101T060000
END:STANDARD
END:VTIMEZONE
BEGIN:VEVENT
DTSTART;TZID=America/New_York:20250409T140000
DTEND;TZID=America/New_York:20250409T170000
DTSTAMP:20260425T152311
CREATED:20250316T212533Z
LAST-MODIFIED:20250316T212533Z
UID:10055215-1744207200-1744218000@thepinestimes.com
SUMMARY:Free Workshop: 'New Land Owner Summit"
DESCRIPTION:Join NC Cooperative Extension\, Moore County Center\, for a workshop on maximizing your property for homesteading\, farming or business. Learn key steps for success\, from land planning and tax benefits (PUV) to cost-share programs (NRCS & Soil & Water) and Farm Service Agency (FSA) registration. Contact Liz Joseph at liz_joseph@ncsu.edu or 910-947-3188 for details. Event takes place on Wednesday\, April 2nd | 2pm-5pm at the Moore County Agricultural Center in Carthage. Register through the event website link provided below.
URL:https://thepinestimes.com/event/free-workshop-new-land-owner-summit/
LOCATION:Moore County Agricultural Building\, 707 Pinehurst Ave.\, Carthage\, 28327\, United States
CATEGORIES:Adults,Art/Craft Workshops,Carthage Events,Educational,Hobby/Enthusiast,Moore County Events,Nature/Outdoors,Senior,Social
END:VEVENT
END:VCALENDAR