BEGIN:VCALENDAR
VERSION:2.0
PRODID:-//The Pines Times - ECPv6.15.20//NONSGML v1.0//EN
CALSCALE:GREGORIAN
METHOD:PUBLISH
X-WR-CALNAME:The Pines Times
X-ORIGINAL-URL:https://thepinestimes.com
X-WR-CALDESC:Events for The Pines Times
REFRESH-INTERVAL;VALUE=DURATION:PT1H
X-Robots-Tag:noindex
X-PUBLISHED-TTL:PT1H
BEGIN:VTIMEZONE
TZID:America/New_York
BEGIN:DAYLIGHT
TZOFFSETFROM:-0500
TZOFFSETTO:-0400
TZNAME:EDT
DTSTART:20250309T070000
END:DAYLIGHT
BEGIN:STANDARD
TZOFFSETFROM:-0400
TZOFFSETTO:-0500
TZNAME:EST
DTSTART:20251102T060000
END:STANDARD
BEGIN:DAYLIGHT
TZOFFSETFROM:-0500
TZOFFSETTO:-0400
TZNAME:EDT
DTSTART:20260308T070000
END:DAYLIGHT
BEGIN:STANDARD
TZOFFSETFROM:-0400
TZOFFSETTO:-0500
TZNAME:EST
DTSTART:20261101T060000
END:STANDARD
BEGIN:DAYLIGHT
TZOFFSETFROM:-0500
TZOFFSETTO:-0400
TZNAME:EDT
DTSTART:20270314T070000
END:DAYLIGHT
BEGIN:STANDARD
TZOFFSETFROM:-0400
TZOFFSETTO:-0500
TZNAME:EST
DTSTART:20271107T060000
END:STANDARD
END:VTIMEZONE
BEGIN:VEVENT
DTSTART;TZID=America/New_York:20260501T171500
DTEND;TZID=America/New_York:20260501T193000
DTSTAMP:20260422T181007
CREATED:20260419T180916Z
LAST-MODIFIED:20260419T180952Z
UID:10086964-1777655700-1777663800@thepinestimes.com
SUMMARY:Shaw House Candlelight Dinner-Celebrating America 250
DESCRIPTION:The Moore County Historical Association is hosting a candlelight dinner on Friday\, May 1st\, to celebrate the 250th anniversary of independence. The event takes place at the Shaw House located at 110 West Morganton Road in Southern Pines. Festivities begin at 5:15PM with an open house and cider from James Creek Cider House. While the association provides cider and sparkling water\, guests are encouraged to bring their own wine or spirits if they wish to enjoy alcoholic beverages during the meal. \nChef Giff Fisher has curated a gourmet menu that features a variety of high-end dishes. The meal begins with appetizers including oysters Rockefeller\, candied boar bacon\, and a duck or dove saute\, followed by a gazpacho soup. For the main course\, guests can choose between venison or Cornish hen\, served alongside Carolina Gold rice and grilled local asparagus. The evening concludes with a dessert of Scottish strawberry shortcake made with fresh strawberries. Does this cover everything you needed to know about the event? \nThis exclusive fundraising dinner is limited to 32 guests and costs $150 per person. Reservations must be paid for by cash or check. To secure a spot\, you can contact Sarah Matthews at the Shaw House between 1:00PM and 4:00PM on weekdays\, call 910-692-2051\, or email info@moorehistory.com.
URL:https://thepinestimes.com/event/shaw-house-candlelight-dinner-celebrating-america-250/
LOCATION:Shaw House\, 110 Morganton Road\, Southern Pines\, NC\, 28387\, United States
CATEGORIES:Adults,America 250,Beer and Wine,Food,Historical,Nature/Outdoors,Senior,Social,Southern Pines Events,Young Adults
ATTACH;FMTTYPE=image/jpeg:https://thepinestimes.com/wp-content/uploads/Moore-County-Historical-Association-Feature.jpg
END:VEVENT
BEGIN:VEVENT
DTSTART;TZID=America/New_York:20260530T090000
DTEND;TZID=America/New_York:20260530T160000
DTSTAMP:20260422T181007
CREATED:20250408T131122Z
LAST-MODIFIED:20260401T170538Z
UID:10056322-1780131600-1780156800@thepinestimes.com
SUMMARY:Colonial Day at the Shaw House 2026
DESCRIPTION:Join the Moore County Historical Association on Saturday\, May 30th from 9am-4pm for a special Colonial Day at the Shaw House in Southern Pines. Events will include Colonial reenactors in period dress\, crafts from the period including a blacksmith\, and hourly short talks about the time period and events. There will be exhibits and tours. Food and drinks will be available from the Pinecrest High School Wrestling Club. This event is free and open to the community.
URL:https://thepinestimes.com/event/colonial-day-at-the-shaw-house-2026/
LOCATION:Shaw House\, 110 Morganton Road\, Southern Pines\, NC\, 28387\, United States
CATEGORIES:Adults,Antiques,Crafts,Demonstrations,Educational,Exhibits,Family,Food,Historical,Hobby/Enthusiast,Memorial Day,Senior,Social,Southern Pines Events,Tours,Young Adults
ATTACH;FMTTYPE=image/jpeg:https://thepinestimes.com/wp-content/uploads/Moore-County-Historical-Association-Feature.jpg
END:VEVENT
END:VCALENDAR