BEGIN:VCALENDAR
VERSION:2.0
PRODID:-//The Pines Times - ECPv6.15.20//NONSGML v1.0//EN
CALSCALE:GREGORIAN
METHOD:PUBLISH
X-WR-CALNAME:The Pines Times
X-ORIGINAL-URL:https://thepinestimes.com
X-WR-CALDESC:Events for The Pines Times
REFRESH-INTERVAL;VALUE=DURATION:PT1H
X-Robots-Tag:noindex
X-PUBLISHED-TTL:PT1H
BEGIN:VTIMEZONE
TZID:America/New_York
BEGIN:DAYLIGHT
TZOFFSETFROM:-0500
TZOFFSETTO:-0400
TZNAME:EDT
DTSTART:20230312T070000
END:DAYLIGHT
BEGIN:STANDARD
TZOFFSETFROM:-0400
TZOFFSETTO:-0500
TZNAME:EST
DTSTART:20231105T060000
END:STANDARD
BEGIN:DAYLIGHT
TZOFFSETFROM:-0500
TZOFFSETTO:-0400
TZNAME:EDT
DTSTART:20240310T070000
END:DAYLIGHT
BEGIN:STANDARD
TZOFFSETFROM:-0400
TZOFFSETTO:-0500
TZNAME:EST
DTSTART:20241103T060000
END:STANDARD
BEGIN:DAYLIGHT
TZOFFSETFROM:-0500
TZOFFSETTO:-0400
TZNAME:EDT
DTSTART:20250309T070000
END:DAYLIGHT
BEGIN:STANDARD
TZOFFSETFROM:-0400
TZOFFSETTO:-0500
TZNAME:EST
DTSTART:20251102T060000
END:STANDARD
BEGIN:DAYLIGHT
TZOFFSETFROM:-0500
TZOFFSETTO:-0400
TZNAME:EDT
DTSTART:20260308T070000
END:DAYLIGHT
BEGIN:STANDARD
TZOFFSETFROM:-0400
TZOFFSETTO:-0500
TZNAME:EST
DTSTART:20261101T060000
END:STANDARD
END:VTIMEZONE
BEGIN:VEVENT
DTSTART;TZID=America/New_York:20250627T100000
DTEND;TZID=America/New_York:20250627T100000
DTSTAMP:20260419T154246
CREATED:20241127T191024Z
LAST-MODIFIED:20260406T131525Z
UID:10055863-1751018400-1751018400@thepinestimes.com
SUMMARY:Moore County Library: Pre-School Storytime
DESCRIPTION:The Moore County Library in Carthage hosts a Pre-School Storytime each Friday at 10:00am. Join the fun! For additional information\, call 910-947-5335.
URL:https://thepinestimes.com/event/moore-county-library-pre-school-storytime-2-2/2025-06-27/
LOCATION:Moore County Library\, 101 Saunders St\, Carthage\, NC\, 28327\, United States
CATEGORIES:Carthage Events,Children,Educational,Family,Hobby/Enthusiast,Library,Literary Event,Piney's Tiny's,Social,Storytimes
ATTACH;FMTTYPE=image/jpeg:https://thepinestimes.com/wp-content/uploads/MooreCountyLibraryFeature-1.jpg
END:VEVENT
BEGIN:VEVENT
DTSTART;TZID=America/New_York:20250620T100000
DTEND;TZID=America/New_York:20250620T100000
DTSTAMP:20260419T154246
CREATED:20241127T191024Z
LAST-MODIFIED:20260406T131525Z
UID:10055862-1750413600-1750413600@thepinestimes.com
SUMMARY:Moore County Library: Pre-School Storytime
DESCRIPTION:The Moore County Library in Carthage hosts a Pre-School Storytime each Friday at 10:00am. Join the fun! For additional information\, call 910-947-5335.
URL:https://thepinestimes.com/event/moore-county-library-pre-school-storytime-2-2/2025-06-20/
LOCATION:Moore County Library\, 101 Saunders St\, Carthage\, NC\, 28327\, United States
CATEGORIES:Carthage Events,Children,Educational,Family,Hobby/Enthusiast,Library,Literary Event,Piney's Tiny's,Social,Storytimes
ATTACH;FMTTYPE=image/jpeg:https://thepinestimes.com/wp-content/uploads/MooreCountyLibraryFeature-1.jpg
END:VEVENT
BEGIN:VEVENT
DTSTART;TZID=America/New_York:20250613T100000
DTEND;TZID=America/New_York:20250613T100000
DTSTAMP:20260419T154246
CREATED:20241127T191024Z
LAST-MODIFIED:20260406T131525Z
UID:10055861-1749808800-1749808800@thepinestimes.com
SUMMARY:Moore County Library: Pre-School Storytime
DESCRIPTION:The Moore County Library in Carthage hosts a Pre-School Storytime each Friday at 10:00am. Join the fun! For additional information\, call 910-947-5335.
URL:https://thepinestimes.com/event/moore-county-library-pre-school-storytime-2-2/2025-06-13/
LOCATION:Moore County Library\, 101 Saunders St\, Carthage\, NC\, 28327\, United States
CATEGORIES:Carthage Events,Children,Educational,Family,Hobby/Enthusiast,Library,Literary Event,Piney's Tiny's,Social,Storytimes
ATTACH;FMTTYPE=image/jpeg:https://thepinestimes.com/wp-content/uploads/MooreCountyLibraryFeature-1.jpg
END:VEVENT
BEGIN:VEVENT
DTSTART;TZID=America/New_York:20250606T100000
DTEND;TZID=America/New_York:20250606T100000
DTSTAMP:20260419T154246
CREATED:20241127T191024Z
LAST-MODIFIED:20260406T131525Z
UID:10055860-1749204000-1749204000@thepinestimes.com
SUMMARY:Moore County Library: Pre-School Storytime
DESCRIPTION:The Moore County Library in Carthage hosts a Pre-School Storytime each Friday at 10:00am. Join the fun! For additional information\, call 910-947-5335.
URL:https://thepinestimes.com/event/moore-county-library-pre-school-storytime-2-2/2025-06-06/
LOCATION:Moore County Library\, 101 Saunders St\, Carthage\, NC\, 28327\, United States
CATEGORIES:Carthage Events,Children,Educational,Family,Hobby/Enthusiast,Library,Literary Event,Piney's Tiny's,Social,Storytimes
ATTACH;FMTTYPE=image/jpeg:https://thepinestimes.com/wp-content/uploads/MooreCountyLibraryFeature-1.jpg
END:VEVENT
BEGIN:VEVENT
DTSTART;TZID=America/New_York:20250530T100000
DTEND;TZID=America/New_York:20250530T100000
DTSTAMP:20260419T154246
CREATED:20241127T191024Z
LAST-MODIFIED:20260406T131525Z
UID:10055859-1748599200-1748599200@thepinestimes.com
SUMMARY:Moore County Library: Pre-School Storytime
DESCRIPTION:The Moore County Library in Carthage hosts a Pre-School Storytime each Friday at 10:00am. Join the fun! For additional information\, call 910-947-5335.
URL:https://thepinestimes.com/event/moore-county-library-pre-school-storytime-2-2/2025-05-30/
LOCATION:Moore County Library\, 101 Saunders St\, Carthage\, NC\, 28327\, United States
CATEGORIES:Carthage Events,Children,Educational,Family,Hobby/Enthusiast,Library,Literary Event,Piney's Tiny's,Social,Storytimes
ATTACH;FMTTYPE=image/jpeg:https://thepinestimes.com/wp-content/uploads/MooreCountyLibraryFeature-1.jpg
END:VEVENT
BEGIN:VEVENT
DTSTART;TZID=America/New_York:20250523T100000
DTEND;TZID=America/New_York:20250523T100000
DTSTAMP:20260419T154246
CREATED:20241127T191024Z
LAST-MODIFIED:20260406T131525Z
UID:10055858-1747994400-1747994400@thepinestimes.com
SUMMARY:Moore County Library: Pre-School Storytime
DESCRIPTION:The Moore County Library in Carthage hosts a Pre-School Storytime each Friday at 10:00am. Join the fun! For additional information\, call 910-947-5335.
URL:https://thepinestimes.com/event/moore-county-library-pre-school-storytime-2-2/2025-05-23/
LOCATION:Moore County Library\, 101 Saunders St\, Carthage\, NC\, 28327\, United States
CATEGORIES:Carthage Events,Children,Educational,Family,Hobby/Enthusiast,Library,Literary Event,Piney's Tiny's,Social,Storytimes
ATTACH;FMTTYPE=image/jpeg:https://thepinestimes.com/wp-content/uploads/MooreCountyLibraryFeature-1.jpg
END:VEVENT
BEGIN:VEVENT
DTSTART;TZID=America/New_York:20250516T100000
DTEND;TZID=America/New_York:20250516T100000
DTSTAMP:20260419T154246
CREATED:20241127T191024Z
LAST-MODIFIED:20260406T131525Z
UID:10055857-1747389600-1747389600@thepinestimes.com
SUMMARY:Moore County Library: Pre-School Storytime
DESCRIPTION:The Moore County Library in Carthage hosts a Pre-School Storytime each Friday at 10:00am. Join the fun! For additional information\, call 910-947-5335.
URL:https://thepinestimes.com/event/moore-county-library-pre-school-storytime-2-2/2025-05-16/
LOCATION:Moore County Library\, 101 Saunders St\, Carthage\, NC\, 28327\, United States
CATEGORIES:Carthage Events,Children,Educational,Family,Hobby/Enthusiast,Library,Literary Event,Piney's Tiny's,Social,Storytimes
ATTACH;FMTTYPE=image/jpeg:https://thepinestimes.com/wp-content/uploads/MooreCountyLibraryFeature-1.jpg
END:VEVENT
BEGIN:VEVENT
DTSTART;TZID=America/New_York:20250509T100000
DTEND;TZID=America/New_York:20250509T100000
DTSTAMP:20260419T154246
CREATED:20241127T191024Z
LAST-MODIFIED:20260406T131525Z
UID:10055856-1746784800-1746784800@thepinestimes.com
SUMMARY:Moore County Library: Pre-School Storytime
DESCRIPTION:The Moore County Library in Carthage hosts a Pre-School Storytime each Friday at 10:00am. Join the fun! For additional information\, call 910-947-5335.
URL:https://thepinestimes.com/event/moore-county-library-pre-school-storytime-2-2/2025-05-09/
LOCATION:Moore County Library\, 101 Saunders St\, Carthage\, NC\, 28327\, United States
CATEGORIES:Carthage Events,Children,Educational,Family,Hobby/Enthusiast,Library,Literary Event,Piney's Tiny's,Social,Storytimes
ATTACH;FMTTYPE=image/jpeg:https://thepinestimes.com/wp-content/uploads/MooreCountyLibraryFeature-1.jpg
END:VEVENT
BEGIN:VEVENT
DTSTART;TZID=America/New_York:20250502T100000
DTEND;TZID=America/New_York:20250502T100000
DTSTAMP:20260419T154246
CREATED:20241127T191024Z
LAST-MODIFIED:20260406T131525Z
UID:10055855-1746180000-1746180000@thepinestimes.com
SUMMARY:Moore County Library: Pre-School Storytime
DESCRIPTION:The Moore County Library in Carthage hosts a Pre-School Storytime each Friday at 10:00am. Join the fun! For additional information\, call 910-947-5335.
URL:https://thepinestimes.com/event/moore-county-library-pre-school-storytime-2-2/2025-05-02/
LOCATION:Moore County Library\, 101 Saunders St\, Carthage\, NC\, 28327\, United States
CATEGORIES:Carthage Events,Children,Educational,Family,Hobby/Enthusiast,Library,Literary Event,Piney's Tiny's,Social,Storytimes
ATTACH;FMTTYPE=image/jpeg:https://thepinestimes.com/wp-content/uploads/MooreCountyLibraryFeature-1.jpg
END:VEVENT
BEGIN:VEVENT
DTSTART;TZID=America/New_York:20250425T100000
DTEND;TZID=America/New_York:20250425T100000
DTSTAMP:20260419T154246
CREATED:20241127T191024Z
LAST-MODIFIED:20260406T131525Z
UID:10055854-1745575200-1745575200@thepinestimes.com
SUMMARY:Moore County Library: Pre-School Storytime
DESCRIPTION:The Moore County Library in Carthage hosts a Pre-School Storytime each Friday at 10:00am. Join the fun! For additional information\, call 910-947-5335.
URL:https://thepinestimes.com/event/moore-county-library-pre-school-storytime-2-2/2025-04-25/
LOCATION:Moore County Library\, 101 Saunders St\, Carthage\, NC\, 28327\, United States
CATEGORIES:Carthage Events,Children,Educational,Family,Hobby/Enthusiast,Library,Literary Event,Piney's Tiny's,Social,Storytimes
ATTACH;FMTTYPE=image/jpeg:https://thepinestimes.com/wp-content/uploads/MooreCountyLibraryFeature-1.jpg
END:VEVENT
BEGIN:VEVENT
DTSTART;TZID=America/New_York:20250418T100000
DTEND;TZID=America/New_York:20250418T100000
DTSTAMP:20260419T154246
CREATED:20241127T191024Z
LAST-MODIFIED:20260406T131525Z
UID:10055853-1744970400-1744970400@thepinestimes.com
SUMMARY:Moore County Library: Pre-School Storytime
DESCRIPTION:The Moore County Library in Carthage hosts a Pre-School Storytime each Friday at 10:00am. Join the fun! For additional information\, call 910-947-5335.
URL:https://thepinestimes.com/event/moore-county-library-pre-school-storytime-2-2/2025-04-18/
LOCATION:Moore County Library\, 101 Saunders St\, Carthage\, NC\, 28327\, United States
CATEGORIES:Carthage Events,Children,Educational,Family,Hobby/Enthusiast,Library,Literary Event,Piney's Tiny's,Social,Storytimes
ATTACH;FMTTYPE=image/jpeg:https://thepinestimes.com/wp-content/uploads/MooreCountyLibraryFeature-1.jpg
END:VEVENT
BEGIN:VEVENT
DTSTART;TZID=America/New_York:20250411T100000
DTEND;TZID=America/New_York:20250411T100000
DTSTAMP:20260419T154246
CREATED:20241127T191024Z
LAST-MODIFIED:20260406T131525Z
UID:10055852-1744365600-1744365600@thepinestimes.com
SUMMARY:Moore County Library: Pre-School Storytime
DESCRIPTION:The Moore County Library in Carthage hosts a Pre-School Storytime each Friday at 10:00am. Join the fun! For additional information\, call 910-947-5335.
URL:https://thepinestimes.com/event/moore-county-library-pre-school-storytime-2-2/2025-04-11/
LOCATION:Moore County Library\, 101 Saunders St\, Carthage\, NC\, 28327\, United States
CATEGORIES:Carthage Events,Children,Educational,Family,Hobby/Enthusiast,Library,Literary Event,Piney's Tiny's,Social,Storytimes
ATTACH;FMTTYPE=image/jpeg:https://thepinestimes.com/wp-content/uploads/MooreCountyLibraryFeature-1.jpg
END:VEVENT
BEGIN:VEVENT
DTSTART;TZID=America/New_York:20250404T100000
DTEND;TZID=America/New_York:20250404T100000
DTSTAMP:20260419T154246
CREATED:20241127T191024Z
LAST-MODIFIED:20260406T131525Z
UID:10055851-1743760800-1743760800@thepinestimes.com
SUMMARY:Moore County Library: Pre-School Storytime
DESCRIPTION:The Moore County Library in Carthage hosts a Pre-School Storytime each Friday at 10:00am. Join the fun! For additional information\, call 910-947-5335.
URL:https://thepinestimes.com/event/moore-county-library-pre-school-storytime-2-2/2025-04-04/
LOCATION:Moore County Library\, 101 Saunders St\, Carthage\, NC\, 28327\, United States
CATEGORIES:Carthage Events,Children,Educational,Family,Hobby/Enthusiast,Library,Literary Event,Piney's Tiny's,Social,Storytimes
ATTACH;FMTTYPE=image/jpeg:https://thepinestimes.com/wp-content/uploads/MooreCountyLibraryFeature-1.jpg
END:VEVENT
BEGIN:VEVENT
DTSTART;TZID=America/New_York:20250328T100000
DTEND;TZID=America/New_York:20250328T100000
DTSTAMP:20260419T154246
CREATED:20241127T191024Z
LAST-MODIFIED:20260406T131525Z
UID:10048748-1743156000-1743156000@thepinestimes.com
SUMMARY:Moore County Library: Pre-School Storytime
DESCRIPTION:The Moore County Library in Carthage hosts a Pre-School Storytime each Friday at 10:00am. Join the fun! For additional information\, call 910-947-5335.
URL:https://thepinestimes.com/event/moore-county-library-pre-school-storytime-2-2/2025-03-28/
LOCATION:Moore County Library\, 101 Saunders St\, Carthage\, NC\, 28327\, United States
CATEGORIES:Carthage Events,Children,Educational,Family,Hobby/Enthusiast,Library,Literary Event,Piney's Tiny's,Social,Storytimes
ATTACH;FMTTYPE=image/jpeg:https://thepinestimes.com/wp-content/uploads/MooreCountyLibraryFeature-1.jpg
END:VEVENT
BEGIN:VEVENT
DTSTART;TZID=America/New_York:20250321T100000
DTEND;TZID=America/New_York:20250321T100000
DTSTAMP:20260419T154246
CREATED:20241127T191024Z
LAST-MODIFIED:20260406T131525Z
UID:10048747-1742551200-1742551200@thepinestimes.com
SUMMARY:Moore County Library: Pre-School Storytime
DESCRIPTION:The Moore County Library in Carthage hosts a Pre-School Storytime each Friday at 10:00am. Join the fun! For additional information\, call 910-947-5335.
URL:https://thepinestimes.com/event/moore-county-library-pre-school-storytime-2-2/2025-03-21/
LOCATION:Moore County Library\, 101 Saunders St\, Carthage\, NC\, 28327\, United States
CATEGORIES:Carthage Events,Children,Educational,Family,Hobby/Enthusiast,Library,Literary Event,Piney's Tiny's,Social,Storytimes
ATTACH;FMTTYPE=image/jpeg:https://thepinestimes.com/wp-content/uploads/MooreCountyLibraryFeature-1.jpg
END:VEVENT
BEGIN:VEVENT
DTSTART;TZID=America/New_York:20250314T100000
DTEND;TZID=America/New_York:20250314T100000
DTSTAMP:20260419T154246
CREATED:20241127T191024Z
LAST-MODIFIED:20260406T131525Z
UID:10048746-1741946400-1741946400@thepinestimes.com
SUMMARY:Moore County Library: Pre-School Storytime
DESCRIPTION:The Moore County Library in Carthage hosts a Pre-School Storytime each Friday at 10:00am. Join the fun! For additional information\, call 910-947-5335.
URL:https://thepinestimes.com/event/moore-county-library-pre-school-storytime-2-2/2025-03-14/
LOCATION:Moore County Library\, 101 Saunders St\, Carthage\, NC\, 28327\, United States
CATEGORIES:Carthage Events,Children,Educational,Family,Hobby/Enthusiast,Library,Literary Event,Piney's Tiny's,Social,Storytimes
ATTACH;FMTTYPE=image/jpeg:https://thepinestimes.com/wp-content/uploads/MooreCountyLibraryFeature-1.jpg
END:VEVENT
BEGIN:VEVENT
DTSTART;TZID=America/New_York:20250307T100000
DTEND;TZID=America/New_York:20250307T100000
DTSTAMP:20260419T154246
CREATED:20241127T191024Z
LAST-MODIFIED:20260406T131525Z
UID:10048745-1741341600-1741341600@thepinestimes.com
SUMMARY:Moore County Library: Pre-School Storytime
DESCRIPTION:The Moore County Library in Carthage hosts a Pre-School Storytime each Friday at 10:00am. Join the fun! For additional information\, call 910-947-5335.
URL:https://thepinestimes.com/event/moore-county-library-pre-school-storytime-2-2/2025-03-07/
LOCATION:Moore County Library\, 101 Saunders St\, Carthage\, NC\, 28327\, United States
CATEGORIES:Carthage Events,Children,Educational,Family,Hobby/Enthusiast,Library,Literary Event,Piney's Tiny's,Social,Storytimes
ATTACH;FMTTYPE=image/jpeg:https://thepinestimes.com/wp-content/uploads/MooreCountyLibraryFeature-1.jpg
END:VEVENT
BEGIN:VEVENT
DTSTART;TZID=America/New_York:20250228T100000
DTEND;TZID=America/New_York:20250228T100000
DTSTAMP:20260419T154246
CREATED:20241127T191024Z
LAST-MODIFIED:20260406T131525Z
UID:10048744-1740736800-1740736800@thepinestimes.com
SUMMARY:Moore County Library: Pre-School Storytime
DESCRIPTION:The Moore County Library in Carthage hosts a Pre-School Storytime each Friday at 10:00am. Join the fun! For additional information\, call 910-947-5335.
URL:https://thepinestimes.com/event/moore-county-library-pre-school-storytime-2-2/2025-02-28/
LOCATION:Moore County Library\, 101 Saunders St\, Carthage\, NC\, 28327\, United States
CATEGORIES:Carthage Events,Children,Educational,Family,Hobby/Enthusiast,Library,Literary Event,Piney's Tiny's,Social,Storytimes
ATTACH;FMTTYPE=image/jpeg:https://thepinestimes.com/wp-content/uploads/MooreCountyLibraryFeature-1.jpg
END:VEVENT
BEGIN:VEVENT
DTSTART;TZID=America/New_York:20250221T100000
DTEND;TZID=America/New_York:20250221T100000
DTSTAMP:20260419T154246
CREATED:20241127T191024Z
LAST-MODIFIED:20260406T131525Z
UID:10048743-1740132000-1740132000@thepinestimes.com
SUMMARY:Moore County Library: Pre-School Storytime
DESCRIPTION:The Moore County Library in Carthage hosts a Pre-School Storytime each Friday at 10:00am. Join the fun! For additional information\, call 910-947-5335.
URL:https://thepinestimes.com/event/moore-county-library-pre-school-storytime-2-2/2025-02-21/
LOCATION:Moore County Library\, 101 Saunders St\, Carthage\, NC\, 28327\, United States
CATEGORIES:Carthage Events,Children,Educational,Family,Hobby/Enthusiast,Library,Literary Event,Piney's Tiny's,Social,Storytimes
ATTACH;FMTTYPE=image/jpeg:https://thepinestimes.com/wp-content/uploads/MooreCountyLibraryFeature-1.jpg
END:VEVENT
BEGIN:VEVENT
DTSTART;TZID=America/New_York:20250214T100000
DTEND;TZID=America/New_York:20250214T100000
DTSTAMP:20260419T154246
CREATED:20241127T191024Z
LAST-MODIFIED:20260406T131525Z
UID:10048742-1739527200-1739527200@thepinestimes.com
SUMMARY:Moore County Library: Pre-School Storytime
DESCRIPTION:The Moore County Library in Carthage hosts a Pre-School Storytime each Friday at 10:00am. Join the fun! For additional information\, call 910-947-5335.
URL:https://thepinestimes.com/event/moore-county-library-pre-school-storytime-2-2/2025-02-14/
LOCATION:Moore County Library\, 101 Saunders St\, Carthage\, NC\, 28327\, United States
CATEGORIES:Carthage Events,Children,Educational,Family,Hobby/Enthusiast,Library,Literary Event,Piney's Tiny's,Social,Storytimes
ATTACH;FMTTYPE=image/jpeg:https://thepinestimes.com/wp-content/uploads/MooreCountyLibraryFeature-1.jpg
END:VEVENT
BEGIN:VEVENT
DTSTART;TZID=America/New_York:20250207T100000
DTEND;TZID=America/New_York:20250207T100000
DTSTAMP:20260419T154246
CREATED:20241127T191024Z
LAST-MODIFIED:20260406T131525Z
UID:10048741-1738922400-1738922400@thepinestimes.com
SUMMARY:Moore County Library: Pre-School Storytime
DESCRIPTION:The Moore County Library in Carthage hosts a Pre-School Storytime each Friday at 10:00am. Join the fun! For additional information\, call 910-947-5335.
URL:https://thepinestimes.com/event/moore-county-library-pre-school-storytime-2-2/2025-02-07/
LOCATION:Moore County Library\, 101 Saunders St\, Carthage\, NC\, 28327\, United States
CATEGORIES:Carthage Events,Children,Educational,Family,Hobby/Enthusiast,Library,Literary Event,Piney's Tiny's,Social,Storytimes
ATTACH;FMTTYPE=image/jpeg:https://thepinestimes.com/wp-content/uploads/MooreCountyLibraryFeature-1.jpg
END:VEVENT
BEGIN:VEVENT
DTSTART;TZID=America/New_York:20250131T100000
DTEND;TZID=America/New_York:20250131T100000
DTSTAMP:20260419T154246
CREATED:20241127T191024Z
LAST-MODIFIED:20260406T131525Z
UID:10048740-1738317600-1738317600@thepinestimes.com
SUMMARY:Moore County Library: Pre-School Storytime
DESCRIPTION:The Moore County Library in Carthage hosts a Pre-School Storytime each Friday at 10:00am. Join the fun! For additional information\, call 910-947-5335.
URL:https://thepinestimes.com/event/moore-county-library-pre-school-storytime-2-2/2025-01-31/
LOCATION:Moore County Library\, 101 Saunders St\, Carthage\, NC\, 28327\, United States
CATEGORIES:Carthage Events,Children,Educational,Family,Hobby/Enthusiast,Library,Literary Event,Piney's Tiny's,Social,Storytimes
ATTACH;FMTTYPE=image/jpeg:https://thepinestimes.com/wp-content/uploads/MooreCountyLibraryFeature-1.jpg
END:VEVENT
BEGIN:VEVENT
DTSTART;TZID=America/New_York:20250124T100000
DTEND;TZID=America/New_York:20250124T100000
DTSTAMP:20260419T154246
CREATED:20241127T191024Z
LAST-MODIFIED:20260406T131525Z
UID:10048739-1737712800-1737712800@thepinestimes.com
SUMMARY:Moore County Library: Pre-School Storytime
DESCRIPTION:The Moore County Library in Carthage hosts a Pre-School Storytime each Friday at 10:00am. Join the fun! For additional information\, call 910-947-5335.
URL:https://thepinestimes.com/event/moore-county-library-pre-school-storytime-2-2/2025-01-24/
LOCATION:Moore County Library\, 101 Saunders St\, Carthage\, NC\, 28327\, United States
CATEGORIES:Carthage Events,Children,Educational,Family,Hobby/Enthusiast,Library,Literary Event,Piney's Tiny's,Social,Storytimes
ATTACH;FMTTYPE=image/jpeg:https://thepinestimes.com/wp-content/uploads/MooreCountyLibraryFeature-1.jpg
END:VEVENT
BEGIN:VEVENT
DTSTART;TZID=America/New_York:20250117T100000
DTEND;TZID=America/New_York:20250117T100000
DTSTAMP:20260419T154246
CREATED:20241127T191024Z
LAST-MODIFIED:20260406T131525Z
UID:10048738-1737108000-1737108000@thepinestimes.com
SUMMARY:Moore County Library: Pre-School Storytime
DESCRIPTION:The Moore County Library in Carthage hosts a Pre-School Storytime each Friday at 10:00am. Join the fun! For additional information\, call 910-947-5335.
URL:https://thepinestimes.com/event/moore-county-library-pre-school-storytime-2-2/2025-01-17/
LOCATION:Moore County Library\, 101 Saunders St\, Carthage\, NC\, 28327\, United States
CATEGORIES:Carthage Events,Children,Educational,Family,Hobby/Enthusiast,Library,Literary Event,Piney's Tiny's,Social,Storytimes
ATTACH;FMTTYPE=image/jpeg:https://thepinestimes.com/wp-content/uploads/MooreCountyLibraryFeature-1.jpg
END:VEVENT
BEGIN:VEVENT
DTSTART;TZID=America/New_York:20250110T100000
DTEND;TZID=America/New_York:20250110T100000
DTSTAMP:20260419T154246
CREATED:20241127T191024Z
LAST-MODIFIED:20260406T131525Z
UID:10048737-1736503200-1736503200@thepinestimes.com
SUMMARY:Moore County Library: Pre-School Storytime
DESCRIPTION:The Moore County Library in Carthage hosts a Pre-School Storytime each Friday at 10:00am. Join the fun! For additional information\, call 910-947-5335.
URL:https://thepinestimes.com/event/moore-county-library-pre-school-storytime-2-2/2025-01-10/
LOCATION:Moore County Library\, 101 Saunders St\, Carthage\, NC\, 28327\, United States
CATEGORIES:Carthage Events,Children,Educational,Family,Hobby/Enthusiast,Library,Literary Event,Piney's Tiny's,Social,Storytimes
ATTACH;FMTTYPE=image/jpeg:https://thepinestimes.com/wp-content/uploads/MooreCountyLibraryFeature-1.jpg
END:VEVENT
BEGIN:VEVENT
DTSTART;TZID=America/New_York:20250103T100000
DTEND;TZID=America/New_York:20250103T100000
DTSTAMP:20260419T154246
CREATED:20241127T191024Z
LAST-MODIFIED:20260406T131525Z
UID:10048736-1735898400-1735898400@thepinestimes.com
SUMMARY:Moore County Library: Pre-School Storytime
DESCRIPTION:The Moore County Library in Carthage hosts a Pre-School Storytime each Friday at 10:00am. Join the fun! For additional information\, call 910-947-5335.
URL:https://thepinestimes.com/event/moore-county-library-pre-school-storytime-2-2/2025-01-03/
LOCATION:Moore County Library\, 101 Saunders St\, Carthage\, NC\, 28327\, United States
CATEGORIES:Carthage Events,Children,Educational,Family,Hobby/Enthusiast,Library,Literary Event,Piney's Tiny's,Social,Storytimes
ATTACH;FMTTYPE=image/jpeg:https://thepinestimes.com/wp-content/uploads/MooreCountyLibraryFeature-1.jpg
END:VEVENT
BEGIN:VEVENT
DTSTART;TZID=America/New_York:20241227T100000
DTEND;TZID=America/New_York:20241227T100000
DTSTAMP:20260419T154246
CREATED:20241127T191024Z
LAST-MODIFIED:20260406T131525Z
UID:10048735-1735293600-1735293600@thepinestimes.com
SUMMARY:Moore County Library: Pre-School Storytime
DESCRIPTION:The Moore County Library in Carthage hosts a Pre-School Storytime each Friday at 10:00am. Join the fun! For additional information\, call 910-947-5335.
URL:https://thepinestimes.com/event/moore-county-library-pre-school-storytime-2-2/2024-12-27/
LOCATION:Moore County Library\, 101 Saunders St\, Carthage\, NC\, 28327\, United States
CATEGORIES:Carthage Events,Children,Educational,Family,Hobby/Enthusiast,Library,Literary Event,Piney's Tiny's,Social,Storytimes
ATTACH;FMTTYPE=image/jpeg:https://thepinestimes.com/wp-content/uploads/MooreCountyLibraryFeature-1.jpg
END:VEVENT
BEGIN:VEVENT
DTSTART;TZID=America/New_York:20241220T100000
DTEND;TZID=America/New_York:20241220T100000
DTSTAMP:20260419T154246
CREATED:20241127T191024Z
LAST-MODIFIED:20260406T131525Z
UID:10048734-1734688800-1734688800@thepinestimes.com
SUMMARY:Moore County Library: Pre-School Storytime
DESCRIPTION:The Moore County Library in Carthage hosts a Pre-School Storytime each Friday at 10:00am. Join the fun! For additional information\, call 910-947-5335.
URL:https://thepinestimes.com/event/moore-county-library-pre-school-storytime-2-2/2024-12-20/
LOCATION:Moore County Library\, 101 Saunders St\, Carthage\, NC\, 28327\, United States
CATEGORIES:Carthage Events,Children,Educational,Family,Hobby/Enthusiast,Library,Literary Event,Piney's Tiny's,Social,Storytimes
ATTACH;FMTTYPE=image/jpeg:https://thepinestimes.com/wp-content/uploads/MooreCountyLibraryFeature-1.jpg
END:VEVENT
BEGIN:VEVENT
DTSTART;TZID=America/New_York:20241213T100000
DTEND;TZID=America/New_York:20241213T100000
DTSTAMP:20260419T154246
CREATED:20241127T191024Z
LAST-MODIFIED:20260406T131525Z
UID:10048733-1734084000-1734084000@thepinestimes.com
SUMMARY:Moore County Library: Pre-School Storytime
DESCRIPTION:The Moore County Library in Carthage hosts a Pre-School Storytime each Friday at 10:00am. Join the fun! For additional information\, call 910-947-5335.
URL:https://thepinestimes.com/event/moore-county-library-pre-school-storytime-2-2/2024-12-13/
LOCATION:Moore County Library\, 101 Saunders St\, Carthage\, NC\, 28327\, United States
CATEGORIES:Carthage Events,Children,Educational,Family,Hobby/Enthusiast,Library,Literary Event,Piney's Tiny's,Social,Storytimes
ATTACH;FMTTYPE=image/jpeg:https://thepinestimes.com/wp-content/uploads/MooreCountyLibraryFeature-1.jpg
END:VEVENT
BEGIN:VEVENT
DTSTART;TZID=America/New_York:20241206T100000
DTEND;TZID=America/New_York:20241206T100000
DTSTAMP:20260419T154246
CREATED:20241127T191024Z
LAST-MODIFIED:20260406T131525Z
UID:10048732-1733479200-1733479200@thepinestimes.com
SUMMARY:Moore County Library: Pre-School Storytime
DESCRIPTION:The Moore County Library in Carthage hosts a Pre-School Storytime each Friday at 10:00am. Join the fun! For additional information\, call 910-947-5335.
URL:https://thepinestimes.com/event/moore-county-library-pre-school-storytime-2-2/2024-12-06/
LOCATION:Moore County Library\, 101 Saunders St\, Carthage\, NC\, 28327\, United States
CATEGORIES:Carthage Events,Children,Educational,Family,Hobby/Enthusiast,Library,Literary Event,Piney's Tiny's,Social,Storytimes
ATTACH;FMTTYPE=image/jpeg:https://thepinestimes.com/wp-content/uploads/MooreCountyLibraryFeature-1.jpg
END:VEVENT
END:VCALENDAR