BEGIN:VCALENDAR
VERSION:2.0
PRODID:-//The Pines Times - ECPv6.15.20//NONSGML v1.0//EN
CALSCALE:GREGORIAN
METHOD:PUBLISH
X-ORIGINAL-URL:https://thepinestimes.com
X-WR-CALDESC:Events for The Pines Times
REFRESH-INTERVAL;VALUE=DURATION:PT1H
X-Robots-Tag:noindex
X-PUBLISHED-TTL:PT1H
BEGIN:VTIMEZONE
TZID:America/New_York
BEGIN:DAYLIGHT
TZOFFSETFROM:-0500
TZOFFSETTO:-0400
TZNAME:EDT
DTSTART:20250309T070000
END:DAYLIGHT
BEGIN:STANDARD
TZOFFSETFROM:-0400
TZOFFSETTO:-0500
TZNAME:EST
DTSTART:20251102T060000
END:STANDARD
BEGIN:DAYLIGHT
TZOFFSETFROM:-0500
TZOFFSETTO:-0400
TZNAME:EDT
DTSTART:20260308T070000
END:DAYLIGHT
BEGIN:STANDARD
TZOFFSETFROM:-0400
TZOFFSETTO:-0500
TZNAME:EST
DTSTART:20261101T060000
END:STANDARD
BEGIN:DAYLIGHT
TZOFFSETFROM:-0500
TZOFFSETTO:-0400
TZNAME:EDT
DTSTART:20270314T070000
END:DAYLIGHT
BEGIN:STANDARD
TZOFFSETFROM:-0400
TZOFFSETTO:-0500
TZNAME:EST
DTSTART:20271107T060000
END:STANDARD
END:VTIMEZONE
BEGIN:VEVENT
DTSTART;TZID=America/New_York:20260428T180000
DTEND;TZID=America/New_York:20260428T191500
DTSTAMP:20260425T115157
CREATED:20260420T152712Z
LAST-MODIFIED:20260420T152712Z
UID:10087001-1777399200-1777403700@thepinestimes.com
SUMMARY:Moore County Schools: Autism Parent Night
DESCRIPTION:Save the Date: Autism Parent Night-Moore County Schools’ Exceptional Children’s Department invites all parents and caregivers to attend Autism Parent Night on Tuesday\, April 28th at 6:00PM at Vass-Lakeview Elementary School. \nThis evening is designed to bring families together to connect\, share experiences\, and learn more about supporting students with autism.\n– Guest speakers and breakout sessions\n– Resources and strategies for home and school\n– Opportunities to connect with other families \nFree childcare will be available; registration is required in advance: https://forms.gle/sEVpP8DoKBxpZCvb8\nJoin for this meaningful evening of connection and learning.
URL:https://thepinestimes.com/event/moore-county-schools-autism-parent-night/
LOCATION:Vass-Lakeview Elementary School\, 141 James Street\, Vass\, NC\, 28394\, United States
CATEGORIES:Adults,Children,Educational,Family,Moore County Events,School,Social,Vass Events
ATTACH;FMTTYPE=image/jpeg:https://thepinestimes.com/wp-content/uploads/MooreCountySchoolsFeature.jpg
END:VEVENT
END:VCALENDAR