BEGIN:VCALENDAR
VERSION:2.0
PRODID:-//The Pines Times - ECPv6.15.20//NONSGML v1.0//EN
CALSCALE:GREGORIAN
METHOD:PUBLISH
X-ORIGINAL-URL:https://thepinestimes.com
X-WR-CALDESC:Events for The Pines Times
REFRESH-INTERVAL;VALUE=DURATION:PT1H
X-Robots-Tag:noindex
X-PUBLISHED-TTL:PT1H
BEGIN:VTIMEZONE
TZID:America/New_York
BEGIN:DAYLIGHT
TZOFFSETFROM:-0500
TZOFFSETTO:-0400
TZNAME:EDT
DTSTART:20250309T070000
END:DAYLIGHT
BEGIN:STANDARD
TZOFFSETFROM:-0400
TZOFFSETTO:-0500
TZNAME:EST
DTSTART:20251102T060000
END:STANDARD
BEGIN:DAYLIGHT
TZOFFSETFROM:-0500
TZOFFSETTO:-0400
TZNAME:EDT
DTSTART:20260308T070000
END:DAYLIGHT
BEGIN:STANDARD
TZOFFSETFROM:-0400
TZOFFSETTO:-0500
TZNAME:EST
DTSTART:20261101T060000
END:STANDARD
BEGIN:DAYLIGHT
TZOFFSETFROM:-0500
TZOFFSETTO:-0400
TZNAME:EDT
DTSTART:20270314T070000
END:DAYLIGHT
BEGIN:STANDARD
TZOFFSETFROM:-0400
TZOFFSETTO:-0500
TZNAME:EST
DTSTART:20271107T060000
END:STANDARD
END:VTIMEZONE
BEGIN:VEVENT
DTSTART;TZID=America/New_York:20260416T090000
DTEND;TZID=America/New_York:20260416T140000
DTSTAMP:20260422T013842
CREATED:20260402T134928Z
LAST-MODIFIED:20260402T134928Z
UID:10085986-1776330000-1776348000@thepinestimes.com
SUMMARY:Moore Montessori Community School: Spring Plant Sale 2026
DESCRIPTION:Moore Montessori Community School is hosting its Spring Plant Sale on Thursday\, April 2nd and April 16th from 9AM-2PM to support their young entrepreneurs! \nYou can find the students at two different selling locations\, including the front porch of Red’s Corner and the green space at Sunrise Theater.  \nThey will be offering a variety of garden favorites such as cucumbers\, watermelon\, herbs\, tomatoes\, zucchini\, peppers\, eggplants\, and squash. In addition to produce\, you can pick up beautiful flowers like zinnias\, marigolds\, daisies\, and sunflowers to brighten up your home garden. Support the youth while getting everything you need for the spring season!
URL:https://thepinestimes.com/event/moore-montessori-community-school-spring-plant-sale-2026/2026-04-16/
LOCATION:Red’s Corner\, 801 SW Broad St\, Southern Pines\, 28387
ATTACH;FMTTYPE=image/jpeg:https://thepinestimes.com/wp-content/uploads/SchoolPlantSaleFundraiserFeature.jpg
END:VEVENT
BEGIN:VEVENT
DTSTART;TZID=America/New_York:20260402T090000
DTEND;TZID=America/New_York:20260402T140000
DTSTAMP:20260422T013842
CREATED:20260402T134928Z
LAST-MODIFIED:20260402T134928Z
UID:10085985-1775120400-1775138400@thepinestimes.com
SUMMARY:Moore Montessori Community School: Spring Plant Sale 2026
DESCRIPTION:Moore Montessori Community School is hosting its Spring Plant Sale on Thursday\, April 2nd and April 16th from 9AM-2PM to support their young entrepreneurs! \nYou can find the students at two different selling locations\, including the front porch of Red’s Corner and the green space at Sunrise Theater.  \nThey will be offering a variety of garden favorites such as cucumbers\, watermelon\, herbs\, tomatoes\, zucchini\, peppers\, eggplants\, and squash. In addition to produce\, you can pick up beautiful flowers like zinnias\, marigolds\, daisies\, and sunflowers to brighten up your home garden. Support the youth while getting everything you need for the spring season!
URL:https://thepinestimes.com/event/moore-montessori-community-school-spring-plant-sale-2026/2026-04-02/
LOCATION:Red’s Corner\, 801 SW Broad St\, Southern Pines\, 28387
ATTACH;FMTTYPE=image/jpeg:https://thepinestimes.com/wp-content/uploads/SchoolPlantSaleFundraiserFeature.jpg
END:VEVENT
BEGIN:VEVENT
DTSTART;TZID=America/New_York:20260314T080000
DTEND;TZID=America/New_York:20260314T110000
DTSTAMP:20260422T013842
CREATED:20260313T143437Z
LAST-MODIFIED:20260313T143437Z
UID:10083401-1773475200-1773486000@thepinestimes.com
SUMMARY:Moore Montessori Community School Tag Sale 2026
DESCRIPTION:Shop for a cause at the Moore Montessori Community School (MMCS) 3rd Annual School Tag Sale\, happening Saturday\, March 14th\, at the campus located at 255 South May Street in Southern Pines. The sale is open to the public from 8:00AM-11:00AM\, offering a wide variety of items to browse through. \nAll proceeds from the event directly support the school’s programs\, providing a great opportunity to find unique treasures while giving back to local Montessori education.
URL:https://thepinestimes.com/event/moore-montessori-community-school-tag-sale-2026/
LOCATION:Moore Montessori School\, 255 S May Street\, Southern Pines\, 28387
CATEGORIES:Donation,Family,Fundraiser,Pop Ups,School,Shopping,Social,Southern Pines Events
ATTACH;FMTTYPE=image/jpeg:https://thepinestimes.com/wp-content/uploads/TagSaleMooreMontessoriFeature.jpg
END:VEVENT
BEGIN:VEVENT
DTSTART;TZID=America/New_York:20260219T170000
DTEND;TZID=America/New_York:20260219T190000
DTSTAMP:20260422T013842
CREATED:20260218T171733Z
LAST-MODIFIED:20260218T171733Z
UID:10081194-1771520400-1771527600@thepinestimes.com
SUMMARY:"Sip & Shop" Book Fair
DESCRIPTION:Moore Montessori School is hosting a “Sip & Shop” Book Fair pop-up event this Thursday from 5:00pm-7:00pm! This family-friendly gathering is open to the public and features a unique opportunity to browse the book collection while enjoying refreshments from Billie’s Boujee Lemonade. Attendees can purchase a variety of specialty treats\, including “Boujee Lemonades” and “Dirty Sodas\,” making it a perfect evening stop for local residents and book lovers alike.
URL:https://thepinestimes.com/event/sip-shop-book-fair/
LOCATION:Moore Montessori School\, 255 S May Street\, Southern Pines\, 28387
CATEGORIES:Adults,Children,Family,Hobby/Enthusiast,Literary Event,Piney's Kids,Piney's Tiny's,Pop Ups,School,Shopping,Social,Southern Pines Events,Teen Activities,Young Adults
END:VEVENT
END:VCALENDAR