BEGIN:VCALENDAR
VERSION:2.0
PRODID:-//The Pines Times - ECPv6.15.20//NONSGML v1.0//EN
CALSCALE:GREGORIAN
METHOD:PUBLISH
X-WR-CALNAME:The Pines Times
X-ORIGINAL-URL:https://thepinestimes.com
X-WR-CALDESC:Events for The Pines Times
REFRESH-INTERVAL;VALUE=DURATION:PT1H
X-Robots-Tag:noindex
X-PUBLISHED-TTL:PT1H
BEGIN:VTIMEZONE
TZID:America/New_York
BEGIN:DAYLIGHT
TZOFFSETFROM:-0500
TZOFFSETTO:-0400
TZNAME:EDT
DTSTART:20240310T070000
END:DAYLIGHT
BEGIN:STANDARD
TZOFFSETFROM:-0400
TZOFFSETTO:-0500
TZNAME:EST
DTSTART:20241103T060000
END:STANDARD
BEGIN:DAYLIGHT
TZOFFSETFROM:-0500
TZOFFSETTO:-0400
TZNAME:EDT
DTSTART:20250309T070000
END:DAYLIGHT
BEGIN:STANDARD
TZOFFSETFROM:-0400
TZOFFSETTO:-0500
TZNAME:EST
DTSTART:20251102T060000
END:STANDARD
BEGIN:DAYLIGHT
TZOFFSETFROM:-0500
TZOFFSETTO:-0400
TZNAME:EDT
DTSTART:20260308T070000
END:DAYLIGHT
BEGIN:STANDARD
TZOFFSETFROM:-0400
TZOFFSETTO:-0500
TZNAME:EST
DTSTART:20261101T060000
END:STANDARD
END:VTIMEZONE
BEGIN:VEVENT
DTSTART;TZID=America/New_York:20250510T140000
DTEND;TZID=America/New_York:20250510T163000
DTSTAMP:20260425T204945
CREATED:20240414T151250Z
LAST-MODIFIED:20250507T185644Z
UID:10035370-1746885600-1746894600@thepinestimes.com
SUMMARY:North Carolina Senior America Pageant
DESCRIPTION:The 27th Anniversary of the North Carolina Senior America Pageant will be held on Saturday\, May 10th | 2:00pm-4:30pm at Owen’s Auditorium on the campus of Sandhills Community College. Judges will choose the woman who best exemplifies the dignity\, maturity and inner beauty of all senior Americans. More than a “beauty pageant” it is what America is about a re-affirmation of life and self-worth\, of laughter and tears\, of inner beauty and outward charm. The ten candidates who have reached the “Age of Elegance”\, 60 years or better will be on stage to prove they should be crowned Ms. North Carolina Senior America 2025. \n“The Ms Senior America Pageant philosophy is based on the belief that seniors are the foundation of America and our most valuable treasure. It is upon their knowledge\, experience\, and resources that the younger generation has the opportunity to build a better society.” \nTickets can be purchased for $10.00 ($12.24 with fees). For additional information\, follow the website event link provided below.
URL:https://thepinestimes.com/event/north-carolina-senior-america-pageant/
LOCATION:Sandhills Community College\, 3395 Airport Road\, Pinehurst\, NC\, 28374\, United States
CATEGORIES:Hobby/Enthusiast,Live Entertainment,Pageant,Pinehurst Events,Senior,Social,Women
END:VEVENT
END:VCALENDAR