BEGIN:VCALENDAR
VERSION:2.0
PRODID:-//The Pines Times - ECPv6.15.20//NONSGML v1.0//EN
CALSCALE:GREGORIAN
METHOD:PUBLISH
X-WR-CALNAME:The Pines Times
X-ORIGINAL-URL:https://thepinestimes.com
X-WR-CALDESC:Events for The Pines Times
REFRESH-INTERVAL;VALUE=DURATION:PT1H
X-Robots-Tag:noindex
X-PUBLISHED-TTL:PT1H
BEGIN:VTIMEZONE
TZID:America/New_York
BEGIN:DAYLIGHT
TZOFFSETFROM:-0500
TZOFFSETTO:-0400
TZNAME:EDT
DTSTART:20240310T070000
END:DAYLIGHT
BEGIN:STANDARD
TZOFFSETFROM:-0400
TZOFFSETTO:-0500
TZNAME:EST
DTSTART:20241103T060000
END:STANDARD
BEGIN:DAYLIGHT
TZOFFSETFROM:-0500
TZOFFSETTO:-0400
TZNAME:EDT
DTSTART:20250309T070000
END:DAYLIGHT
BEGIN:STANDARD
TZOFFSETFROM:-0400
TZOFFSETTO:-0500
TZNAME:EST
DTSTART:20251102T060000
END:STANDARD
BEGIN:DAYLIGHT
TZOFFSETFROM:-0500
TZOFFSETTO:-0400
TZNAME:EDT
DTSTART:20260308T070000
END:DAYLIGHT
BEGIN:STANDARD
TZOFFSETFROM:-0400
TZOFFSETTO:-0500
TZNAME:EST
DTSTART:20261101T060000
END:STANDARD
END:VTIMEZONE
BEGIN:VEVENT
DTSTART;TZID=America/New_York:20251212T140000
DTEND;TZID=America/New_York:20251212T170000
DTSTAMP:20260421T175351
CREATED:20251205T145155Z
LAST-MODIFIED:20251205T145324Z
UID:10076976-1765548000-1765558800@thepinestimes.com
SUMMARY:Holiday Wreath Making Workshop
DESCRIPTION:Get into the festive spirit and create a beautiful\, unique holiday wreath using REAL natural materials at the Holiday Wreath Making Workshop! This is a great workshop to get ready for the holidays\, hosted by NC Cooperative Extension. You will craft your own festive grapevine wreath with all materials\, instruction\, and a cozy atmosphere included for $25 per person. All skill levels are welcome! Join the Extension Master Gardener Volunteers on Friday\, December 12th from 2:00pm-5:00pm at 2420 Tramway Road in Sanford. Registration is required to attend the workshop through the event website link provided below. \n \n 
URL:https://thepinestimes.com/event/holiday-wreath-making-workshop-2/
LOCATION:N.C. Cooperative Extension – Lee County Center\, 2420 Tramway Road\, Sanford\, 27330\, United States
CATEGORIES:Adults,Art/Craft Workshops,Christmas,Crafts,Hobby/Enthusiast,Holiday Events,Out of Town,Sanford Events,Senior,Social,Young Adults
END:VEVENT
END:VCALENDAR