BEGIN:VCALENDAR
VERSION:2.0
PRODID:-//The Pines Times - ECPv6.15.20//NONSGML v1.0//EN
CALSCALE:GREGORIAN
METHOD:PUBLISH
X-ORIGINAL-URL:https://thepinestimes.com
X-WR-CALDESC:Events for The Pines Times
REFRESH-INTERVAL;VALUE=DURATION:PT1H
X-Robots-Tag:noindex
X-PUBLISHED-TTL:PT1H
BEGIN:VTIMEZONE
TZID:America/New_York
BEGIN:DAYLIGHT
TZOFFSETFROM:-0500
TZOFFSETTO:-0400
TZNAME:EDT
DTSTART:20240310T070000
END:DAYLIGHT
BEGIN:STANDARD
TZOFFSETFROM:-0400
TZOFFSETTO:-0500
TZNAME:EST
DTSTART:20241103T060000
END:STANDARD
BEGIN:DAYLIGHT
TZOFFSETFROM:-0500
TZOFFSETTO:-0400
TZNAME:EDT
DTSTART:20250309T070000
END:DAYLIGHT
BEGIN:STANDARD
TZOFFSETFROM:-0400
TZOFFSETTO:-0500
TZNAME:EST
DTSTART:20251102T060000
END:STANDARD
BEGIN:DAYLIGHT
TZOFFSETFROM:-0500
TZOFFSETTO:-0400
TZNAME:EDT
DTSTART:20260308T070000
END:DAYLIGHT
BEGIN:STANDARD
TZOFFSETFROM:-0400
TZOFFSETTO:-0500
TZNAME:EST
DTSTART:20261101T060000
END:STANDARD
BEGIN:DAYLIGHT
TZOFFSETFROM:-0500
TZOFFSETTO:-0400
TZNAME:EDT
DTSTART:20270314T070000
END:DAYLIGHT
BEGIN:STANDARD
TZOFFSETFROM:-0400
TZOFFSETTO:-0500
TZNAME:EST
DTSTART:20271107T060000
END:STANDARD
END:VTIMEZONE
BEGIN:VEVENT
DTSTART;TZID=America/New_York:20260404T130000
DTEND;TZID=America/New_York:20260404T170000
DTSTAMP:20260422T195443
CREATED:20260314T125449Z
LAST-MODIFIED:20260321T224911Z
UID:10083408-1775307600-1775322000@thepinestimes.com
SUMMARY:Spring Kick-Off Skate Jam & Cookout
DESCRIPTION:Celebrate the start of the season at the Spring Kick-Off Skate Jam! Come out on Saturday\, April 4th from 1PM-5PM at the Southern Pines Elaine T. Baillie Skatepark! \nSpring has Sprung and the park is OPEN\, from dawn til the solar lights go out! Head out for a good ole fashioned Skate Jam & Cook-out\, sponsored by @skatersformoore\, featuring team riders from both @n2flowskateshop & @pocket_bolts. There will be some Hot Dogs\, Giveaways & a Game of S.K.A.T.E. for some CASH!
URL:https://thepinestimes.com/event/spring-kick-off-skate-jam/
LOCATION:Town of Southern Pines Elaine T. Baillie Skatepark\, Memorial Park Ct.\, Southern Pines\, 28387\, United States
CATEGORIES:Adults,Family,Food,Hobby/Enthusiast,Nature/Outdoors,Piney's Kids,Pop Ups,Skateboarding,Social,Southern Pines Events,Sports,Teen Activities,Vendors,Young Adults
ATTACH;FMTTYPE=image/jpeg:https://thepinestimes.com/wp-content/uploads/ElaineTBaillieSkateparkFeature.jpg
END:VEVENT
BEGIN:VEVENT
DTSTART;TZID=America/New_York:20260221T110000
DTEND;TZID=America/New_York:20260221T190000
DTSTAMP:20260422T195443
CREATED:20250208T174203Z
LAST-MODIFIED:20260219T182935Z
UID:10053512-1771671600-1771700400@thepinestimes.com
SUMMARY:Skate Shop Day 2026
DESCRIPTION:Support our local Skate Shop today! Visit N2Flow Skateboards & Arcade on Saturday\, February 21st! Skate Shop Day celebrates the cultural hubs of skateboarding—the shops that unite skaters and support skate scenes year-round. It’s a day to show love to the unsung heroes who keep skating alive every day. \n“This year we’ve got the aforementioned @quantumbearings and @yeti with special bearings and water bottle. A @blitzcadet special edition Grommit Comic (with one signed by the author). A very nice skateboard travel bag from @brand.kyoto as well as buttons\, stickers and 2 different T-Shirt styles to choose from. Will also be running discounts on the entire store starting this Saturday to celebrate\, so the time to support and save is now! There’ll be no better time to get geared up for the coming spring and summer.” \n“N2Flow Skateboards & Arcade is a core skate shop in the heart of Moore County\, featuring all things skateboarding\, decks and wheels to pads and helmets\, with a retro arcade in the back! Located just two blocks from the Southern Pines Elaine T Baillie Skatepark!” \n \n 
URL:https://thepinestimes.com/event/skate-shop-day-2026/
LOCATION:N2Flow Skateboards & Mini Arcade\, 972-B S Bennett St\, Southern Pines\, NC\, 28387\, United States
CATEGORIES:Adults,Children,Family,Games,Hobby/Enthusiast,Skateboarding,Social,Southern Pines Events,Sports
ATTACH;FMTTYPE=image/jpeg:https://thepinestimes.com/wp-content/uploads/N2FlowFeature.jpg
END:VEVENT
BEGIN:VEVENT
DTSTART;TZID=America/New_York:20250621T170000
DTEND;TZID=America/New_York:20250621T210000
DTSTAMP:20260422T195443
CREATED:20250425T163027Z
LAST-MODIFIED:20250608T205349Z
UID:10057026-1750525200-1750539600@thepinestimes.com
SUMMARY:Go Skateboarding Day
DESCRIPTION:Celebrate National Go Skateboarding Day on Saturday\, June 21st | 5pm-9pm at the Town of Southern Pines Elaine T. Baillie Skatepark! Enjoy a fun evening with fun skateboarding stuff\, a live DJ\, contests\, giveaways and a Hot Dog Cookout sponsored by N2Flow Skateboards & Arcade. Hotdogs available while supplies last. It will be a true celebration of skateboarding and all the positivity that comes with it! Volunteers are needed. Contact William Dean II or N2Flow Skateboards & Arcade at 910-684-8066 for additional information and volunteer opportunities.
URL:https://thepinestimes.com/event/go-skateboarding-day/
LOCATION:Town of Southern Pines Elaine T. Baillie Skatepark\, Memorial Park Ct.\, Southern Pines\, 28387\, United States
CATEGORIES:Adults,Children,Family,Food,Games,Hobby/Enthusiast,Live Entertainment,Movie,Nature/Outdoors,Skateboarding,Social,Southern Pines Events,Sports
ATTACH;FMTTYPE=image/jpeg:https://thepinestimes.com/wp-content/uploads/ElaineTBaillieSkateparkFeature.jpg
END:VEVENT
END:VCALENDAR